BEGIN:VCALENDAR
VERSION:2.0
PRODID:-//Arts Alliance Davis - ECPv6.15.20//NONSGML v1.0//EN
CALSCALE:GREGORIAN
METHOD:PUBLISH
X-WR-CALNAME:Arts Alliance Davis
X-ORIGINAL-URL:https://artsalliancedavis.org
X-WR-CALDESC:Events for Arts Alliance Davis
REFRESH-INTERVAL;VALUE=DURATION:PT1H
X-Robots-Tag:noindex
X-PUBLISHED-TTL:PT1H
BEGIN:VTIMEZONE
TZID:America/Los_Angeles
BEGIN:DAYLIGHT
TZOFFSETFROM:-0800
TZOFFSETTO:-0700
TZNAME:PDT
DTSTART:20240310T100000
END:DAYLIGHT
BEGIN:STANDARD
TZOFFSETFROM:-0700
TZOFFSETTO:-0800
TZNAME:PST
DTSTART:20241103T090000
END:STANDARD
BEGIN:DAYLIGHT
TZOFFSETFROM:-0800
TZOFFSETTO:-0700
TZNAME:PDT
DTSTART:20250309T100000
END:DAYLIGHT
BEGIN:STANDARD
TZOFFSETFROM:-0700
TZOFFSETTO:-0800
TZNAME:PST
DTSTART:20251102T090000
END:STANDARD
BEGIN:DAYLIGHT
TZOFFSETFROM:-0800
TZOFFSETTO:-0700
TZNAME:PDT
DTSTART:20260308T100000
END:DAYLIGHT
BEGIN:STANDARD
TZOFFSETFROM:-0700
TZOFFSETTO:-0800
TZNAME:PST
DTSTART:20261101T090000
END:STANDARD
END:VTIMEZONE
BEGIN:VEVENT
DTSTART;TZID=America/Los_Angeles:20250319T180000
DTEND;TZID=America/Los_Angeles:20250319T200000
DTSTAMP:20260424T131554
CREATED:20250311T151533Z
LAST-MODIFIED:20250311T151533Z
UID:17931-1742407200-1742414400@artsalliancedavis.org
SUMMARY:The Forge Men’s Group: Cold Plunge
DESCRIPTION:WOODLAND\, CA. The Forge Men’s Group invites you to a cold plunge  in Woodland! Challenge yourself & connect with other men committed to personal growth. This experience is an opportunity to step outside your comfort zone\, push yourself physically and mentally\, & forge deeper bonds with a supportive brotherhood. Join us as we embrace this challenge together. 6p – 8p. $10.
URL:https://artsalliancedavis.org/event/the-forge-mens-group-cold-plunge/
LOCATION:CA
CATEGORIES:Community
ATTACH;FMTTYPE=image/png:https://artsalliancedavis.org/wp-content/uploads/2025/03/fulllogo-j9Llap.tmp_.png
ORGANIZER;CN="The Forge Men&#8217%3Bs Group":MAILTO:kevin@khintimacycoaching.com
END:VEVENT
BEGIN:VEVENT
DTSTART;TZID=America/Los_Angeles:20250321T100000
DTEND;TZID=America/Los_Angeles:20250321T114500
DTSTAMP:20260424T131554
CREATED:20250311T151618Z
LAST-MODIFIED:20250311T151618Z
UID:17943-1742551200-1742557500@artsalliancedavis.org
SUMMARY:Healing Arts 6-Session Workshop
DESCRIPTION:Healing Arts 6-Session Workshop \nFridays\, 10 – 11:45 AM | Mar. 21\, 28 & Apr. 4\, 11\, 18\, 25 \n$25 Members\, $35 Non-Members (all materials included) \n  \nThe Pence’s 6-session Healing Arts workshop uses art as a healing language for those experiencing grief from the loss of a loved one. Through the process of art making\, participants will have opportunities for discussion\, education\, and connecting with peers in a safe and supportive space in the Pence Learning Center under the guidance of facilitators Amy Vidra and Lyndsey Rocca.  \n  \nREGISTRATION ONLINE IS REQUIRED IN ADVANCE\, and space is limited to the first 8 participants who register. Participants must be 18 or older\, and no art experience is necessary. This program is generously sponsored by Bob & Joanne Andresen. \n  \nRegistration is required in advance through the Pence’s website: https://pencegallery.org/education/programs/workshops-and-classes/ \n  \n[Please note that when registering for this program\, you are signing up for all 6 sessions. If you are unable to attend one or more of the sessions\, please let us know in advance.] \n  \nAny questions? Email pencegallery@gmail.com.
URL:https://artsalliancedavis.org/event/healing-arts-6-session-workshop-3/
LOCATION:Pence Gallery\, 212 D St\, Davis\, CA\, United States
CATEGORIES:Art
ATTACH;FMTTYPE=image/jpeg:https://artsalliancedavis.org/wp-content/uploads/2025/03/Healing_Arts-1-4vq8Vg.tmp_.jpg
ORGANIZER;CN="Pence Gallery":MAILTO:pencesocialmedia@gmail.com
END:VEVENT
END:VCALENDAR