BEGIN:VCALENDAR
VERSION:2.0
PRODID:-//Arts Alliance Davis - ECPv6.15.20//NONSGML v1.0//EN
CALSCALE:GREGORIAN
METHOD:PUBLISH
X-WR-CALNAME:Arts Alliance Davis
X-ORIGINAL-URL:https://artsalliancedavis.org
X-WR-CALDESC:Events for Arts Alliance Davis
REFRESH-INTERVAL;VALUE=DURATION:PT1H
X-Robots-Tag:noindex
X-PUBLISHED-TTL:PT1H
BEGIN:VTIMEZONE
TZID:America/Los_Angeles
BEGIN:DAYLIGHT
TZOFFSETFROM:-0800
TZOFFSETTO:-0700
TZNAME:PDT
DTSTART:20240310T100000
END:DAYLIGHT
BEGIN:STANDARD
TZOFFSETFROM:-0700
TZOFFSETTO:-0800
TZNAME:PST
DTSTART:20241103T090000
END:STANDARD
BEGIN:DAYLIGHT
TZOFFSETFROM:-0800
TZOFFSETTO:-0700
TZNAME:PDT
DTSTART:20250309T100000
END:DAYLIGHT
BEGIN:STANDARD
TZOFFSETFROM:-0700
TZOFFSETTO:-0800
TZNAME:PST
DTSTART:20251102T090000
END:STANDARD
BEGIN:DAYLIGHT
TZOFFSETFROM:-0800
TZOFFSETTO:-0700
TZNAME:PDT
DTSTART:20260308T100000
END:DAYLIGHT
BEGIN:STANDARD
TZOFFSETFROM:-0700
TZOFFSETTO:-0800
TZNAME:PST
DTSTART:20261101T090000
END:STANDARD
END:VTIMEZONE
BEGIN:VEVENT
DTSTART;TZID=America/Los_Angeles:20250520T100000
DTEND;TZID=America/Los_Angeles:20250520T113000
DTSTAMP:20260424T104256
CREATED:20250405T115753Z
LAST-MODIFIED:20250405T115753Z
UID:18804-1747735200-1747740600@artsalliancedavis.org
SUMMARY:Healing Arts One-Time Workshop
DESCRIPTION:Healing Arts One-Time Workshop \nTuesday\, May 20\, 10 – 11:30 AM \n$5 Members\, $10 Non-Members (all materials included) \n  \nPart of the Pence’s Healing Arts Program and run by facilitator Amy Vidra\, this one-time\, 90-minute art workshop focuses more broadly on a theme related to depression\, anxiety\, or major life changes. Through the process of art making\, participants will have opportunities for discussion\, education\, and connecting with peers in a safe and supportive space. \n  \nREGISTRATION ONLINE IS REQUIRED IN ADVANCE\, and space is limited to the first 8 participants who register. Participants must be 18 or older\, and no art experience is necessary. This program is generously sponsored by Bob & Joanne Andresen. \n  \nRegistration is required in advance through the Pence’s website: https://pencegallery.org/education/programs/workshops-and-classes/ \n  \n[If you register for this session and are unable to attend\, please let us know in advance.] \n  \nAny questions? Email pencegallery@gmail.com.
URL:https://artsalliancedavis.org/event/healing-arts-one-time-workshop-6/
LOCATION:Pence Gallery\, 212 D St\, Davis\, CA\, United States
CATEGORIES:Art
ATTACH;FMTTYPE=image/jpeg:https://artsalliancedavis.org/wp-content/uploads/2025/04/Healing_Arts-9KbM4y.tmp_.jpg
ORGANIZER;CN="Pence Gallery":MAILTO:pencesocialmedia@gmail.com
END:VEVENT
END:VCALENDAR