BEGIN:VCALENDAR
VERSION:2.0
PRODID:-//Arts Alliance Davis - ECPv6.15.20//NONSGML v1.0//EN
CALSCALE:GREGORIAN
METHOD:PUBLISH
X-WR-CALNAME:Arts Alliance Davis
X-ORIGINAL-URL:https://artsalliancedavis.org
X-WR-CALDESC:Events for Arts Alliance Davis
REFRESH-INTERVAL;VALUE=DURATION:PT1H
X-Robots-Tag:noindex
X-PUBLISHED-TTL:PT1H
BEGIN:VTIMEZONE
TZID:America/Los_Angeles
BEGIN:DAYLIGHT
TZOFFSETFROM:-0800
TZOFFSETTO:-0700
TZNAME:PDT
DTSTART:20240310T100000
END:DAYLIGHT
BEGIN:STANDARD
TZOFFSETFROM:-0700
TZOFFSETTO:-0800
TZNAME:PST
DTSTART:20241103T090000
END:STANDARD
BEGIN:DAYLIGHT
TZOFFSETFROM:-0800
TZOFFSETTO:-0700
TZNAME:PDT
DTSTART:20250309T100000
END:DAYLIGHT
BEGIN:STANDARD
TZOFFSETFROM:-0700
TZOFFSETTO:-0800
TZNAME:PST
DTSTART:20251102T090000
END:STANDARD
BEGIN:DAYLIGHT
TZOFFSETFROM:-0800
TZOFFSETTO:-0700
TZNAME:PDT
DTSTART:20260308T100000
END:DAYLIGHT
BEGIN:STANDARD
TZOFFSETFROM:-0700
TZOFFSETTO:-0800
TZNAME:PST
DTSTART:20261101T090000
END:STANDARD
END:VTIMEZONE
BEGIN:VEVENT
DTSTART;TZID=America/Los_Angeles:20250218T130000
DTEND;TZID=America/Los_Angeles:20250218T150000
DTSTAMP:20260424T122729
CREATED:20250209T195517Z
LAST-MODIFIED:20250209T195517Z
UID:17522-1739883600-1739890800@artsalliancedavis.org
SUMMARY:British Roots: 4 Colonial Migrations as Clues to British Ancestry with Dr. Martha Teeter
DESCRIPTION:The Davis Genealogy Club presents this popular topic to illustrate likely migratory roots of our British ancestors as described in the book\, Albion’s Seed. What we know today as typical New England\, Southern and Appalachian character came from cultural transplantation from Britain to America in Colonial times. A retired professor\, Dr. Teeter has given genealogical lectures throughout the Sacramento region. Hybrid meeting format\, refreshments to follow.
URL:https://artsalliancedavis.org/event/british-roots-4-colonial-migrations-as-clues-to-british-ancestry-with-dr-martha-teeter/
LOCATION:Davis Senior Center\, 646 A St\, Davis\, CA\, 95616\, United States
CATEGORIES:Books & Talks
ATTACH;FMTTYPE=image/jpeg:https://artsalliancedavis.org/wp-content/uploads/2025/02/British-Colonial-Migration-ship-5dkcgG.tmp_.jpg
END:VEVENT
BEGIN:VEVENT
DTSTART;TZID=America/Los_Angeles:20250221T140000
DTEND;TZID=America/Los_Angeles:20250221T160000
DTSTAMP:20260424T122729
CREATED:20250210T202118Z
LAST-MODIFIED:20250210T202118Z
UID:17706-1740146400-1740153600@artsalliancedavis.org
SUMMARY:Ignite Talks
DESCRIPTION:COMMUNITY ROOOM at INTERNATIONAL HOUSE. Maíra Ribeiro\, a Humphrey Fellow at UC Davis\, takes us on a journey of discovery through her heartfelt reflections on the Global Humphrey Talks series. Maíra shares how connecting with Fellows from 12 different countries opened her eyes to the richness of their cultures\, histories\, &shared global challenges. From fascinating cultural tidbits to profound insights on pressing issues\, her story celebrates the power of diversity and the bonds that bring us together. Free. 2p – 4p.
URL:https://artsalliancedavis.org/event/ignite-talks/
LOCATION:International House (I-House)\, 10 College Pk.
CATEGORIES:Books & Talks,Community
ATTACH;FMTTYPE=image/jpeg:https://artsalliancedavis.org/wp-content/uploads/2025/02/Ignite-Talks-Graphic-4-gHprQ3.tmp_.jpg
ORGANIZER;CN="International House Davis":MAILTO:shahzana@ihousedavis.org
END:VEVENT
BEGIN:VEVENT
DTSTART;TZID=America/Los_Angeles:20250221T160000
DTEND;TZID=America/Los_Angeles:20250221T180000
DTSTAMP:20260424T122729
CREATED:20250127T173528Z
LAST-MODIFIED:20250127T173528Z
UID:17444-1740153600-1740160800@artsalliancedavis.org
SUMMARY:Templeton Colloquium in Art History: “Cultural Heritage at Stake: Between Conservation and Criminality”
DESCRIPTION:Threats to cultural heritage are on the rise globally\, due to factors ranging from war and intentional destruction to unfettered development and climate change. The 2025 Templeton Colloquium in Art History at the University of California\, Davis — “Cultural Heritage at Stake: Between Conservation and Criminality” —- debates cultural heritage today and explores the stakes for the protection of culture around the globe. This year’s speakers — Lynn Meskell\, Richard D. Green Professor of Anthropology in the School of Arts and Sciences\, Professor in the Department of Historic Preservation\, and curator in the Middle East and Asia sections at the Penn Museum; and Hrag Vartanian\, Editor-in-chief and Co-founder of Hyperallergic\, art critic\, curator\, artist and lecturer\, and recipient of the Susan C. Larsen Lifetime Achievement Award 2024 — examine the issues challenging culture preservation internationally.
URL:https://artsalliancedavis.org/event/templeton-colloquium-in-art-history-cultural-heritage-at-stake-between-conservation-and-criminality/
LOCATION:Manetti Shrem Museum (Shrem)\, 254 Old Davis Rd.
CATEGORIES:Art,Books & Talks
ATTACH;FMTTYPE=image/jpeg:https://artsalliancedavis.org/wp-content/uploads/2025/01/Vartanian_walled-off-hotel-scaled-1GkKEa.tmp_.jpg
ORGANIZER;CN="UC Davis Art &amp%3Bamp%3B Art History Department":MAILTO:lctheis@ucdavis.edu
END:VEVENT
END:VCALENDAR