BEGIN:VCALENDAR
VERSION:2.0
PRODID:-//Arts Alliance Davis - ECPv6.15.20//NONSGML v1.0//EN
CALSCALE:GREGORIAN
METHOD:PUBLISH
X-ORIGINAL-URL:https://artsalliancedavis.org
X-WR-CALDESC:Events for Arts Alliance Davis
REFRESH-INTERVAL;VALUE=DURATION:PT1H
X-Robots-Tag:noindex
X-PUBLISHED-TTL:PT1H
BEGIN:VTIMEZONE
TZID:America/Los_Angeles
BEGIN:DAYLIGHT
TZOFFSETFROM:-0800
TZOFFSETTO:-0700
TZNAME:PDT
DTSTART:20250309T100000
END:DAYLIGHT
BEGIN:STANDARD
TZOFFSETFROM:-0700
TZOFFSETTO:-0800
TZNAME:PST
DTSTART:20251102T090000
END:STANDARD
BEGIN:DAYLIGHT
TZOFFSETFROM:-0800
TZOFFSETTO:-0700
TZNAME:PDT
DTSTART:20260308T100000
END:DAYLIGHT
BEGIN:STANDARD
TZOFFSETFROM:-0700
TZOFFSETTO:-0800
TZNAME:PST
DTSTART:20261101T090000
END:STANDARD
BEGIN:DAYLIGHT
TZOFFSETFROM:-0800
TZOFFSETTO:-0700
TZNAME:PDT
DTSTART:20270314T100000
END:DAYLIGHT
BEGIN:STANDARD
TZOFFSETFROM:-0700
TZOFFSETTO:-0800
TZNAME:PST
DTSTART:20271107T090000
END:STANDARD
END:VTIMEZONE
BEGIN:VEVENT
DTSTART;TZID=America/Los_Angeles:20260305T180000
DTEND;TZID=America/Los_Angeles:20260305T200000
DTSTAMP:20260423T123648
CREATED:20260226T202148Z
LAST-MODIFIED:20260226T202148Z
UID:24019-1772733600-1772740800@artsalliancedavis.org
SUMMARY:Lotería Night at International House Davis
DESCRIPTION:Join us for Lotería Night at I-House\, a fun and culturally rooted community event featuring the traditional Mexican game of Lotería. This interactive evening invites participants to learn about the history\, imagery\, and cultural significance of the game while connecting with others through play and storytelling. Guided by members of the Chicanx Latinx Collegiate Association of UC Davis\, participants will engage in multiple rounds of Lotería\, with prizes awarded each round. Snacks and beverages will be available for purchase\, with water and tea provided for free. \nPresale Tickets:\n$10 I-House Members & Students\n$15 General Admission \nDesigned for first-time players and longtime fans alike\, Lotería Night offers a welcoming and inclusive space to learn\, play\, and build community while supporting I-House programs. No prior experience is required!
URL:https://artsalliancedavis.org/event/loteria-night-at-international-house-davis/
LOCATION:International House (I-House)\, 10 College Pk.
CATEGORIES:Community,Games
ATTACH;FMTTYPE=image/png:https://artsalliancedavis.org/wp-content/uploads/2026/02/03.05.26-Loteria-Night-WZ0gdp.png
ORGANIZER;CN="International House Davis":MAILTO:shahzana@ihousedavis.org
END:VEVENT
END:VCALENDAR