BEGIN:VCALENDAR
VERSION:2.0
PRODID:-//Arts Alliance Davis - ECPv6.15.20//NONSGML v1.0//EN
CALSCALE:GREGORIAN
METHOD:PUBLISH
X-ORIGINAL-URL:https://artsalliancedavis.org
X-WR-CALDESC:Events for Arts Alliance Davis
REFRESH-INTERVAL;VALUE=DURATION:PT1H
X-Robots-Tag:noindex
X-PUBLISHED-TTL:PT1H
BEGIN:VTIMEZONE
TZID:America/Los_Angeles
BEGIN:DAYLIGHT
TZOFFSETFROM:-0800
TZOFFSETTO:-0700
TZNAME:PDT
DTSTART:20230312T100000
END:DAYLIGHT
BEGIN:STANDARD
TZOFFSETFROM:-0700
TZOFFSETTO:-0800
TZNAME:PST
DTSTART:20231105T090000
END:STANDARD
BEGIN:DAYLIGHT
TZOFFSETFROM:-0800
TZOFFSETTO:-0700
TZNAME:PDT
DTSTART:20240310T100000
END:DAYLIGHT
BEGIN:STANDARD
TZOFFSETFROM:-0700
TZOFFSETTO:-0800
TZNAME:PST
DTSTART:20241103T090000
END:STANDARD
BEGIN:DAYLIGHT
TZOFFSETFROM:-0800
TZOFFSETTO:-0700
TZNAME:PDT
DTSTART:20250309T100000
END:DAYLIGHT
BEGIN:STANDARD
TZOFFSETFROM:-0700
TZOFFSETTO:-0800
TZNAME:PST
DTSTART:20251102T090000
END:STANDARD
END:VTIMEZONE
BEGIN:VEVENT
DTSTART;TZID=America/Los_Angeles:20241203T120000
DTEND;TZID=America/Los_Angeles:20241203T133000
DTSTAMP:20260424T201559
CREATED:20241203T235146Z
LAST-MODIFIED:20241203T235146Z
UID:16221-1733227200-1733232600@artsalliancedavis.org
SUMMARY:My Country: In the World\, For the World
DESCRIPTION:My Country: In the World\, For the World\n\n\n\n\nDecember 3\, 2024 at 12:00 am\n\n\n\n\nJoin us for My Country\, In the World\, For the World\, a series of interactive talks by the 2024-2025 UC Davis Humphrey Fellows. This session features presentations followed by a Q&A from 5-6 UC Davis Humphrey Fellows. They will offer unique insights into their home countries in Africa\, Asia\, and the Americas\, covering culture\, history\, landscapes\, as well as current challenges and cultural highlights. \nThe series is FREE\, but we’d appreciate it if you RSVP HERE \n\nSouth Korea (Seungcheol Shin)\nGuinea (Abdourahamane Sow) \nLiberia (Kunan Vesselly) \nMexico (Ana Celis Hernandez) \nVietnam (Tung Do)\n\nLearn more about the UC Davis Humphrey Fellowship program HERE. \n 
URL:https://artsalliancedavis.org/event/my-country-in-the-world-for-the-world/
LOCATION:International House (I-House)\, 10 College Pk.
CATEGORIES:Books & Talks
ATTACH;FMTTYPE=image/png:https://artsalliancedavis.org/wp-content/uploads/2024/12/Humphrey-Talks-Instagram-Post-2-nNd2Ye.tmp_.png
ORGANIZER;CN="International House Davis":MAILTO:shahzana@ihousedavis.org
END:VEVENT
BEGIN:VEVENT
DTSTART;TZID=America/Los_Angeles:20241215T170000
DTEND;TZID=America/Los_Angeles:20241215T190000
DTSTAMP:20260424T201559
CREATED:20241203T235658Z
LAST-MODIFIED:20241203T235658Z
UID:16298-1734282000-1734289200@artsalliancedavis.org
SUMMARY:Yalda: A Night of Life
DESCRIPTION:Join us for Yalda\, the Persian celebration of light for the Winter Solstice. This ancient tradition brings together a vibrant tapestry of cultures\, from Iran to Afghanistan\, Turkey\, Uzbekistan\, Tajikistan\, Turkmenistan\, Azerbaijan\, Armenia\, and beyond. This gathering honors the traditions of the Persian diaspora with poetry readings of Rumi and Hafiz\, storytelling\, classical Iranian music by Nariman Percussion Ensemble\, and dancing by the renowned Dr. Farima Berenji. Come together to celebrate the changing seasons and the return of light after the longest day of the year. \nGet your Tickets: HERE \nEarly Bird:  \n\nGeneral Admission: $30\nLearning Pass Holders and Students: $25\nKids (2-12): $10\n\nAt the Door:  \n\nGeneral Admission: $35\nLearning Pass Holders and Students: $30\nKids (2-12): $10\n\n 
URL:https://artsalliancedavis.org/event/yalda-a-night-of-life/
LOCATION:International House (I-House)\, 10 College Pk.
CATEGORIES:Art
ATTACH;FMTTYPE=image/png:https://artsalliancedavis.org/wp-content/uploads/2024/12/Indian-Diaspora-3-BRIJkL.tmp_.png
ORGANIZER;CN="International House Davis":MAILTO:shahzana@ihousedavis.org
END:VEVENT
END:VCALENDAR