BEGIN:VCALENDAR
VERSION:2.0
PRODID:-//Arts Alliance Davis - ECPv6.15.20//NONSGML v1.0//EN
CALSCALE:GREGORIAN
METHOD:PUBLISH
X-WR-CALNAME:Arts Alliance Davis
X-ORIGINAL-URL:https://artsalliancedavis.org
X-WR-CALDESC:Events for Arts Alliance Davis
REFRESH-INTERVAL;VALUE=DURATION:PT1H
X-Robots-Tag:noindex
X-PUBLISHED-TTL:PT1H
BEGIN:VTIMEZONE
TZID:America/Los_Angeles
BEGIN:DAYLIGHT
TZOFFSETFROM:-0800
TZOFFSETTO:-0700
TZNAME:PDT
DTSTART:20240310T100000
END:DAYLIGHT
BEGIN:STANDARD
TZOFFSETFROM:-0700
TZOFFSETTO:-0800
TZNAME:PST
DTSTART:20241103T090000
END:STANDARD
BEGIN:DAYLIGHT
TZOFFSETFROM:-0800
TZOFFSETTO:-0700
TZNAME:PDT
DTSTART:20250309T100000
END:DAYLIGHT
BEGIN:STANDARD
TZOFFSETFROM:-0700
TZOFFSETTO:-0800
TZNAME:PST
DTSTART:20251102T090000
END:STANDARD
BEGIN:DAYLIGHT
TZOFFSETFROM:-0800
TZOFFSETTO:-0700
TZNAME:PDT
DTSTART:20260308T100000
END:DAYLIGHT
BEGIN:STANDARD
TZOFFSETFROM:-0700
TZOFFSETTO:-0800
TZNAME:PST
DTSTART:20261101T090000
END:STANDARD
END:VTIMEZONE
BEGIN:VEVENT
DTSTART;TZID=America/Los_Angeles:20250318T170000
DTEND;TZID=America/Los_Angeles:20250318T190000
DTSTAMP:20260424T162100
CREATED:20250313T160311Z
LAST-MODIFIED:20250313T160311Z
UID:18199-1742317200-1742324400@artsalliancedavis.org
SUMMARY:Story Circles for Community Connection in Yolo County
DESCRIPTION:INTERNATIONAL HOUSE. This community listening and sharing event provides a space to build empathy and connection by coming together to tell our stories and learn from one another. Staff from Imagining America will facilitate the event using the powerful story circles methodology created by artist John O’Neal from the Free Southern Theater. We invite the Yolo community to share stories of moments when they have felt cared for and connected to others\, or when experiences of care and connection were sadly missing.Register at: https://bit.ly/iastorycircles. 5p – 6p. Free.\n\n\n\n\n\n\n\n 
URL:https://artsalliancedavis.org/event/story-circles-for-community-connection-in-yolo-county/
LOCATION:International House (I-House)\, 10 College Pk.
CATEGORIES:Community
ATTACH;FMTTYPE=image/png:https://artsalliancedavis.org/wp-content/uploads/2025/03/StoryCircle_Ihouse_Mar18_flyer-6QE6CA.tmp_.png
ORGANIZER;CN="International House Davis":MAILTO:shahzana@ihousedavis.org
END:VEVENT
END:VCALENDAR