BEGIN:VCALENDAR
VERSION:2.0
PRODID:-//Arts Alliance Davis - ECPv6.15.20//NONSGML v1.0//EN
CALSCALE:GREGORIAN
METHOD:PUBLISH
X-ORIGINAL-URL:https://artsalliancedavis.org
X-WR-CALDESC:Events for Arts Alliance Davis
REFRESH-INTERVAL;VALUE=DURATION:PT1H
X-Robots-Tag:noindex
X-PUBLISHED-TTL:PT1H
BEGIN:VTIMEZONE
TZID:America/Los_Angeles
BEGIN:DAYLIGHT
TZOFFSETFROM:-0800
TZOFFSETTO:-0700
TZNAME:PDT
DTSTART:20240310T100000
END:DAYLIGHT
BEGIN:STANDARD
TZOFFSETFROM:-0700
TZOFFSETTO:-0800
TZNAME:PST
DTSTART:20241103T090000
END:STANDARD
BEGIN:DAYLIGHT
TZOFFSETFROM:-0800
TZOFFSETTO:-0700
TZNAME:PDT
DTSTART:20250309T100000
END:DAYLIGHT
BEGIN:STANDARD
TZOFFSETFROM:-0700
TZOFFSETTO:-0800
TZNAME:PST
DTSTART:20251102T090000
END:STANDARD
BEGIN:DAYLIGHT
TZOFFSETFROM:-0800
TZOFFSETTO:-0700
TZNAME:PDT
DTSTART:20260308T100000
END:DAYLIGHT
BEGIN:STANDARD
TZOFFSETFROM:-0700
TZOFFSETTO:-0800
TZNAME:PST
DTSTART:20261101T090000
END:STANDARD
END:VTIMEZONE
BEGIN:VEVENT
DTSTART;VALUE=DATE:20250411
DTEND;VALUE=DATE:20250413
DTSTAMP:20260424T140102
CREATED:20250311T152234Z
LAST-MODIFIED:20250311T152234Z
UID:18010-1744329600-1744502399@artsalliancedavis.org
SUMMARY:DSHS Jazz Choir’s 50th Anniversary Golden Cabaret 2025
DESCRIPTION:RICHARD BRUNELLE PERFORMANCE CENTER. This Golden Cabaret\, our premier benefit event\, will showcase performances by the full Jazz Choir\, along with breakout solos\, small group numbers\, and a very special 50th Anniversary Alumni performance on Saturday. This will be an event to remember at Richard Brunelle Performance Hall\, and all proceeds will benefit the Davis Senior High School Jazz Choir program. Friday\, April 11: dinner @ 5:15pm; show @ 7pm. Saturday\, April 12: (includes Alumni Performance) alumni brunch & rehearsal @ 10am dinner @ 2:15pm; show @ 4pm.
URL:https://artsalliancedavis.org/event/dshs-jazz-choirs-50th-anniversary-golden-cabaret-2025/
LOCATION:Richard Brunelle Performance Hall\, 315 W 14th Street\, Davis\, CA\, 95616\, United States
CATEGORIES:Bring the Kids,Music,Stage & Dance
ATTACH;FMTTYPE=image/jpeg:https://artsalliancedavis.org/wp-content/uploads/2025/03/2025-Join-Us-Graphic-WIDE-Firework-1-scaled-1nvNpo.tmp_.jpg
ORGANIZER;CN="Davis Jazz Choir%2C Inc.":MAILTO:davisjazzchoir@gmail.com
END:VEVENT
BEGIN:VEVENT
DTSTART;TZID=America/Los_Angeles:20250411T170000
DTEND;TZID=America/Los_Angeles:20250411T220000
DTSTAMP:20260424T140102
CREATED:20250311T152258Z
LAST-MODIFIED:20250311T152258Z
UID:18014-1744390800-1744408800@artsalliancedavis.org
SUMMARY:DSHS Jazz Choir’s 50th Anniversary Golden Cabaret 2025
DESCRIPTION:RICHARD BRUNELLE PERFORMANCE CENTER. This Golden Cabaret\, our premier benefit event\, will showcase performances by the full Jazz Choir\, along with breakout solos\, small group numbers\, and a very special 50th Anniversary Alumni performance on Saturday. This will be an event to remember at Richard Brunelle Performance Hall\, and all proceeds will benefit the Davis Senior High School Jazz Choir program. Friday\, April 11: dinner @ 5:15pm; show @ 7pm. Saturday\, April 12: (includes Alumni Performance) alumni brunch & rehearsal @ 10am dinner @ 2:15pm; show @ 4pm.
URL:https://artsalliancedavis.org/event/dshs-jazz-choirs-50th-anniversary-golden-cabaret-2025-2/
LOCATION:Richard Brunelle Performance Hall\, 315 W 14th Street\, Davis\, CA\, 95616\, United States
CATEGORIES:Bring the Kids,Music,Stage & Dance
ATTACH;FMTTYPE=image/jpeg:https://artsalliancedavis.org/wp-content/uploads/2025/03/2025-Join-Us-Graphic-WIDE-Firework-scaled-s78F4L.tmp_.jpg
ORGANIZER;CN="Davis Jazz Choir%2C Inc.":MAILTO:davisjazzchoir@gmail.com
END:VEVENT
BEGIN:VEVENT
DTSTART;TZID=America/Los_Angeles:20250412T170000
DTEND;TZID=America/Los_Angeles:20250412T220000
DTSTAMP:20260424T140102
CREATED:20250311T152321Z
LAST-MODIFIED:20250311T152321Z
UID:18018-1744477200-1744495200@artsalliancedavis.org
SUMMARY:DSHS Jazz Choir’s 50th Anniversary Golden Cabaret 2025
DESCRIPTION:RICHARD BRUNELLE PERFORMANCE CENTER. This Golden Cabaret\, our premier benefit event\, will showcase performances by the full Jazz Choir\, along with breakout solos\, small group numbers\, and a very special 50th Anniversary Alumni performance on Saturday. This will be an event to remember at Richard Brunelle Performance Hall\, and all proceeds will benefit the Davis Senior High School Jazz Choir program. Friday\, April 11: dinner @ 5:15pm; show @ 7pm. Saturday\, April 12: (includes Alumni Performance) alumni brunch & rehearsal @ 10am dinner @ 2:15pm; show @ 4pm.
URL:https://artsalliancedavis.org/event/dshs-jazz-choirs-50th-anniversary-golden-cabaret-2025-3/
LOCATION:Richard Brunelle Performance Hall\, 315 W 14th Street\, Davis\, CA\, 95616\, United States
CATEGORIES:Bring the Kids,Music,Stage & Dance
ATTACH;FMTTYPE=image/jpeg:https://artsalliancedavis.org/wp-content/uploads/2025/03/2025-Join-Us-Graphic-WIDE-Firework-scaled-s78F4L.tmp_.jpg
ORGANIZER;CN="Davis Jazz Choir%2C Inc.":MAILTO:davisjazzchoir@gmail.com
END:VEVENT
END:VCALENDAR