BEGIN:VCALENDAR
VERSION:2.0
PRODID:-//Arts Alliance Davis - ECPv6.15.20//NONSGML v1.0//EN
CALSCALE:GREGORIAN
METHOD:PUBLISH
X-ORIGINAL-URL:https://artsalliancedavis.org
X-WR-CALDESC:Events for Arts Alliance Davis
REFRESH-INTERVAL;VALUE=DURATION:PT1H
X-Robots-Tag:noindex
X-PUBLISHED-TTL:PT1H
BEGIN:VTIMEZONE
TZID:America/Los_Angeles
BEGIN:DAYLIGHT
TZOFFSETFROM:-0800
TZOFFSETTO:-0700
TZNAME:PDT
DTSTART:20240310T100000
END:DAYLIGHT
BEGIN:STANDARD
TZOFFSETFROM:-0700
TZOFFSETTO:-0800
TZNAME:PST
DTSTART:20241103T090000
END:STANDARD
BEGIN:DAYLIGHT
TZOFFSETFROM:-0800
TZOFFSETTO:-0700
TZNAME:PDT
DTSTART:20250309T100000
END:DAYLIGHT
BEGIN:STANDARD
TZOFFSETFROM:-0700
TZOFFSETTO:-0800
TZNAME:PST
DTSTART:20251102T090000
END:STANDARD
BEGIN:DAYLIGHT
TZOFFSETFROM:-0800
TZOFFSETTO:-0700
TZNAME:PDT
DTSTART:20260308T100000
END:DAYLIGHT
BEGIN:STANDARD
TZOFFSETFROM:-0700
TZOFFSETTO:-0800
TZNAME:PST
DTSTART:20261101T090000
END:STANDARD
END:VTIMEZONE
BEGIN:VEVENT
DTSTART;TZID=America/Los_Angeles:20251202T190000
DTEND;TZID=America/Los_Angeles:20251202T210000
DTSTAMP:20260423T231931
CREATED:20251105T222843Z
LAST-MODIFIED:20251105T222843Z
UID:22060-1764702000-1764709200@artsalliancedavis.org
SUMMARY:Jazz Big Bands of UC Davis
DESCRIPTION:Under the direction of Otto Lee\, the Jazz Big Bands of UC Davis perform a range of music from classic standards to more contemporary jazz arrangements and charts. \n  \nRegular: $27.50\, Faculty/Staff: $24\, Child (under 18): $15.50\, UC Davis student: $12.00
URL:https://artsalliancedavis.org/event/jazz-big-bands-of-uc-davis-5/
LOCATION:Ann E. Pitzer Center\, Ann E. Pitzer Center UC Davis Campus\, 754-2787
CATEGORIES:Music
ATTACH;FMTTYPE=image/png:https://artsalliancedavis.org/wp-content/uploads/2025/11/jazz-big-bands-fall-2025-B41Vcg.png
END:VEVENT
END:VCALENDAR