BEGIN:VCALENDAR
VERSION:2.0
PRODID:-//Arts Alliance Davis - ECPv6.15.20//NONSGML v1.0//EN
CALSCALE:GREGORIAN
METHOD:PUBLISH
X-ORIGINAL-URL:https://artsalliancedavis.org
X-WR-CALDESC:Events for Arts Alliance Davis
REFRESH-INTERVAL;VALUE=DURATION:PT1H
X-Robots-Tag:noindex
X-PUBLISHED-TTL:PT1H
BEGIN:VTIMEZONE
TZID:America/Los_Angeles
BEGIN:DAYLIGHT
TZOFFSETFROM:-0800
TZOFFSETTO:-0700
TZNAME:PDT
DTSTART:20250309T100000
END:DAYLIGHT
BEGIN:STANDARD
TZOFFSETFROM:-0700
TZOFFSETTO:-0800
TZNAME:PST
DTSTART:20251102T090000
END:STANDARD
BEGIN:DAYLIGHT
TZOFFSETFROM:-0800
TZOFFSETTO:-0700
TZNAME:PDT
DTSTART:20260308T100000
END:DAYLIGHT
BEGIN:STANDARD
TZOFFSETFROM:-0700
TZOFFSETTO:-0800
TZNAME:PST
DTSTART:20261101T090000
END:STANDARD
BEGIN:DAYLIGHT
TZOFFSETFROM:-0800
TZOFFSETTO:-0700
TZNAME:PDT
DTSTART:20270314T100000
END:DAYLIGHT
BEGIN:STANDARD
TZOFFSETFROM:-0700
TZOFFSETTO:-0800
TZNAME:PST
DTSTART:20271107T090000
END:STANDARD
END:VTIMEZONE
BEGIN:VEVENT
DTSTART;TZID=America/Los_Angeles:20260123T170000
DTEND;TZID=America/Los_Angeles:20260123T200000
DTSTAMP:20260423T220055
CREATED:20260110T195134Z
LAST-MODIFIED:20260110T195134Z
UID:23125-1769187600-1769198400@artsalliancedavis.org
SUMMARY:Live Music & Food Truck
DESCRIPTION:🎷🍷 Live Music & Food Truck at Great Bear Vineyards🍷🎷\nFriday\, January 23 | 5–8pm \nEase into your Friday evening with great wine\, smooth jazz\, and a really good cause. Join us at Great Bear Vineyards to support the J St Jazz Cats\, a talented local group of young musicians. Event is from 5-8pm with the musical performance scheduled from 6-7:30pm. \n🎟 Your ticket includes your first glass of wine\, then feel free to explore wine by the glass or bottle\, enjoy a tasting\, and grab snacks available for purchase. Want to keep it super relaxed? You’re welcome to bring your own picnic or favorite “to-go” food and settle in for an easy\, unhurried evening at the vineyard. \n✨ A portion of all ticket proceeds goes directly to supporting these amazing student musicians—so every sip does a little good. \n☀️ Sunny-Day Bonus!\nIf the weather decides to show off\, we’ll level things up with a pop-up food truck. Keep an eye on our social media and website for sunny-weather updates. \nGood wine. Great music. Supporting local youth. That’s a Friday night we can all feel good about. 🍇🎶
URL:https://artsalliancedavis.org/event/live-music-food-truck-28/
LOCATION:Great Bear Vineyards (Great Bear)\, 24800 County Rd 101A
CATEGORIES:Games,Music
ATTACH;FMTTYPE=image/png:https://artsalliancedavis.org/wp-content/uploads/2026/01/1-23-26-Thumbnail-555v0h.png
ORGANIZER;CN="Great Bear Vineyards":MAILTO:greatbearvineyards@gmail.com
END:VEVENT
END:VCALENDAR