BEGIN:VCALENDAR
VERSION:2.0
PRODID:-//Arts Alliance Davis - ECPv6.15.20//NONSGML v1.0//EN
CALSCALE:GREGORIAN
METHOD:PUBLISH
X-WR-CALNAME:Arts Alliance Davis
X-ORIGINAL-URL:https://artsalliancedavis.org
X-WR-CALDESC:Events for Arts Alliance Davis
REFRESH-INTERVAL;VALUE=DURATION:PT1H
X-Robots-Tag:noindex
X-PUBLISHED-TTL:PT1H
BEGIN:VTIMEZONE
TZID:America/Los_Angeles
BEGIN:DAYLIGHT
TZOFFSETFROM:-0800
TZOFFSETTO:-0700
TZNAME:PDT
DTSTART:20250309T100000
END:DAYLIGHT
BEGIN:STANDARD
TZOFFSETFROM:-0700
TZOFFSETTO:-0800
TZNAME:PST
DTSTART:20251102T090000
END:STANDARD
BEGIN:DAYLIGHT
TZOFFSETFROM:-0800
TZOFFSETTO:-0700
TZNAME:PDT
DTSTART:20260308T100000
END:DAYLIGHT
BEGIN:STANDARD
TZOFFSETFROM:-0700
TZOFFSETTO:-0800
TZNAME:PST
DTSTART:20261101T090000
END:STANDARD
BEGIN:DAYLIGHT
TZOFFSETFROM:-0800
TZOFFSETTO:-0700
TZNAME:PDT
DTSTART:20270314T100000
END:DAYLIGHT
BEGIN:STANDARD
TZOFFSETFROM:-0700
TZOFFSETTO:-0800
TZNAME:PST
DTSTART:20271107T090000
END:STANDARD
END:VTIMEZONE
BEGIN:VEVENT
DTSTART;TZID=America/Los_Angeles:20260516T080000
DTEND;TZID=America/Los_Angeles:20260516T120000
DTSTAMP:20260423T163948
CREATED:20260215T173137Z
LAST-MODIFIED:20260215T173137Z
UID:23777-1778918400-1778932800@artsalliancedavis.org
SUMMARY:YOLO Run! 2K\, 5K\, 10K
DESCRIPTION:You Only Live Once\, so join us for the YOLO Run for a morning of sunshine that benefits children and families. UC Davis Children’s Hospital and the NEC Society are teaming up on May 16th because it’s Necrotizing Enterocolitis (NEC) Awareness Day. \nJoin us on the football field on May 16\, 2026\, at the UC Davis Health Stadium in Davis\, California! Choose your distance and get ready to start and finish your race in the Stadium at the second annual YOLO Run\, presented by the NEC Society and UC Davis Children’s Hospital. \nNEC is an intestinal disease that can affect medically fragile infants during their first weeks and months of life. UC Davis Children’s Hospital provides lifesaving care for babies at risk of NEC\, and the NEC Society is the world’s leading nonprofit advancing NEC research\, education\, and advocacy. Yolo County locals\, Jennifer and Noah Canvasser\, launched the NEC Society after tragically losing their son\, Micah\, to the disease. By teaming up with UC Davis Children’s Hospital\, the Canvasser family and NEC Society are building a world without NEC. Join us for the YOLO Run to support this work! \nInterested in sponsoring the YOLO Run? Email Justin@NECsociety.org \nWant to learn more about NEC? Check out NECsociety.org
URL:https://artsalliancedavis.org/event/yolo-run-2k-5k-10k/
LOCATION:UC Davis Health Stadium
CATEGORIES:Athletics,Bring the Kids,Community,Fitness,Outside
ATTACH;FMTTYPE=image/png:https://artsalliancedavis.org/wp-content/uploads/2026/02/YOLO-IG-Post-Final-YZCbO7.png
END:VEVENT
END:VCALENDAR