BEGIN:VCALENDAR
VERSION:2.0
PRODID:-//Arts Alliance Davis - ECPv6.15.20//NONSGML v1.0//EN
CALSCALE:GREGORIAN
METHOD:PUBLISH
X-ORIGINAL-URL:https://artsalliancedavis.org
X-WR-CALDESC:Events for Arts Alliance Davis
REFRESH-INTERVAL;VALUE=DURATION:PT1H
X-Robots-Tag:noindex
X-PUBLISHED-TTL:PT1H
BEGIN:VTIMEZONE
TZID:America/Los_Angeles
BEGIN:DAYLIGHT
TZOFFSETFROM:-0800
TZOFFSETTO:-0700
TZNAME:PDT
DTSTART:20240310T100000
END:DAYLIGHT
BEGIN:STANDARD
TZOFFSETFROM:-0700
TZOFFSETTO:-0800
TZNAME:PST
DTSTART:20241103T090000
END:STANDARD
BEGIN:DAYLIGHT
TZOFFSETFROM:-0800
TZOFFSETTO:-0700
TZNAME:PDT
DTSTART:20250309T100000
END:DAYLIGHT
BEGIN:STANDARD
TZOFFSETFROM:-0700
TZOFFSETTO:-0800
TZNAME:PST
DTSTART:20251102T090000
END:STANDARD
BEGIN:DAYLIGHT
TZOFFSETFROM:-0800
TZOFFSETTO:-0700
TZNAME:PDT
DTSTART:20260308T100000
END:DAYLIGHT
BEGIN:STANDARD
TZOFFSETFROM:-0700
TZOFFSETTO:-0800
TZNAME:PST
DTSTART:20261101T090000
END:STANDARD
END:VTIMEZONE
BEGIN:VEVENT
DTSTART;TZID=America/Los_Angeles:20250213T120000
DTEND;TZID=America/Los_Angeles:20250213T130000
DTSTAMP:20260424T164446
CREATED:20250121T153922Z
LAST-MODIFIED:20250121T153922Z
UID:17202-1739448000-1739451600@artsalliancedavis.org
SUMMARY:Michael Spiro and Friends
DESCRIPTION:Internationally recognized percussionist\, recording artist\, and educator known specifically for his work in the Latin music field. \n\nProgram\nTo be announced from the stage. \nFree \nThis Shinkoskey Noon Concert is made possible with support from the Joy S. Shinkoskey Series of Noon Concert Endowment. \nMore About Michael Spiro\nMichael Spiro is an internationally recognized percussionist\, recording artist\, and educator\, known specifically for his work in the Latin music field. He has performed on hundreds of records\, co-produced several instructional videos for Warner Bros. Publications (featuring such renowned artists as David Garibaldi\, Changuito\, Giovanni Hidalgo\, and Ignacio Berroa)\, and produced seminal recordings in the Latin music genre\, including Orquesta Batachanga\, Grupo Bata-Ketu\, and Grupo Ilu-Aña. \n 
URL:https://artsalliancedavis.org/event/michael-spiro-and-friends/
LOCATION:Ann E. Pitzer Center\, Ann E. Pitzer Center UC Davis Campus\, 754-2787
CATEGORIES:Music
ATTACH;FMTTYPE=image/jpeg:https://artsalliancedavis.org/wp-content/uploads/2025/01/img_5095-rCm3Lq.tmp_.jpg
END:VEVENT
END:VCALENDAR