BEGIN:VCALENDAR
VERSION:2.0
PRODID:-//Arts Alliance Davis - ECPv6.15.20//NONSGML v1.0//EN
CALSCALE:GREGORIAN
METHOD:PUBLISH
X-WR-CALNAME:Arts Alliance Davis
X-ORIGINAL-URL:https://artsalliancedavis.org
X-WR-CALDESC:Events for Arts Alliance Davis
REFRESH-INTERVAL;VALUE=DURATION:PT1H
X-Robots-Tag:noindex
X-PUBLISHED-TTL:PT1H
BEGIN:VTIMEZONE
TZID:America/Los_Angeles
BEGIN:DAYLIGHT
TZOFFSETFROM:-0800
TZOFFSETTO:-0700
TZNAME:PDT
DTSTART:20240310T100000
END:DAYLIGHT
BEGIN:STANDARD
TZOFFSETFROM:-0700
TZOFFSETTO:-0800
TZNAME:PST
DTSTART:20241103T090000
END:STANDARD
BEGIN:DAYLIGHT
TZOFFSETFROM:-0800
TZOFFSETTO:-0700
TZNAME:PDT
DTSTART:20250309T100000
END:DAYLIGHT
BEGIN:STANDARD
TZOFFSETFROM:-0700
TZOFFSETTO:-0800
TZNAME:PST
DTSTART:20251102T090000
END:STANDARD
BEGIN:DAYLIGHT
TZOFFSETFROM:-0800
TZOFFSETTO:-0700
TZNAME:PDT
DTSTART:20260308T100000
END:DAYLIGHT
BEGIN:STANDARD
TZOFFSETFROM:-0700
TZOFFSETTO:-0800
TZNAME:PST
DTSTART:20261101T090000
END:STANDARD
END:VTIMEZONE
BEGIN:VEVENT
DTSTART;TZID=America/Los_Angeles:20250223T180000
DTEND;TZID=America/Los_Angeles:20250223T200000
DTSTAMP:20260424T160327
CREATED:20250214T222539Z
LAST-MODIFIED:20250214T222539Z
UID:17774-1740333600-1740340800@artsalliancedavis.org
SUMMARY:Davis Queer Teen Group: Feel The Love Event
DESCRIPTION:🌈💖 Feeling stressed? We’ve got you covered! 💖🌈\nJoin the Davis Queer Teen Group Stress Relief: Feel the Love Event on Sunday\, Feb 23rd at 6 PM!\nRSVP: https://forms.gle/yz7NbvRqeiU7o3JfA\n✨ Here’s what you can look forward to:\n🎨 Hand crafting\, books\, and music\n☕ Hot drinks\, cookies\, and more\n🧘 Guided yoga to relax your mind and body\n🛋️ Cozy recline chairs to chill or take a quick nap\n📍 Location: Usual space.\nEmail Admin3@davisphoenixco.org for the location details\nThis is your space to unwind\, connect\, and feel the love. We can’t wait to see you there! 🌟\n#DQTG #FeelTheLove #QueerTeensUnite #SelfCareMatters #DavisTeens
URL:https://artsalliancedavis.org/event/davis-queer-teen-group-feel-the-love-event/
LOCATION:C
CATEGORIES:Community
ATTACH;FMTTYPE=image/png:https://artsalliancedavis.org/wp-content/uploads/2025/02/DQTG-Stress-Relief-Feel-the-Love-Event-hlGRdu.tmp_.png
END:VEVENT
END:VCALENDAR