BEGIN:VCALENDAR
VERSION:2.0
PRODID:-//Arts Alliance Davis - ECPv6.15.20//NONSGML v1.0//EN
CALSCALE:GREGORIAN
METHOD:PUBLISH
X-ORIGINAL-URL:https://artsalliancedavis.org
X-WR-CALDESC:Events for Arts Alliance Davis
REFRESH-INTERVAL;VALUE=DURATION:PT1H
X-Robots-Tag:noindex
X-PUBLISHED-TTL:PT1H
BEGIN:VTIMEZONE
TZID:America/Los_Angeles
BEGIN:DAYLIGHT
TZOFFSETFROM:-0800
TZOFFSETTO:-0700
TZNAME:PDT
DTSTART:20240310T100000
END:DAYLIGHT
BEGIN:STANDARD
TZOFFSETFROM:-0700
TZOFFSETTO:-0800
TZNAME:PST
DTSTART:20241103T090000
END:STANDARD
BEGIN:DAYLIGHT
TZOFFSETFROM:-0800
TZOFFSETTO:-0700
TZNAME:PDT
DTSTART:20250309T100000
END:DAYLIGHT
BEGIN:STANDARD
TZOFFSETFROM:-0700
TZOFFSETTO:-0800
TZNAME:PST
DTSTART:20251102T090000
END:STANDARD
BEGIN:DAYLIGHT
TZOFFSETFROM:-0800
TZOFFSETTO:-0700
TZNAME:PDT
DTSTART:20260308T100000
END:DAYLIGHT
BEGIN:STANDARD
TZOFFSETFROM:-0700
TZOFFSETTO:-0800
TZNAME:PST
DTSTART:20261101T090000
END:STANDARD
END:VTIMEZONE
BEGIN:VEVENT
DTSTART;TZID=America/Los_Angeles:20250123T190000
DTEND;TZID=America/Los_Angeles:20250123T210000
DTSTAMP:20260424T201527
CREATED:20250114T132701Z
LAST-MODIFIED:20250114T132701Z
UID:17090-1737658800-1737666000@artsalliancedavis.org
SUMMARY:An Evening with Kim Stanley Robinson
DESCRIPTION:Winters Friends of the Library are excited to announce a special appearance by renowned author Kim Stanley Robinson\, winner of the Hugo Award for Best Novel\, the Nebula Award for Best Novel and the World Fantasy Award. Robinson’s 2020 novel The Ministry for the Future\, which offers a vision of global cooperation to combat climate change\, was named by former president Barack Obama as one of his favorite books of the year. Robinson will discuss what he has learned since writing that book\, and may give a hint about what he is working on now. \nAttendees are invited to bring copies of his books for signing after the talk. \n  \n 
URL:https://artsalliancedavis.org/event/an-evening-with-kim-stanley-robinson/
LOCATION:Winters Opera House\, 13 Main Street\, Winters\, C\, 95694\, United States
CATEGORIES:Books & Talks
ATTACH;FMTTYPE=image/jpeg:https://artsalliancedavis.org/wp-content/uploads/2025/01/Kim-Stanley-Robinson-by-Gage-Skidmore-square-dMxzfD.tmp_.jpg
ORGANIZER;CN="Winters Friends of the Library":MAILTO:reply@wfol.org
END:VEVENT
END:VCALENDAR