BEGIN:VCALENDAR
VERSION:2.0
PRODID:-//Arts Alliance Davis - ECPv6.15.20//NONSGML v1.0//EN
CALSCALE:GREGORIAN
METHOD:PUBLISH
X-WR-CALNAME:Arts Alliance Davis
X-ORIGINAL-URL:https://artsalliancedavis.org
X-WR-CALDESC:Events for Arts Alliance Davis
REFRESH-INTERVAL;VALUE=DURATION:PT1H
X-Robots-Tag:noindex
X-PUBLISHED-TTL:PT1H
BEGIN:VTIMEZONE
TZID:America/Los_Angeles
BEGIN:DAYLIGHT
TZOFFSETFROM:-0800
TZOFFSETTO:-0700
TZNAME:PDT
DTSTART:20240310T100000
END:DAYLIGHT
BEGIN:STANDARD
TZOFFSETFROM:-0700
TZOFFSETTO:-0800
TZNAME:PST
DTSTART:20241103T090000
END:STANDARD
BEGIN:DAYLIGHT
TZOFFSETFROM:-0800
TZOFFSETTO:-0700
TZNAME:PDT
DTSTART:20250309T100000
END:DAYLIGHT
BEGIN:STANDARD
TZOFFSETFROM:-0700
TZOFFSETTO:-0800
TZNAME:PST
DTSTART:20251102T090000
END:STANDARD
BEGIN:DAYLIGHT
TZOFFSETFROM:-0800
TZOFFSETTO:-0700
TZNAME:PDT
DTSTART:20260308T100000
END:DAYLIGHT
BEGIN:STANDARD
TZOFFSETFROM:-0700
TZOFFSETTO:-0800
TZNAME:PST
DTSTART:20261101T090000
END:STANDARD
END:VTIMEZONE
BEGIN:VEVENT
DTSTART;TZID=America/Los_Angeles:20250823T100000
DTEND;TZID=America/Los_Angeles:20250823T150000
DTSTAMP:20260424T065856
CREATED:20250821T141913Z
LAST-MODIFIED:20250821T141913Z
UID:19587-1755943200-1755961200@artsalliancedavis.org
SUMMARY:Cruisin’ into the Next Chapter Classic Car & Truck Show
DESCRIPTION:Join us in the town of Yolo for the Cruisin’ into the Next Chapter Classic Car and Truck Show on August 23 from 10:00 a.m. to 3:00 p.m.  Admire over 100 classic cars and trucks plus antique tractors\, gas engines and fire trucks lining the streets of Yolo.  Check out our Youth Lowrider Bike Show.  Find amazing prizes at our big raffle.  Stop for some yummy food.  Get your event T-shirts and some Yolo souvenirs.  Peruse a variety of vendors and information booths all while enjoying the classic rock tunes played by our own DJ Chris Rockwell.   Bring children for face painting\, books to take home\, activities and family movies — all free.   Enjoy this fun family event knowing that all proceeds will go to benefit the Yolo Branch Library.  Visit https://www.friendsofyololibrary.org/ for more details.
URL:https://artsalliancedavis.org/event/cruisin-into-the-next-chapter-classic-car-truck-show-2/
LOCATION:37750 Sacramento Street\, Yolo\, 37750 Sacramento .Street\, Yolo\, C\, 95697\, United States
CATEGORIES:Bring the Kids,Community,Food & Drink
ATTACH;FMTTYPE=image/jpeg:https://artsalliancedavis.org/wp-content/uploads/2018/10/orange-white-aad-logo.jpg
END:VEVENT
END:VCALENDAR