BEGIN:VCALENDAR
VERSION:2.0
PRODID:-//Arts Alliance Davis - ECPv6.15.20//NONSGML v1.0//EN
CALSCALE:GREGORIAN
METHOD:PUBLISH
X-WR-CALNAME:Arts Alliance Davis
X-ORIGINAL-URL:https://artsalliancedavis.org
X-WR-CALDESC:Events for Arts Alliance Davis
REFRESH-INTERVAL;VALUE=DURATION:PT1H
X-Robots-Tag:noindex
X-PUBLISHED-TTL:PT1H
BEGIN:VTIMEZONE
TZID:America/Los_Angeles
BEGIN:DAYLIGHT
TZOFFSETFROM:-0800
TZOFFSETTO:-0700
TZNAME:PDT
DTSTART:20240310T100000
END:DAYLIGHT
BEGIN:STANDARD
TZOFFSETFROM:-0700
TZOFFSETTO:-0800
TZNAME:PST
DTSTART:20241103T090000
END:STANDARD
BEGIN:DAYLIGHT
TZOFFSETFROM:-0800
TZOFFSETTO:-0700
TZNAME:PDT
DTSTART:20250309T100000
END:DAYLIGHT
BEGIN:STANDARD
TZOFFSETFROM:-0700
TZOFFSETTO:-0800
TZNAME:PST
DTSTART:20251102T090000
END:STANDARD
BEGIN:DAYLIGHT
TZOFFSETFROM:-0800
TZOFFSETTO:-0700
TZNAME:PDT
DTSTART:20260308T100000
END:DAYLIGHT
BEGIN:STANDARD
TZOFFSETFROM:-0700
TZOFFSETTO:-0800
TZNAME:PST
DTSTART:20261101T090000
END:STANDARD
END:VTIMEZONE
BEGIN:VEVENT
DTSTART;TZID=America/Los_Angeles:20250313T190000
DTEND;TZID=America/Los_Angeles:20250313T203000
DTSTAMP:20260424T133332
CREATED:20250311T151227Z
LAST-MODIFIED:20250311T151227Z
UID:17892-1741892400-1741897800@artsalliancedavis.org
SUMMARY:Stories & Camp Fire
DESCRIPTION:Casual storytelling by good public speakers around a ridiculously fake campfire. For fun. Bring your own cushions & blanket. Sit low around the orange glow. Free admission & free cocoa this time!
URL:https://artsalliancedavis.org/event/stories-camp-fire/
LOCATION:1121 Richards Bl.\, Davis\, 1121 Richards Boulevard\, Davis\, C\, 95616\, United States
CATEGORIES:Books & Talks
ATTACH;FMTTYPE=image/jpeg:https://artsalliancedavis.org/wp-content/uploads/2025/03/Stories-and-Fire-image-0001-NrI8yh.tmp_.jpg
ORGANIZER;CN="Stories &amp%3B Fire":MAILTO:dan.kehew@gmail.com
END:VEVENT
END:VCALENDAR