BEGIN:VCALENDAR
VERSION:2.0
PRODID:-//Arts Alliance Davis - ECPv6.15.20//NONSGML v1.0//EN
CALSCALE:GREGORIAN
METHOD:PUBLISH
X-ORIGINAL-URL:https://artsalliancedavis.org
X-WR-CALDESC:Events for Arts Alliance Davis
REFRESH-INTERVAL;VALUE=DURATION:PT1H
X-Robots-Tag:noindex
X-PUBLISHED-TTL:PT1H
BEGIN:VTIMEZONE
TZID:America/Los_Angeles
BEGIN:DAYLIGHT
TZOFFSETFROM:-0800
TZOFFSETTO:-0700
TZNAME:PDT
DTSTART:20250309T100000
END:DAYLIGHT
BEGIN:STANDARD
TZOFFSETFROM:-0700
TZOFFSETTO:-0800
TZNAME:PST
DTSTART:20251102T090000
END:STANDARD
BEGIN:DAYLIGHT
TZOFFSETFROM:-0800
TZOFFSETTO:-0700
TZNAME:PDT
DTSTART:20260308T100000
END:DAYLIGHT
BEGIN:STANDARD
TZOFFSETFROM:-0700
TZOFFSETTO:-0800
TZNAME:PST
DTSTART:20261101T090000
END:STANDARD
BEGIN:DAYLIGHT
TZOFFSETFROM:-0800
TZOFFSETTO:-0700
TZNAME:PDT
DTSTART:20270314T100000
END:DAYLIGHT
BEGIN:STANDARD
TZOFFSETFROM:-0700
TZOFFSETTO:-0800
TZNAME:PST
DTSTART:20271107T090000
END:STANDARD
END:VTIMEZONE
BEGIN:VEVENT
DTSTART;TZID=America/Los_Angeles:20260222T180000
DTEND;TZID=America/Los_Angeles:20260222T200000
DTSTAMP:20260423T164259
CREATED:20260123T231217Z
LAST-MODIFIED:20260123T231217Z
UID:23387-1771783200-1771790400@artsalliancedavis.org
SUMMARY:Watermelon Music Open Mic
DESCRIPTION:Join us for the second Open Mic of 2026! Whether you’re looking for a venue to share your own talents or just looking to enjoy hearing (and seeing) some local performers\, we invite you to this free monthly event. We provide the sound\, stage and lights – the rest is up to you. Play us your favorite song\, tell us some jokes\, act out a scene from your favorite play with friends. \nWe ask only that each performance be suitable for an all-ages venue\, and that you arrive on time and stay until the end to support your fellow performers. \nDoor open and sign-ups begin at 5:30. First act goes on at 6:00. We hope to see you here!
URL:https://artsalliancedavis.org/event/watermelon-music-open-mic-4/
LOCATION:Melon Ball – Watermelon Music\, 1970 Lake Blvd\, Suite #1\, Davis\, California\, 95616\, United States
CATEGORIES:Community,Music
ATTACH;FMTTYPE=image/png:https://artsalliancedavis.org/wp-content/uploads/2026/01/Open-Mic-April-2025-JW3n7t.png
ORGANIZER;CN="Watermelon Music":MAILTO:watermelonmusicdavis@gmail.com
END:VEVENT
END:VCALENDAR