BEGIN:VCALENDAR
VERSION:2.0
PRODID:-//Arts Alliance Davis - ECPv6.15.20//NONSGML v1.0//EN
CALSCALE:GREGORIAN
METHOD:PUBLISH
X-WR-CALNAME:Arts Alliance Davis
X-ORIGINAL-URL:https://artsalliancedavis.org
X-WR-CALDESC:Events for Arts Alliance Davis
REFRESH-INTERVAL;VALUE=DURATION:PT1H
X-Robots-Tag:noindex
X-PUBLISHED-TTL:PT1H
BEGIN:VTIMEZONE
TZID:America/Los_Angeles
BEGIN:DAYLIGHT
TZOFFSETFROM:-0800
TZOFFSETTO:-0700
TZNAME:PDT
DTSTART:20250309T100000
END:DAYLIGHT
BEGIN:STANDARD
TZOFFSETFROM:-0700
TZOFFSETTO:-0800
TZNAME:PST
DTSTART:20251102T090000
END:STANDARD
BEGIN:DAYLIGHT
TZOFFSETFROM:-0800
TZOFFSETTO:-0700
TZNAME:PDT
DTSTART:20260308T100000
END:DAYLIGHT
BEGIN:STANDARD
TZOFFSETFROM:-0700
TZOFFSETTO:-0800
TZNAME:PST
DTSTART:20261101T090000
END:STANDARD
BEGIN:DAYLIGHT
TZOFFSETFROM:-0800
TZOFFSETTO:-0700
TZNAME:PDT
DTSTART:20270314T100000
END:DAYLIGHT
BEGIN:STANDARD
TZOFFSETFROM:-0700
TZOFFSETTO:-0800
TZNAME:PST
DTSTART:20271107T090000
END:STANDARD
END:VTIMEZONE
BEGIN:VEVENT
DTSTART;TZID=America/Los_Angeles:20260425T190000
DTEND;TZID=America/Los_Angeles:20260425T210000
DTSTAMP:20260423T150437
CREATED:20260403T170756Z
LAST-MODIFIED:20260403T170756Z
UID:24581-1777143600-1777150800@artsalliancedavis.org
SUMMARY:Stellamara Acoustic Roots Trio Live @ The Melon Ball
DESCRIPTION:Stellamara Acoustic Roots Trio reunites the core members of Stellamara\, an internationally acclaimed ensemble known for its evocative blend of early and traditional modal music. With over two decades of international performances and celebrated recordings\, the group has cultivated a distinctive and timeless sound. \nAt its center are producer\, singer\, and percussionist Sonja Drakulich\, multi-instrumentalist Gari Hegedus\, and cellist Rufus Cappadocia. \nIn this intimate acoustic format\, the trio offers the essence of Stellamara: a modern and deeply expressive approach to traditional modal repertoire\, ancestral folk songs of love and loss\, and original compositions shaped by lifelong study of modal and polyphonic traditions.
URL:https://artsalliancedavis.org/event/stellamara-acoustic-roots-trio-live-the-melon-ball/
LOCATION:Melon Ball – Watermelon Music\, 1970 Lake Blvd\, Suite #1\, Davis\, California\, 95616\, United States
CATEGORIES:Music
ATTACH;FMTTYPE=image/png:https://artsalliancedavis.org/wp-content/uploads/2026/04/Stellamara-ViIFgu.png
ORGANIZER;CN="Watermelon Music":MAILTO:watermelonmusicdavis@gmail.com
END:VEVENT
END:VCALENDAR