BEGIN:VCALENDAR
VERSION:2.0
PRODID:-//Arts Alliance Davis - ECPv6.15.20//NONSGML v1.0//EN
CALSCALE:GREGORIAN
METHOD:PUBLISH
X-ORIGINAL-URL:https://artsalliancedavis.org
X-WR-CALDESC:Events for Arts Alliance Davis
REFRESH-INTERVAL;VALUE=DURATION:PT1H
X-Robots-Tag:noindex
X-PUBLISHED-TTL:PT1H
BEGIN:VTIMEZONE
TZID:America/Los_Angeles
BEGIN:DAYLIGHT
TZOFFSETFROM:-0800
TZOFFSETTO:-0700
TZNAME:PDT
DTSTART:20240310T100000
END:DAYLIGHT
BEGIN:STANDARD
TZOFFSETFROM:-0700
TZOFFSETTO:-0800
TZNAME:PST
DTSTART:20241103T090000
END:STANDARD
BEGIN:DAYLIGHT
TZOFFSETFROM:-0800
TZOFFSETTO:-0700
TZNAME:PDT
DTSTART:20250309T100000
END:DAYLIGHT
BEGIN:STANDARD
TZOFFSETFROM:-0700
TZOFFSETTO:-0800
TZNAME:PST
DTSTART:20251102T090000
END:STANDARD
BEGIN:DAYLIGHT
TZOFFSETFROM:-0800
TZOFFSETTO:-0700
TZNAME:PDT
DTSTART:20260308T100000
END:DAYLIGHT
BEGIN:STANDARD
TZOFFSETFROM:-0700
TZOFFSETTO:-0800
TZNAME:PST
DTSTART:20261101T090000
END:STANDARD
END:VTIMEZONE
BEGIN:VEVENT
DTSTART;TZID=America/Los_Angeles:20251003T183000
DTEND;TZID=America/Los_Angeles:20251003T210000
DTSTAMP:20260424T005435
CREATED:20250822T144733Z
LAST-MODIFIED:20250822T144733Z
UID:20165-1759516200-1759525200@artsalliancedavis.org
SUMMARY:Friday Night Music in Downtown Winters
DESCRIPTION:Join us for live music in downtown Winters on Main Street. The Chamber of Commerce is proud to present local musicians to play every Friday from 6:30PM-9PM. Check out Discover Winters Instagram to stay up to date!
URL:https://artsalliancedavis.org/event/friday-night-music-in-downtown-winters-7/
LOCATION:Downtown Winters
CATEGORIES:Community,Music,Outside
ATTACH;FMTTYPE=image/jpeg:https://artsalliancedavis.org/wp-content/uploads/2025/08/live-music-downtown-winters-voyDiS.jpg
END:VEVENT
BEGIN:VEVENT
DTSTART;TZID=America/Los_Angeles:20251010T183000
DTEND;TZID=America/Los_Angeles:20251010T210000
DTSTAMP:20260424T005435
CREATED:20250822T144857Z
LAST-MODIFIED:20250822T144857Z
UID:20219-1760121000-1760130000@artsalliancedavis.org
SUMMARY:Friday Night Music in Downtown Winters
DESCRIPTION:Join us for live music in downtown Winters on Main Street. The Chamber of Commerce is proud to present local musicians to play every Friday from 6:30PM-9PM. Check out Discover Winters Instagram to stay up to date!
URL:https://artsalliancedavis.org/event/friday-night-music-in-downtown-winters-8/
LOCATION:Downtown Winters
CATEGORIES:Community,Music,Outside
ATTACH;FMTTYPE=image/jpeg:https://artsalliancedavis.org/wp-content/uploads/2025/08/live-music-downtown-winters-voyDiS.jpg
END:VEVENT
BEGIN:VEVENT
DTSTART;TZID=America/Los_Angeles:20251017T183000
DTEND;TZID=America/Los_Angeles:20251017T210000
DTSTAMP:20260424T005435
CREATED:20250825T151814Z
LAST-MODIFIED:20250825T151814Z
UID:20391-1760725800-1760734800@artsalliancedavis.org
SUMMARY:Friday Night Music in Downtown Winters
DESCRIPTION:Join us for live music in downtown Winters on Main Street. The Chamber of Commerce is proud to present local musicians to play every Friday from 6:30PM-9PM. Check out Discover Winters Instagram to stay up to date!
URL:https://artsalliancedavis.org/event/friday-night-music-in-downtown-winters-9/
LOCATION:Downtown Winters
CATEGORIES:Community,Music,Outside
ATTACH;FMTTYPE=image/jpeg:https://artsalliancedavis.org/wp-content/uploads/2025/08/live-music-downtown-winters-voyDiS.jpg
END:VEVENT
BEGIN:VEVENT
DTSTART;TZID=America/Los_Angeles:20251024T183000
DTEND;TZID=America/Los_Angeles:20251024T210000
DTSTAMP:20260424T005435
CREATED:20250825T152036Z
LAST-MODIFIED:20250825T152036Z
UID:20471-1761330600-1761339600@artsalliancedavis.org
SUMMARY:Friday Night Music in Downtown Winters
DESCRIPTION:Join us for live music in downtown Winters on Main Street. The Chamber of Commerce is proud to present local musicians to play every Friday from 6:30PM-9PM. Check out Discover Winters Instagram to stay up to date!
URL:https://artsalliancedavis.org/event/friday-night-music-in-downtown-winters-10/
LOCATION:Downtown Winters
CATEGORIES:Community,Music,Outside
ATTACH;FMTTYPE=image/jpeg:https://artsalliancedavis.org/wp-content/uploads/2025/08/live-music-downtown-winters-voyDiS.jpg
END:VEVENT
BEGIN:VEVENT
DTSTART;TZID=America/Los_Angeles:20251031T183000
DTEND;TZID=America/Los_Angeles:20251031T210000
DTSTAMP:20260424T005435
CREATED:20250825T152243Z
LAST-MODIFIED:20250825T152243Z
UID:20538-1761935400-1761944400@artsalliancedavis.org
SUMMARY:Friday Night Music in Downtown Winters
DESCRIPTION:Join us for live music in downtown Winters on Main Street. The Chamber of Commerce is proud to present local musicians to play every Friday from 6:30PM-9PM. Check out Discover Winters Instagram to stay up to date!
URL:https://artsalliancedavis.org/event/friday-night-music-in-downtown-winters-11/
LOCATION:Downtown Winters
CATEGORIES:Community,Music,Outside
ATTACH;FMTTYPE=image/jpeg:https://artsalliancedavis.org/wp-content/uploads/2025/08/live-music-downtown-winters-voyDiS.jpg
END:VEVENT
END:VCALENDAR