BEGIN:VCALENDAR
VERSION:2.0
PRODID:-//Arts Alliance Davis - ECPv6.15.20//NONSGML v1.0//EN
CALSCALE:GREGORIAN
METHOD:PUBLISH
X-WR-CALNAME:Arts Alliance Davis
X-ORIGINAL-URL:https://artsalliancedavis.org
X-WR-CALDESC:Events for Arts Alliance Davis
REFRESH-INTERVAL;VALUE=DURATION:PT1H
X-Robots-Tag:noindex
X-PUBLISHED-TTL:PT1H
BEGIN:VTIMEZONE
TZID:America/Los_Angeles
BEGIN:DAYLIGHT
TZOFFSETFROM:-0800
TZOFFSETTO:-0700
TZNAME:PDT
DTSTART:20230312T100000
END:DAYLIGHT
BEGIN:STANDARD
TZOFFSETFROM:-0700
TZOFFSETTO:-0800
TZNAME:PST
DTSTART:20231105T090000
END:STANDARD
BEGIN:DAYLIGHT
TZOFFSETFROM:-0800
TZOFFSETTO:-0700
TZNAME:PDT
DTSTART:20240310T100000
END:DAYLIGHT
BEGIN:STANDARD
TZOFFSETFROM:-0700
TZOFFSETTO:-0800
TZNAME:PST
DTSTART:20241103T090000
END:STANDARD
BEGIN:DAYLIGHT
TZOFFSETFROM:-0800
TZOFFSETTO:-0700
TZNAME:PDT
DTSTART:20250309T100000
END:DAYLIGHT
BEGIN:STANDARD
TZOFFSETFROM:-0700
TZOFFSETTO:-0800
TZNAME:PST
DTSTART:20251102T090000
END:STANDARD
END:VTIMEZONE
BEGIN:VEVENT
DTSTART;TZID=America/Los_Angeles:20241203T193000
DTEND;TZID=America/Los_Angeles:20241203T223000
DTSTAMP:20260424T201551
CREATED:20240904T182725Z
LAST-MODIFIED:20240904T182725Z
UID:14486-1733254200-1733265000@artsalliancedavis.org
SUMMARY:Live Jazz: Jim Frink Trio
DESCRIPTION:Jim Frink is an active drummer and educator based in Davis. The jazz trio plays improvisational music\, ranging from standards\, to modern jazz\, to balkan folk and beyond. \nThis event takes place every 1st and 3rd Tuesday of the month – 7:30-10:30pm
URL:https://artsalliancedavis.org/event/live-jazz-jim-frink-trio-34/
LOCATION:Root of Happiness Kava Bar
CATEGORIES:Music
ATTACH;FMTTYPE=image/jpeg:https://artsalliancedavis.org/wp-content/uploads/2023/10/Kava20Bar20Flyer-xddb0O.tmp_.jpg
END:VEVENT
BEGIN:VEVENT
DTSTART;TZID=America/Los_Angeles:20241207T180000
DTEND;TZID=America/Los_Angeles:20241207T200000
DTSTAMP:20260424T201551
CREATED:20241203T235409Z
LAST-MODIFIED:20241203T235409Z
UID:16249-1733594400-1733601600@artsalliancedavis.org
SUMMARY:Video Game Orchestra: Through the Ages
DESCRIPTION:The Video Game Orchestra at UC Davis was founded in 2017 with the goal of allowing college musicians to explore the wonders of video game music. What started out as a small group of 9 musicians has now grown into a community of more than 100 members! All of our members are current students or alumni of UC Davis\, and all of our pieces are arranged by our own members. Each quarter\, we select a theme for our concert that explores a genre of video games\, allowing us to cover a diverse array of games throughout the year. In past concerts\, we have played pieces from games such as Final Fantasy XVI\, Genshin Impact\, Hollow Knight\, Pokémon\, and more. \nJoin us on Saturday\, December 7th at 6:00 PM as we go “Through the Ages” to experience the eras of history through video game music\, including pieces from beloved games such as Cuphead\, Assassin’s Creed IV: Black Flag\, Sid Meier’s Civilization VI\, and more! \nEveryone is welcome! \n 
URL:https://artsalliancedavis.org/event/video-game-orchestra-through-the-ages/
LOCATION:Jackson Hall\, Mondavi Center
CATEGORIES:Art,Games,Music
ATTACH;FMTTYPE=image/jpeg:https://artsalliancedavis.org/wp-content/uploads/2024/12/featured-image_20241023_202644_0000-VevCts.tmp_.jpg
ORGANIZER;CN="Video Game Orchestra at UCD":MAILTO:vgoatucd@gmail.com
END:VEVENT
BEGIN:VEVENT
DTSTART;TZID=America/Los_Angeles:20241217T193000
DTEND;TZID=America/Los_Angeles:20241217T223000
DTSTAMP:20260424T201551
CREATED:20240918T224221Z
LAST-MODIFIED:20240918T224221Z
UID:14692-1734463800-1734474600@artsalliancedavis.org
SUMMARY:Live Jazz: Jim Frink Trio
DESCRIPTION:Jim Frink is an active drummer and educator based in Davis. The jazz trio plays improvisational music\, ranging from standards\, to modern jazz\, to balkan folk and beyond. \nThis event takes place every 1st and 3rd Tuesday of the month – 7:30-10:30pm
URL:https://artsalliancedavis.org/event/live-jazz-jim-frink-trio-35/
LOCATION:Root of Happiness Kava Bar
CATEGORIES:Music
ATTACH;FMTTYPE=image/jpeg:https://artsalliancedavis.org/wp-content/uploads/2023/10/Kava20Bar20Flyer-xddb0O.tmp_.jpg
END:VEVENT
END:VCALENDAR