BEGIN:VCALENDAR
VERSION:2.0
PRODID:-//Arts Alliance Davis - ECPv6.15.20//NONSGML v1.0//EN
CALSCALE:GREGORIAN
METHOD:PUBLISH
X-ORIGINAL-URL:https://artsalliancedavis.org
X-WR-CALDESC:Events for Arts Alliance Davis
REFRESH-INTERVAL;VALUE=DURATION:PT1H
X-Robots-Tag:noindex
X-PUBLISHED-TTL:PT1H
BEGIN:VTIMEZONE
TZID:America/Los_Angeles
BEGIN:DAYLIGHT
TZOFFSETFROM:-0800
TZOFFSETTO:-0700
TZNAME:PDT
DTSTART:20240310T100000
END:DAYLIGHT
BEGIN:STANDARD
TZOFFSETFROM:-0700
TZOFFSETTO:-0800
TZNAME:PST
DTSTART:20241103T090000
END:STANDARD
BEGIN:DAYLIGHT
TZOFFSETFROM:-0800
TZOFFSETTO:-0700
TZNAME:PDT
DTSTART:20250309T100000
END:DAYLIGHT
BEGIN:STANDARD
TZOFFSETFROM:-0700
TZOFFSETTO:-0800
TZNAME:PST
DTSTART:20251102T090000
END:STANDARD
BEGIN:DAYLIGHT
TZOFFSETFROM:-0800
TZOFFSETTO:-0700
TZNAME:PDT
DTSTART:20260308T100000
END:DAYLIGHT
BEGIN:STANDARD
TZOFFSETFROM:-0700
TZOFFSETTO:-0800
TZNAME:PST
DTSTART:20261101T090000
END:STANDARD
END:VTIMEZONE
BEGIN:VEVENT
DTSTART;TZID=America/Los_Angeles:20250204T193000
DTEND;TZID=America/Los_Angeles:20250204T223000
DTSTAMP:20260424T160456
CREATED:20241107T165116Z
LAST-MODIFIED:20241107T165116Z
UID:16032-1738697400-1738708200@artsalliancedavis.org
SUMMARY:Live Jazz: Jim Frink Trio
DESCRIPTION:Jim Frink is an active drummer and educator based in Davis. The jazz trio plays improvisational music\, ranging from standards\, to modern jazz\, to balkan folk and beyond. \nThis event takes place every 1st and 3rd Tuesday of the month – 7:30-10:30pm
URL:https://artsalliancedavis.org/event/live-jazz-jim-frink-trio-40/
LOCATION:Root of Happiness Kava Bar
CATEGORIES:Music
ATTACH;FMTTYPE=image/jpeg:https://artsalliancedavis.org/wp-content/uploads/2023/10/Kava20Bar20Flyer-xddb0O.tmp_.jpg
END:VEVENT
BEGIN:VEVENT
DTSTART;TZID=America/Los_Angeles:20250215T113000
DTEND;TZID=America/Los_Angeles:20250215T160000
DTSTAMP:20260424T160456
CREATED:20250125T165037Z
LAST-MODIFIED:20250125T165037Z
UID:17313-1739619000-1739635200@artsalliancedavis.org
SUMMARY:Valentine’s Saturday
DESCRIPTION:Celebrate Valentine’s weekend at Grindstone! \nDuo Sonics live music and wood-fired pizza from Compas Catering 12-3 pm! The perfect Saturday at Grindstone. \n 
URL:https://artsalliancedavis.org/event/valentines-saturday/
LOCATION:Grindstone Wines\, 12700 County Road 89\, Esparto\, California\, 95627
CATEGORIES:Food & Drink
ATTACH;FMTTYPE=image/jpeg:https://artsalliancedavis.org/wp-content/uploads/2025/01/2A2C94B2-2417-450D-9E5B-80C8D32F1D2E-wqNgO7.tmp_.jpg
ORGANIZER;CN="Grindstone Wines":MAILTO:molly@chamisalcreek.com
END:VEVENT
BEGIN:VEVENT
DTSTART;TZID=America/Los_Angeles:20250218T193000
DTEND;TZID=America/Los_Angeles:20250218T223000
DTSTAMP:20260424T160456
CREATED:20241120T205730Z
LAST-MODIFIED:20241120T205730Z
UID:16183-1739907000-1739917800@artsalliancedavis.org
SUMMARY:Live Jazz: Jim Frink Trio
DESCRIPTION:Jim Frink is an active drummer and educator based in Davis. The jazz trio plays improvisational music\, ranging from standards\, to modern jazz\, to balkan folk and beyond. \nThis event takes place every 1st and 3rd Tuesday of the month – 7:30-10:30pm
URL:https://artsalliancedavis.org/event/live-jazz-jim-frink-trio-41/
LOCATION:Root of Happiness Kava Bar
CATEGORIES:Music
ATTACH;FMTTYPE=image/jpeg:https://artsalliancedavis.org/wp-content/uploads/2023/10/Kava20Bar20Flyer-xddb0O.tmp_.jpg
END:VEVENT
BEGIN:VEVENT
DTSTART;TZID=America/Los_Angeles:20250221T190000
DTEND;TZID=America/Los_Angeles:20250221T210000
DTSTAMP:20260424T160456
CREATED:20250210T202122Z
LAST-MODIFIED:20250210T202122Z
UID:17709-1740164400-1740171600@artsalliancedavis.org
SUMMARY:Dave Nachmanoff & The Usual Culprits at The Side Door in Sacramento February 21st
DESCRIPTION:THE SIDE DOOR. SACRAMENTO\, CA. Singer-songwriter Dave Nachmanoff\, known for his compelling lyrics and captivating stage presence\, will perform live with his band\, The Usual Culprits\, at The Side Door in Sacramento on February 21st. This show will showcase Nachmanoff’s unique blend of folk\, rock\, and Americana. Tickets for the February 21st show are available now at davenach.com/shows. Doors open at 6:30 pm with the performance beginning at 7:00 pm.  The Side Door is located at 2900 4th Avenue\, Sacramento\, CA. 7p – 9p. 
URL:https://artsalliancedavis.org/event/dave-nachmanoff-the-usual-culprits-at-the-side-door-in-sacramento-february-21st/
LOCATION:The Side Door\, 2900 4th Ave\,\, Sacramento\, C\, 95818\, United States
CATEGORIES:Music
ATTACH;FMTTYPE=image/jpeg:https://artsalliancedavis.org/wp-content/uploads/2025/02/DN-PR-3-pDM70M.tmp_.jpg
END:VEVENT
BEGIN:VEVENT
DTSTART;TZID=America/Los_Angeles:20250222T180000
DTEND;TZID=America/Los_Angeles:20250222T200000
DTSTAMP:20260424T160456
CREATED:20250210T202139Z
LAST-MODIFIED:20250210T202139Z
UID:17711-1740247200-1740254400@artsalliancedavis.org
SUMMARY:Alex Jenkins Trio House Concert
DESCRIPTION:THE BLUE ROSE. Woodland\, CA. Join acclaimed percussionist Alex Jenkins\, along with Andre Fylling (Piano) & Alex Reiff (Bass)\, as they take a musical journey exploring genres from Brazil & the Caribbean as well as strait ahead & modern Jazz. These Sacramento musicians are top notch\, truly creative\, & promise an evening full of beautiful surprises. Jenkins’ latest trio record\, “Black Bird” received a 4 star review in the music publication\, “All About Jazz”\, & has been played on radio stations across the country.  Ticket includes complimentary drinks and light refreshments. $30. 6p – 8p.
URL:https://artsalliancedavis.org/event/alex-jenkins-trio-house-concert/
LOCATION:The Blue Rose\, WOODLAND\, CA\, 95616\, United States
CATEGORIES:Music
ATTACH;FMTTYPE=image/jpeg:https://artsalliancedavis.org/wp-content/uploads/2025/02/Alex-Jenkins-Trio-Feb-22-YoUapb.tmp_.jpg
ORGANIZER;CN="Erica Cefalo":MAILTO:emcefalo@ucdavis.edu
END:VEVENT
END:VCALENDAR