BEGIN:VCALENDAR
VERSION:2.0
PRODID:-//Arts Alliance Davis - ECPv6.15.20//NONSGML v1.0//EN
CALSCALE:GREGORIAN
METHOD:PUBLISH
X-ORIGINAL-URL:https://artsalliancedavis.org
X-WR-CALDESC:Events for Arts Alliance Davis
REFRESH-INTERVAL;VALUE=DURATION:PT1H
X-Robots-Tag:noindex
X-PUBLISHED-TTL:PT1H
BEGIN:VTIMEZONE
TZID:America/Los_Angeles
BEGIN:DAYLIGHT
TZOFFSETFROM:-0800
TZOFFSETTO:-0700
TZNAME:PDT
DTSTART:20240310T100000
END:DAYLIGHT
BEGIN:STANDARD
TZOFFSETFROM:-0700
TZOFFSETTO:-0800
TZNAME:PST
DTSTART:20241103T090000
END:STANDARD
BEGIN:DAYLIGHT
TZOFFSETFROM:-0800
TZOFFSETTO:-0700
TZNAME:PDT
DTSTART:20250309T100000
END:DAYLIGHT
BEGIN:STANDARD
TZOFFSETFROM:-0700
TZOFFSETTO:-0800
TZNAME:PST
DTSTART:20251102T090000
END:STANDARD
BEGIN:DAYLIGHT
TZOFFSETFROM:-0800
TZOFFSETTO:-0700
TZNAME:PDT
DTSTART:20260308T100000
END:DAYLIGHT
BEGIN:STANDARD
TZOFFSETFROM:-0700
TZOFFSETTO:-0800
TZNAME:PST
DTSTART:20261101T090000
END:STANDARD
END:VTIMEZONE
BEGIN:VEVENT
DTSTART;TZID=America/Los_Angeles:20250304T193000
DTEND;TZID=America/Los_Angeles:20250304T223000
DTSTAMP:20260424T144226
CREATED:20241205T112845Z
LAST-MODIFIED:20241205T112845Z
UID:16426-1741116600-1741127400@artsalliancedavis.org
SUMMARY:Live Jazz: Jim Frink Trio
DESCRIPTION:Jim Frink is an active drummer and educator based in Davis. The jazz trio plays improvisational music\, ranging from standards\, to modern jazz\, to balkan folk and beyond. \nThis event takes place every 1st and 3rd Tuesday of the month – 7:30-10:30pm
URL:https://artsalliancedavis.org/event/live-jazz-jim-frink-trio-42/
LOCATION:Root of Happiness Kava Bar
CATEGORIES:Music
ATTACH;FMTTYPE=image/jpeg:https://artsalliancedavis.org/wp-content/uploads/2023/10/Kava20Bar20Flyer-xddb0O.tmp_.jpg
END:VEVENT
BEGIN:VEVENT
DTSTART;TZID=America/Los_Angeles:20250318T193000
DTEND;TZID=America/Los_Angeles:20250318T223000
DTSTAMP:20260424T144226
CREATED:20241218T160841Z
LAST-MODIFIED:20241218T160841Z
UID:16607-1742326200-1742337000@artsalliancedavis.org
SUMMARY:Live Jazz: Jim Frink Trio
DESCRIPTION:Jim Frink is an active drummer and educator based in Davis. The jazz trio plays improvisational music\, ranging from standards\, to modern jazz\, to balkan folk and beyond. \nThis event takes place every 1st and 3rd Tuesday of the month – 7:30-10:30pm
URL:https://artsalliancedavis.org/event/live-jazz-jim-frink-trio-43/
LOCATION:Root of Happiness Kava Bar
CATEGORIES:Music
ATTACH;FMTTYPE=image/jpeg:https://artsalliancedavis.org/wp-content/uploads/2023/10/Kava20Bar20Flyer-xddb0O.tmp_.jpg
END:VEVENT
BEGIN:VEVENT
DTSTART;TZID=America/Los_Angeles:20250325T190000
DTEND;TZID=America/Los_Angeles:20250325T210000
DTSTAMP:20260424T144226
CREATED:20250313T160504Z
LAST-MODIFIED:20250313T160504Z
UID:18202-1742929200-1742936400@artsalliancedavis.org
SUMMARY:Performers’ Circle: Chris Pilon (rescheduled)
DESCRIPTION:ODD FELLOWS HALL. Chris is celebrating his recent release\, “A Family Album\,” engineered & co-produced by Steve O’Neill at internationally renowned Foxtail Sound in Dixon. The Village Homes Performers’ Circle is a free event that welcomes performers of all levels as well as audience members who simply come to enjoy the performances. No tickets or reservations are required. 7p – 9p.
URL:https://artsalliancedavis.org/event/performers-circle-chris-pilon-rescheduled/
LOCATION:Odd Fellows Hall (Odd Fellows)\, 415 2nd St.\, Davis\, CA\, 95616\, United States
CATEGORIES:Music
ATTACH;FMTTYPE=image/jpeg:https://artsalliancedavis.org/wp-content/uploads/2025/03/chrispilon_low-res-vXDMZG.tmp_.jpg
ORGANIZER;CN="Wendy SIlk":MAILTO:wendy.silk@gmail.com
END:VEVENT
END:VCALENDAR