BEGIN:VCALENDAR
VERSION:2.0
PRODID:-//Arts Alliance Davis - ECPv6.15.20//NONSGML v1.0//EN
CALSCALE:GREGORIAN
METHOD:PUBLISH
X-ORIGINAL-URL:https://artsalliancedavis.org
X-WR-CALDESC:Events for Arts Alliance Davis
REFRESH-INTERVAL;VALUE=DURATION:PT1H
X-Robots-Tag:noindex
X-PUBLISHED-TTL:PT1H
BEGIN:VTIMEZONE
TZID:America/Los_Angeles
BEGIN:DAYLIGHT
TZOFFSETFROM:-0800
TZOFFSETTO:-0700
TZNAME:PDT
DTSTART:20240310T100000
END:DAYLIGHT
BEGIN:STANDARD
TZOFFSETFROM:-0700
TZOFFSETTO:-0800
TZNAME:PST
DTSTART:20241103T090000
END:STANDARD
BEGIN:DAYLIGHT
TZOFFSETFROM:-0800
TZOFFSETTO:-0700
TZNAME:PDT
DTSTART:20250309T100000
END:DAYLIGHT
BEGIN:STANDARD
TZOFFSETFROM:-0700
TZOFFSETTO:-0800
TZNAME:PST
DTSTART:20251102T090000
END:STANDARD
BEGIN:DAYLIGHT
TZOFFSETFROM:-0800
TZOFFSETTO:-0700
TZNAME:PDT
DTSTART:20260308T100000
END:DAYLIGHT
BEGIN:STANDARD
TZOFFSETFROM:-0700
TZOFFSETTO:-0800
TZNAME:PST
DTSTART:20261101T090000
END:STANDARD
END:VTIMEZONE
BEGIN:VEVENT
DTSTART;TZID=America/Los_Angeles:20250506T193000
DTEND;TZID=America/Los_Angeles:20250506T223000
DTSTAMP:20260424T110831
CREATED:20250209T201211Z
LAST-MODIFIED:20250209T201211Z
UID:17669-1746559800-1746570600@artsalliancedavis.org
SUMMARY:Live Jazz: Jim Frink Trio
DESCRIPTION:Jim Frink is an active drummer and educator based in Davis. The jazz trio plays improvisational music\, ranging from standards\, to modern jazz\, to balkan folk and beyond. \nThis event takes place every 1st and 3rd Tuesday of the month – 7:30-10:30pm
URL:https://artsalliancedavis.org/event/live-jazz-jim-frink-trio-46/
LOCATION:Root of Happiness Kava Bar
CATEGORIES:Music
ATTACH;FMTTYPE=image/jpeg:https://artsalliancedavis.org/wp-content/uploads/2023/10/Kava20Bar20Flyer-xddb0O.tmp_.jpg
END:VEVENT
BEGIN:VEVENT
DTSTART;TZID=America/Los_Angeles:20250520T193000
DTEND;TZID=America/Los_Angeles:20250520T223000
DTSTAMP:20260424T110831
CREATED:20250311T153058Z
LAST-MODIFIED:20250311T153058Z
UID:18075-1747769400-1747780200@artsalliancedavis.org
SUMMARY:Live Jazz: Jim Frink Trio
DESCRIPTION:Jim Frink is an active drummer and educator based in Davis. The jazz trio plays improvisational music\, ranging from standards\, to modern jazz\, to balkan folk and beyond. \nThis event takes place every 1st and 3rd Tuesday of the month – 7:30-10:30pm
URL:https://artsalliancedavis.org/event/live-jazz-jim-frink-trio-47/
LOCATION:Root of Happiness Kava Bar
CATEGORIES:Music
ATTACH;FMTTYPE=image/jpeg:https://artsalliancedavis.org/wp-content/uploads/2023/10/Kava20Bar20Flyer-xddb0O.tmp_.jpg
END:VEVENT
BEGIN:VEVENT
DTSTART;TZID=America/Los_Angeles:20250530T180000
DTEND;TZID=America/Los_Angeles:20250530T220000
DTSTAMP:20260424T110831
CREATED:20250419T192822Z
LAST-MODIFIED:20250419T192822Z
UID:19039-1748628000-1748642400@artsalliancedavis.org
SUMMARY:Rainbow City Park @ Tri Coops
DESCRIPTION:Velvet Red Productions presents Rainbow City Park\, Carport\, Quarter Conscious\, and Topeka Clementine \nIndie rock show at the Tri Coops (550 Regan Hall Circle\, Davis) \nAll Ages \n$15 NOTAFLOF \n  \n 
URL:https://artsalliancedavis.org/event/rainbow-city-park-tri-coops/
LOCATION:Tri Coops\, 550 Regan Hall Circle\, Davis\, C\, 95616\, United States
CATEGORIES:Art,Community,Music
ATTACH;FMTTYPE=image/jpeg:https://artsalliancedavis.org/wp-content/uploads/2018/10/orange-white-aad-logo.jpg
ORGANIZER;CN="rainbow city park":MAILTO:rainbowcitypark@gmail.com
END:VEVENT
END:VCALENDAR