BEGIN:VCALENDAR
VERSION:2.0
PRODID:-//Arts Alliance Davis - ECPv6.15.20//NONSGML v1.0//EN
CALSCALE:GREGORIAN
METHOD:PUBLISH
X-WR-CALNAME:Arts Alliance Davis
X-ORIGINAL-URL:https://artsalliancedavis.org
X-WR-CALDESC:Events for Arts Alliance Davis
REFRESH-INTERVAL;VALUE=DURATION:PT1H
X-Robots-Tag:noindex
X-PUBLISHED-TTL:PT1H
BEGIN:VTIMEZONE
TZID:America/Los_Angeles
BEGIN:DAYLIGHT
TZOFFSETFROM:-0800
TZOFFSETTO:-0700
TZNAME:PDT
DTSTART:20250309T100000
END:DAYLIGHT
BEGIN:STANDARD
TZOFFSETFROM:-0700
TZOFFSETTO:-0800
TZNAME:PST
DTSTART:20251102T090000
END:STANDARD
BEGIN:DAYLIGHT
TZOFFSETFROM:-0800
TZOFFSETTO:-0700
TZNAME:PDT
DTSTART:20260308T100000
END:DAYLIGHT
BEGIN:STANDARD
TZOFFSETFROM:-0700
TZOFFSETTO:-0800
TZNAME:PST
DTSTART:20261101T090000
END:STANDARD
BEGIN:DAYLIGHT
TZOFFSETFROM:-0800
TZOFFSETTO:-0700
TZNAME:PDT
DTSTART:20270314T100000
END:DAYLIGHT
BEGIN:STANDARD
TZOFFSETFROM:-0700
TZOFFSETTO:-0800
TZNAME:PST
DTSTART:20271107T090000
END:STANDARD
END:VTIMEZONE
BEGIN:VEVENT
DTSTART;TZID=America/Los_Angeles:20260425T100000
DTEND;TZID=America/Los_Angeles:20260425T140000
DTSTAMP:20260423T084716
CREATED:20260406T175500Z
LAST-MODIFIED:20260406T175500Z
UID:24624-1777111200-1777125600@artsalliancedavis.org
SUMMARY:Davis Madrigals K-6th Springtime Choral Workshop
DESCRIPTION:Join the Davis High School Madrigal Singers for a Morning of Music\, Games\, Snacks and Fun!\nSaturday\, April 25th 10:00 a.m.-2:00 p.m.  Cost: $40\nSnacks Provided\, Please Bring a Bag Lunch\nA Concert for Parents/Guardians follows from 1:45-2:00 p.m.\nLocation: Richard Brunelle Performing Arts Building\, Davis Senior High School \nMore Information at: www.davismadrigals.org/choral-workshops\nRegister at: https://davismadrigals.ludus.com/20051648 \n 
URL:https://artsalliancedavis.org/event/davis-madrigals-k-6th-springtime-choral-workshop/
LOCATION:Richard Brunelle Performance Hall\, 315 W 14th Street\, Davis\, CA\, 95616\, United States
CATEGORIES:Music
ATTACH;FMTTYPE=image/png:https://artsalliancedavis.org/wp-content/uploads/2026/04/Screen-Shot-2026-01-26-at-10.36.31-PM-D254IV.png
END:VEVENT
END:VCALENDAR