BEGIN:VCALENDAR
VERSION:2.0
PRODID:-//Arts Alliance Davis - ECPv6.15.20//NONSGML v1.0//EN
CALSCALE:GREGORIAN
METHOD:PUBLISH
X-WR-CALNAME:Arts Alliance Davis
X-ORIGINAL-URL:https://artsalliancedavis.org
X-WR-CALDESC:Events for Arts Alliance Davis
REFRESH-INTERVAL;VALUE=DURATION:PT1H
X-Robots-Tag:noindex
X-PUBLISHED-TTL:PT1H
BEGIN:VTIMEZONE
TZID:America/Los_Angeles
BEGIN:DAYLIGHT
TZOFFSETFROM:-0800
TZOFFSETTO:-0700
TZNAME:PDT
DTSTART:20240310T100000
END:DAYLIGHT
BEGIN:STANDARD
TZOFFSETFROM:-0700
TZOFFSETTO:-0800
TZNAME:PST
DTSTART:20241103T090000
END:STANDARD
BEGIN:DAYLIGHT
TZOFFSETFROM:-0800
TZOFFSETTO:-0700
TZNAME:PDT
DTSTART:20250309T100000
END:DAYLIGHT
BEGIN:STANDARD
TZOFFSETFROM:-0700
TZOFFSETTO:-0800
TZNAME:PST
DTSTART:20251102T090000
END:STANDARD
BEGIN:DAYLIGHT
TZOFFSETFROM:-0800
TZOFFSETTO:-0700
TZNAME:PDT
DTSTART:20260308T100000
END:DAYLIGHT
BEGIN:STANDARD
TZOFFSETFROM:-0700
TZOFFSETTO:-0800
TZNAME:PST
DTSTART:20261101T090000
END:STANDARD
END:VTIMEZONE
BEGIN:VEVENT
DTSTART;TZID=America/Los_Angeles:20250830T160000
DTEND;TZID=America/Los_Angeles:20250830T170000
DTSTAMP:20260424T033150
CREATED:20250821T142219Z
LAST-MODIFIED:20250821T142219Z
UID:19689-1756569600-1756573200@artsalliancedavis.org
SUMMARY:Summer Sound Bath Event
DESCRIPTION:Please join Mei and enjoy an amazing Sound Bath experience at the beautiful space of Barefoot. Sound bath is an ancient practice designed to bring deep relaxation and meditation. It uses a variety of instruments\, including Himalayan singing bowls\, crystal bowls\, gongs\, chimes\, and human voice\, to create a landscape of sound that washes over you. Just lie down\, close your eyes\, and let the sound waves bring you to a deep sense of meditative relaxation. \nNo experience is needed\, bring your yoga mat\, and eye pillow and enjoy!\n\nDate\, Time and Theme of each Summer events:\n8/9 4pm Full Moon Clarity\n8/9 8pm Sunset Deep Relax\n8/30 4pm Weekend Reset\n8/30 8pm Sunset Deep Relax\nFee:$30 pre-reg/ $35 at the door
URL:https://artsalliancedavis.org/event/summer-sound-bath-event/
LOCATION:Barefoot Yoga Studio Davis\, 1015 Olive Dr\,\, Davis\, 95616\, United States
CATEGORIES:Community,Fitness,Music
ATTACH;FMTTYPE=image/jpeg:https://artsalliancedavis.org/wp-content/uploads/2018/10/orange-white-aad-logo.jpg
ORGANIZER;CN="Barefoot Yoga Studio Davis":MAILTO:info@barefootyogadavis.com
END:VEVENT
BEGIN:VEVENT
DTSTART;TZID=America/Los_Angeles:20250830T200000
DTEND;TZID=America/Los_Angeles:20250830T210000
DTSTAMP:20260424T033150
CREATED:20250821T142220Z
LAST-MODIFIED:20250821T142220Z
UID:19691-1756584000-1756587600@artsalliancedavis.org
SUMMARY:Summer Sound Bath Event
DESCRIPTION:Please join Mei and enjoy an amazing Sound Bath experience at the beautiful space of Barefoot. Sound bath is an ancient practice designed to bring deep relaxation and meditation. It uses a variety of instruments\, including Himalayan singing bowls\, crystal bowls\, gongs\, chimes\, and human voice\, to create a landscape of sound that washes over you. Just lie down\, close your eyes\, and let the sound waves bring you to a deep sense of meditative relaxation. \nNo experience is needed\, bring your yoga mat\, and eye pillow and enjoy!\n\nDate\, Time and Theme of each Summer events:\n8/9 4pm Full Moon Clarity\n8/9 8pm Sunset Deep Relax\n8/30 4pm Weekend Reset\n8/30 8pm Sunset Deep Relax\nFee:$30 pre-reg/ $35 at the door
URL:https://artsalliancedavis.org/event/summer-sound-bath-event-2/
LOCATION:Barefoot Yoga Studio Davis\, 1015 Olive Dr\,\, Davis\, 95616\, United States
CATEGORIES:Community,Fitness,Music
ATTACH;FMTTYPE=image/jpeg:https://artsalliancedavis.org/wp-content/uploads/2018/10/orange-white-aad-logo.jpg
ORGANIZER;CN="Barefoot Yoga Studio Davis":MAILTO:info@barefootyogadavis.com
END:VEVENT
END:VCALENDAR