BEGIN:VCALENDAR
VERSION:2.0
PRODID:-//Arts Alliance Davis - ECPv6.15.20//NONSGML v1.0//EN
CALSCALE:GREGORIAN
METHOD:PUBLISH
X-WR-CALNAME:Arts Alliance Davis
X-ORIGINAL-URL:https://artsalliancedavis.org
X-WR-CALDESC:Events for Arts Alliance Davis
REFRESH-INTERVAL;VALUE=DURATION:PT1H
X-Robots-Tag:noindex
X-PUBLISHED-TTL:PT1H
BEGIN:VTIMEZONE
TZID:America/Los_Angeles
BEGIN:DAYLIGHT
TZOFFSETFROM:-0800
TZOFFSETTO:-0700
TZNAME:PDT
DTSTART:20250309T100000
END:DAYLIGHT
BEGIN:STANDARD
TZOFFSETFROM:-0700
TZOFFSETTO:-0800
TZNAME:PST
DTSTART:20251102T090000
END:STANDARD
BEGIN:DAYLIGHT
TZOFFSETFROM:-0800
TZOFFSETTO:-0700
TZNAME:PDT
DTSTART:20260308T100000
END:DAYLIGHT
BEGIN:STANDARD
TZOFFSETFROM:-0700
TZOFFSETTO:-0800
TZNAME:PST
DTSTART:20261101T090000
END:STANDARD
BEGIN:DAYLIGHT
TZOFFSETFROM:-0800
TZOFFSETTO:-0700
TZNAME:PDT
DTSTART:20270314T100000
END:DAYLIGHT
BEGIN:STANDARD
TZOFFSETFROM:-0700
TZOFFSETTO:-0800
TZNAME:PST
DTSTART:20271107T090000
END:STANDARD
END:VTIMEZONE
BEGIN:VEVENT
DTSTART;TZID=America/Los_Angeles:20260207T083000
DTEND;TZID=America/Los_Angeles:20260207T123000
DTSTAMP:20260423T163935
CREATED:20251110T112553Z
LAST-MODIFIED:20251110T112553Z
UID:22153-1770453000-1770467400@artsalliancedavis.org
SUMMARY:Learn to Meditate
DESCRIPTION:Join us for four Saturday mornings in September to learn a simple yet profound meditation practice that is grounded in the ancient Tibetan teachings of Shambhala.  Centered on the notion of basic goodness\, these teachings and practices are meant for times of joy and also times that are unsettling and difficult.  They describe how people can actually make use of tenderness\, sadness\, and fear to access an open awareness that is clear seeing\, steady and kind.  Each Saturday morning session (9-Noon) will include talks\, guided meditation instruction\, small discussion groups and a tea break.   All levels of practice welcome.   If you have an established meditation practice you will appreciate the retreat like environment and opportunity to meditate in community with what Suzuki Roshi called “beginner’s mind”.  The leader for the weekend is Lyle Larson who has been practicing and studying Buddhism and Shambhala paths since 1981. He is especially interested in  how these profound ancient teachings apply to everyday life in our highly polarized aggressive world. His latest path emphasis has been on applying the teachings and practices of simply being present and deep empathetic listening.
URL:https://artsalliancedavis.org/event/learn-to-meditate-27/
LOCATION:Davis Shambhala Meditation Center\, 133 D Street\, Suite H\, upstairs\, Davis\, CA\, 95616\, United States
CATEGORIES:Books & Talks
ATTACH;FMTTYPE=image/jpeg:https://artsalliancedavis.org/wp-content/uploads/2018/10/orange-white-aad-logo.jpg
END:VEVENT
BEGIN:VEVENT
DTSTART;TZID=America/Los_Angeles:20260214T083000
DTEND;TZID=America/Los_Angeles:20260214T123000
DTSTAMP:20260423T163935
CREATED:20251116T142427Z
LAST-MODIFIED:20251116T142427Z
UID:22275-1771057800-1771072200@artsalliancedavis.org
SUMMARY:Learn to Meditate
DESCRIPTION:Join us for four Saturday mornings in September to learn a simple yet profound meditation practice that is grounded in the ancient Tibetan teachings of Shambhala.  Centered on the notion of basic goodness\, these teachings and practices are meant for times of joy and also times that are unsettling and difficult.  They describe how people can actually make use of tenderness\, sadness\, and fear to access an open awareness that is clear seeing\, steady and kind.  Each Saturday morning session (9-Noon) will include talks\, guided meditation instruction\, small discussion groups and a tea break.   All levels of practice welcome.   If you have an established meditation practice you will appreciate the retreat like environment and opportunity to meditate in community with what Suzuki Roshi called “beginner’s mind”.  The leader for the weekend is Lyle Larson who has been practicing and studying Buddhism and Shambhala paths since 1981. He is especially interested in  how these profound ancient teachings apply to everyday life in our highly polarized aggressive world. His latest path emphasis has been on applying the teachings and practices of simply being present and deep empathetic listening.
URL:https://artsalliancedavis.org/event/learn-to-meditate-28/
LOCATION:Davis Shambhala Meditation Center\, 133 D Street\, Suite H\, upstairs\, Davis\, CA\, 95616\, United States
CATEGORIES:Books & Talks
ATTACH;FMTTYPE=image/jpeg:https://artsalliancedavis.org/wp-content/uploads/2018/10/orange-white-aad-logo.jpg
END:VEVENT
END:VCALENDAR