BEGIN:VCALENDAR
VERSION:2.0
PRODID:-//Arts Alliance Davis - ECPv6.15.20//NONSGML v1.0//EN
CALSCALE:GREGORIAN
METHOD:PUBLISH
X-ORIGINAL-URL:https://artsalliancedavis.org
X-WR-CALDESC:Events for Arts Alliance Davis
REFRESH-INTERVAL;VALUE=DURATION:PT1H
X-Robots-Tag:noindex
X-PUBLISHED-TTL:PT1H
BEGIN:VTIMEZONE
TZID:America/Los_Angeles
BEGIN:DAYLIGHT
TZOFFSETFROM:-0800
TZOFFSETTO:-0700
TZNAME:PDT
DTSTART:20250309T100000
END:DAYLIGHT
BEGIN:STANDARD
TZOFFSETFROM:-0700
TZOFFSETTO:-0800
TZNAME:PST
DTSTART:20251102T090000
END:STANDARD
BEGIN:DAYLIGHT
TZOFFSETFROM:-0800
TZOFFSETTO:-0700
TZNAME:PDT
DTSTART:20260308T100000
END:DAYLIGHT
BEGIN:STANDARD
TZOFFSETFROM:-0700
TZOFFSETTO:-0800
TZNAME:PST
DTSTART:20261101T090000
END:STANDARD
BEGIN:DAYLIGHT
TZOFFSETFROM:-0800
TZOFFSETTO:-0700
TZNAME:PDT
DTSTART:20270314T100000
END:DAYLIGHT
BEGIN:STANDARD
TZOFFSETFROM:-0700
TZOFFSETTO:-0800
TZNAME:PST
DTSTART:20271107T090000
END:STANDARD
END:VTIMEZONE
BEGIN:VEVENT
DTSTART;TZID=America/Los_Angeles:20260308T130000
DTEND;TZID=America/Los_Angeles:20260308T160000
DTSTAMP:20260423T123626
CREATED:20260219T182055Z
LAST-MODIFIED:20260219T182055Z
UID:23827-1772974800-1772985600@artsalliancedavis.org
SUMMARY:MELT ICE WITH LOVE! Meditation Retreat @ The Melon Ball
DESCRIPTION:Join Us for MELT ICE WITH LOVE! \nExperience the power of the MELT (myofascial energetic length technique) Method combined with an energizing and empowering Heart-Coherence Meditation at this in-person event. It’s all about easing tension\, boosting your energy\, and connecting with your heart’s rhythm. Let’s generate lots of love and send it to our friends in Minnesota! Whether you’re new or experienced\, come ready to relax\, rejuvenate\, and melt away stress with love and positive intentions. Don’t miss out on this unique journey. If you are a seasoned practitioner of the MELT Method\, please bring your own MELT Method soft roller. Everyone else: please wear comfortable clothes and bring a yoga mat\, sheepskin or sleeping pad\, blanket\, pillow\, and water. DONATION BASED. All proceeds benefit the Minnesota Interfaith Coalition on Immigration (http://www.mnicom.org). \nAs Wayne Dyer\, the Heart Math Institute\, and so many other visionary individuals and institutions have reminded us\, “One individual who lives and vibrates to the energy of pure love and reverence for all of life will counterbalance the negativity of 750\,000 individuals who calibrate at the lower\, weakening levels.” Let’s see what we can do when we come together with a strong intention to make a positive impact on our world!
URL:https://artsalliancedavis.org/event/melt-ice-with-love-meditation-retreat-the-melon-ball/
LOCATION:Melon Ball – Watermelon Music\, 1970 Lake Blvd\, Suite #1\, Davis\, California\, 95616\, United States
CATEGORIES:Community,Fitness
ATTACH;FMTTYPE=image/jpeg:https://artsalliancedavis.org/wp-content/uploads/2026/02/MeltIce-scaled-YEYmOA.jpg
ORGANIZER;CN="Watermelon Music":MAILTO:watermelonmusicdavis@gmail.com
END:VEVENT
END:VCALENDAR