BEGIN:VCALENDAR
VERSION:2.0
PRODID:-//Arts Alliance Davis - ECPv6.15.20//NONSGML v1.0//EN
CALSCALE:GREGORIAN
METHOD:PUBLISH
X-ORIGINAL-URL:https://artsalliancedavis.org
X-WR-CALDESC:Events for Arts Alliance Davis
REFRESH-INTERVAL;VALUE=DURATION:PT1H
X-Robots-Tag:noindex
X-PUBLISHED-TTL:PT1H
BEGIN:VTIMEZONE
TZID:America/Los_Angeles
BEGIN:DAYLIGHT
TZOFFSETFROM:-0800
TZOFFSETTO:-0700
TZNAME:PDT
DTSTART:20230312T100000
END:DAYLIGHT
BEGIN:STANDARD
TZOFFSETFROM:-0700
TZOFFSETTO:-0800
TZNAME:PST
DTSTART:20231105T090000
END:STANDARD
BEGIN:DAYLIGHT
TZOFFSETFROM:-0800
TZOFFSETTO:-0700
TZNAME:PDT
DTSTART:20240310T100000
END:DAYLIGHT
BEGIN:STANDARD
TZOFFSETFROM:-0700
TZOFFSETTO:-0800
TZNAME:PST
DTSTART:20241103T090000
END:STANDARD
BEGIN:DAYLIGHT
TZOFFSETFROM:-0800
TZOFFSETTO:-0700
TZNAME:PDT
DTSTART:20250309T100000
END:DAYLIGHT
BEGIN:STANDARD
TZOFFSETFROM:-0700
TZOFFSETTO:-0800
TZNAME:PST
DTSTART:20251102T090000
END:STANDARD
END:VTIMEZONE
BEGIN:VEVENT
DTSTART;TZID=America/Los_Angeles:20240920T170000
DTEND;TZID=America/Los_Angeles:20240920T200000
DTSTAMP:20260424T180430
CREATED:20240824T145317Z
LAST-MODIFIED:20240824T145317Z
UID:14137-1726851600-1726862400@artsalliancedavis.org
SUMMARY:Arts PopLuck: a Community Gathering with BOMBA Fried Rice
DESCRIPTION:Join us at the Arts PopLuck in Central Park! \nBike City Theatre Company presents an Arts PopLuck–a community gathering at Central Park on September 20th from 5:00-8:00pm. What’s a PopLuck? It’s our cross between a pop-up and a potluck! This family-friendly\, picnic style event will be hosted by BCTC and feature live local music with sets by BOMBA Fried Rice. Bring snacks for yourselves–and maybe some to share–while we enjoy our community. (You should still come\, even if you don’t bring food!)  \nThe PopLuck is supported through the Hate Free Together initiative\, with funding from the Capitol Region Creative Corps.   
URL:https://artsalliancedavis.org/event/arts-popluck-a-community-gathering-with-bomba-fried-rice/
LOCATION:Central Park – Davis\, 5th St & B St\,\, Davis\,\, CA\, 95616\, United States
CATEGORIES:Bring the Kids,Community,Music,Outside
ATTACH;FMTTYPE=image/jpeg:https://artsalliancedavis.org/wp-content/uploads/2024/08/c7bf7c1f-ddb0-4548-8c89-61181988acc5-Yr1weB.tmp_.jpg
ORGANIZER;CN="Bike City Theatre Company":MAILTO:info@bikecitytheatre.org
END:VEVENT
END:VCALENDAR