BEGIN:VCALENDAR
VERSION:2.0
PRODID:-//Arts Alliance Davis - ECPv6.15.20//NONSGML v1.0//EN
CALSCALE:GREGORIAN
METHOD:PUBLISH
X-WR-CALNAME:Arts Alliance Davis
X-ORIGINAL-URL:https://artsalliancedavis.org
X-WR-CALDESC:Events for Arts Alliance Davis
REFRESH-INTERVAL;VALUE=DURATION:PT1H
X-Robots-Tag:noindex
X-PUBLISHED-TTL:PT1H
BEGIN:VTIMEZONE
TZID:America/Los_Angeles
BEGIN:DAYLIGHT
TZOFFSETFROM:-0800
TZOFFSETTO:-0700
TZNAME:PDT
DTSTART:20240310T100000
END:DAYLIGHT
BEGIN:STANDARD
TZOFFSETFROM:-0700
TZOFFSETTO:-0800
TZNAME:PST
DTSTART:20241103T090000
END:STANDARD
BEGIN:DAYLIGHT
TZOFFSETFROM:-0800
TZOFFSETTO:-0700
TZNAME:PDT
DTSTART:20250309T100000
END:DAYLIGHT
BEGIN:STANDARD
TZOFFSETFROM:-0700
TZOFFSETTO:-0800
TZNAME:PST
DTSTART:20251102T090000
END:STANDARD
BEGIN:DAYLIGHT
TZOFFSETFROM:-0800
TZOFFSETTO:-0700
TZNAME:PDT
DTSTART:20260308T100000
END:DAYLIGHT
BEGIN:STANDARD
TZOFFSETFROM:-0700
TZOFFSETTO:-0800
TZNAME:PST
DTSTART:20261101T090000
END:STANDARD
END:VTIMEZONE
BEGIN:VEVENT
DTSTART;TZID=America/Los_Angeles:20250315T190000
DTEND;TZID=America/Los_Angeles:20250315T210000
DTSTAMP:20260424T084339
CREATED:20250311T151407Z
LAST-MODIFIED:20250311T151407Z
UID:17910-1742065200-1742072400@artsalliancedavis.org
SUMMARY:Rumi’s Caravan Returns to Davis Saturday March 15
DESCRIPTION:VETERAN’S MEMORIAL THEATRE. The acclaimed Rumi’s Caravan returns to Davis on Saturday March 15. The improvised poetic conversation with exquisite musical accompaniment moves through moods of prayer and grief to humor and celebration\, always highlighting the beauty of the spoken word. The performance is delivered in the oral tradition where poetry is learned by heart\, embodied and spoken in community.  This performance of Rumi’s Caravan is a benefit for Grace Garden and Empower Yolo. 6:30p. Suggestd Donation: $20 – $40.
URL:https://artsalliancedavis.org/event/rumis-caravan-returns-to-davis-saturday-march-15/
LOCATION:Veterans Memorial Theatre
CATEGORIES:Featured,Music,Stage & Dance
ATTACH;FMTTYPE=image/jpeg:https://artsalliancedavis.org/wp-content/uploads/2025/03/RumiCaravan250315-5uOyHb.tmp_.jpg
END:VEVENT
END:VCALENDAR