BEGIN:VCALENDAR
VERSION:2.0
PRODID:-//Arts Alliance Davis - ECPv6.15.20//NONSGML v1.0//EN
CALSCALE:GREGORIAN
METHOD:PUBLISH
X-WR-CALNAME:Arts Alliance Davis
X-ORIGINAL-URL:https://artsalliancedavis.org
X-WR-CALDESC:Events for Arts Alliance Davis
REFRESH-INTERVAL;VALUE=DURATION:PT1H
X-Robots-Tag:noindex
X-PUBLISHED-TTL:PT1H
BEGIN:VTIMEZONE
TZID:America/Los_Angeles
BEGIN:DAYLIGHT
TZOFFSETFROM:-0800
TZOFFSETTO:-0700
TZNAME:PDT
DTSTART:20250309T100000
END:DAYLIGHT
BEGIN:STANDARD
TZOFFSETFROM:-0700
TZOFFSETTO:-0800
TZNAME:PST
DTSTART:20251102T090000
END:STANDARD
BEGIN:DAYLIGHT
TZOFFSETFROM:-0800
TZOFFSETTO:-0700
TZNAME:PDT
DTSTART:20260308T100000
END:DAYLIGHT
BEGIN:STANDARD
TZOFFSETFROM:-0700
TZOFFSETTO:-0800
TZNAME:PST
DTSTART:20261101T090000
END:STANDARD
BEGIN:DAYLIGHT
TZOFFSETFROM:-0800
TZOFFSETTO:-0700
TZNAME:PDT
DTSTART:20270314T100000
END:DAYLIGHT
BEGIN:STANDARD
TZOFFSETFROM:-0700
TZOFFSETTO:-0800
TZNAME:PST
DTSTART:20271107T090000
END:STANDARD
END:VTIMEZONE
BEGIN:VEVENT
DTSTART;TZID=America/Los_Angeles:20260228T140000
DTEND;TZID=America/Los_Angeles:20260228T160000
DTSTAMP:20260423T135033
CREATED:20260112T201357Z
LAST-MODIFIED:20260112T201357Z
UID:23173-1772287200-1772294400@artsalliancedavis.org
SUMMARY:“Musics of the World”
DESCRIPTION:AfroCuban • Brian Rice\, director \nGamelan • Heni Savitri\, director \nBluegrass and Old Time String Band • Scott Linford\, director
URL:https://artsalliancedavis.org/event/musics-of-the-world-6/
LOCATION:Recital Hall\, Ann E. Pitzer Center\, Hutchison Dr. & Cushing Way\, Davis\, CA\, 95616\, United States
CATEGORIES:Music
ATTACH;FMTTYPE=image/jpeg:https://artsalliancedavis.org/wp-content/uploads/2018/10/orange-white-aad-logo.jpg
END:VEVENT
END:VCALENDAR