BEGIN:VCALENDAR
VERSION:2.0
PRODID:-//Arts Alliance Davis - ECPv6.15.20//NONSGML v1.0//EN
CALSCALE:GREGORIAN
METHOD:PUBLISH
X-ORIGINAL-URL:https://artsalliancedavis.org
X-WR-CALDESC:Events for Arts Alliance Davis
REFRESH-INTERVAL;VALUE=DURATION:PT1H
X-Robots-Tag:noindex
X-PUBLISHED-TTL:PT1H
BEGIN:VTIMEZONE
TZID:America/Los_Angeles
BEGIN:DAYLIGHT
TZOFFSETFROM:-0800
TZOFFSETTO:-0700
TZNAME:PDT
DTSTART:20240310T100000
END:DAYLIGHT
BEGIN:STANDARD
TZOFFSETFROM:-0700
TZOFFSETTO:-0800
TZNAME:PST
DTSTART:20241103T090000
END:STANDARD
BEGIN:DAYLIGHT
TZOFFSETFROM:-0800
TZOFFSETTO:-0700
TZNAME:PDT
DTSTART:20250309T100000
END:DAYLIGHT
BEGIN:STANDARD
TZOFFSETFROM:-0700
TZOFFSETTO:-0800
TZNAME:PST
DTSTART:20251102T090000
END:STANDARD
BEGIN:DAYLIGHT
TZOFFSETFROM:-0800
TZOFFSETTO:-0700
TZNAME:PDT
DTSTART:20260308T100000
END:DAYLIGHT
BEGIN:STANDARD
TZOFFSETFROM:-0700
TZOFFSETTO:-0800
TZNAME:PST
DTSTART:20261101T090000
END:STANDARD
END:VTIMEZONE
BEGIN:VEVENT
DTSTART;TZID=America/Los_Angeles:20251107T193000
DTEND;TZID=America/Los_Angeles:20251107T223000
DTSTAMP:20260424T172328
CREATED:20250825T152448Z
LAST-MODIFIED:20250825T152448Z
UID:20603-1762543800-1762554600@artsalliancedavis.org
SUMMARY:25th Annual Putnam County Spelling Bee
DESCRIPTION:25th Annual Putnam County Spelling Bee – November 7 through November 30\, 2025\nUnderwritten by Suzy Goldschmidt\, in honor of David Goldschmidt\nAn eclectic group of six mid-pubescents vie for the spelling championship of a lifetime. While candidly disclosing hilarious and touching stories from their home lives\, the tweens spell their way through a series of (potentially made-up) words\, hoping never to hear the soul-crushing\, pout-inducing\, life un-affirming “ding” of the bell that signals a spelling mistake. Six spellers enter; one speller leaves a champion! At least the losers get a juice box. \nRecommended for ages 13 & up \nDirected by Tea Pusey
URL:https://artsalliancedavis.org/event/25th-annual-putnam-county-spelling-bee/
LOCATION:Davis Musical Theatre Co. (DMTC)\, 607 Pena Dr.
CATEGORIES:Stage & Dance
ATTACH;FMTTYPE=image/jpeg:https://artsalliancedavis.org/wp-content/uploads/2025/08/Spelling-Bee-jH3Jm1.jpg
END:VEVENT
BEGIN:VEVENT
DTSTART;TZID=America/Los_Angeles:20251107T193000
DTEND;TZID=America/Los_Angeles:20251107T223000
DTSTAMP:20260424T172328
CREATED:20251024T163805Z
LAST-MODIFIED:20251024T163805Z
UID:21701-1762543800-1762554600@artsalliancedavis.org
SUMMARY:25th Annual Putnam County Spelling Bee
DESCRIPTION:25th Annual Putnam County Spelling Bee – November 7 through November 30\, 2025\nUnderwritten by Suzy Goldschmidt\, in honor of David Goldschmidt\nAn eclectic group of six mid-pubescents vie for the spelling championship of a lifetime. While candidly disclosing hilarious and touching stories from their home lives\, the tweens spell their way through a series of (potentially made-up) words\, hoping never to hear the soul-crushing\, pout-inducing\, life un-affirming “ding” of the bell that signals a spelling mistake. Six spellers enter; one speller leaves a champion! At least the losers get a juice box. \nRecommended for ages 13 & up \nDirected by Tea Pusey
URL:https://artsalliancedavis.org/event/25th-annual-putnam-county-spelling-bee-13/
LOCATION:Davis Musical Theatre Co. (DMTC)\, 607 Pena Dr.
CATEGORIES:Stage & Dance
ATTACH;FMTTYPE=image/jpeg:https://artsalliancedavis.org/wp-content/uploads/2025/08/Spelling-Bee-jH3Jm1.jpg
END:VEVENT
BEGIN:VEVENT
DTSTART;TZID=America/Los_Angeles:20251108T193000
DTEND;TZID=America/Los_Angeles:20251108T223000
DTSTAMP:20260424T172328
CREATED:20250825T152507Z
LAST-MODIFIED:20250825T152507Z
UID:20614-1762630200-1762641000@artsalliancedavis.org
SUMMARY:25th Annual Putnam County Spelling Bee
DESCRIPTION:25th Annual Putnam County Spelling Bee – November 7 through November 30\, 2025\nUnderwritten by Suzy Goldschmidt\, in honor of David Goldschmidt\nAn eclectic group of six mid-pubescents vie for the spelling championship of a lifetime. While candidly disclosing hilarious and touching stories from their home lives\, the tweens spell their way through a series of (potentially made-up) words\, hoping never to hear the soul-crushing\, pout-inducing\, life un-affirming “ding” of the bell that signals a spelling mistake. Six spellers enter; one speller leaves a champion! At least the losers get a juice box. \nRecommended for ages 13 & up \nDirected by Tea Pusey
URL:https://artsalliancedavis.org/event/25th-annual-putnam-county-spelling-bee-2/
LOCATION:Davis Musical Theatre Co. (DMTC)\, 607 Pena Dr.
CATEGORIES:Stage & Dance
ATTACH;FMTTYPE=image/jpeg:https://artsalliancedavis.org/wp-content/uploads/2025/08/Spelling-Bee-jH3Jm1.jpg
END:VEVENT
BEGIN:VEVENT
DTSTART;TZID=America/Los_Angeles:20251109T140000
DTEND;TZID=America/Los_Angeles:20251109T170000
DTSTAMP:20260424T172328
CREATED:20250825T152510Z
LAST-MODIFIED:20250825T152510Z
UID:20620-1762696800-1762707600@artsalliancedavis.org
SUMMARY:25th Annual Putnam County Spelling Bee
DESCRIPTION:25th Annual Putnam County Spelling Bee – November 7 through November 30\, 2025\nUnderwritten by Suzy Goldschmidt\, in honor of David Goldschmidt\nAn eclectic group of six mid-pubescents vie for the spelling championship of a lifetime. While candidly disclosing hilarious and touching stories from their home lives\, the tweens spell their way through a series of (potentially made-up) words\, hoping never to hear the soul-crushing\, pout-inducing\, life un-affirming “ding” of the bell that signals a spelling mistake. Six spellers enter; one speller leaves a champion! At least the losers get a juice box. \nRecommended for ages 13 & up \nDirected by Tea Pusey
URL:https://artsalliancedavis.org/event/25th-annual-putnam-county-spelling-bee-3/
LOCATION:Davis Musical Theatre Co. (DMTC)\, 607 Pena Dr.
CATEGORIES:Stage & Dance
ATTACH;FMTTYPE=image/jpeg:https://artsalliancedavis.org/wp-content/uploads/2025/08/Spelling-Bee-jH3Jm1.jpg
END:VEVENT
BEGIN:VEVENT
DTSTART;TZID=America/Los_Angeles:20251114T193000
DTEND;TZID=America/Los_Angeles:20251114T223000
DTSTAMP:20260424T172328
CREATED:20250825T152658Z
LAST-MODIFIED:20250825T152658Z
UID:20677-1763148600-1763159400@artsalliancedavis.org
SUMMARY:25th Annual Putnam County Spelling Bee
DESCRIPTION:25th Annual Putnam County Spelling Bee – November 7 through November 30\, 2025\nUnderwritten by Suzy Goldschmidt\, in honor of David Goldschmidt\nAn eclectic group of six mid-pubescents vie for the spelling championship of a lifetime. While candidly disclosing hilarious and touching stories from their home lives\, the tweens spell their way through a series of (potentially made-up) words\, hoping never to hear the soul-crushing\, pout-inducing\, life un-affirming “ding” of the bell that signals a spelling mistake. Six spellers enter; one speller leaves a champion! At least the losers get a juice box. \nRecommended for ages 13 & up \nDirected by Tea Pusey
URL:https://artsalliancedavis.org/event/25th-annual-putnam-county-spelling-bee-4/
LOCATION:Davis Musical Theatre Co. (DMTC)\, 607 Pena Dr.
CATEGORIES:Stage & Dance
ATTACH;FMTTYPE=image/jpeg:https://artsalliancedavis.org/wp-content/uploads/2025/08/Spelling-Bee-jH3Jm1.jpg
END:VEVENT
BEGIN:VEVENT
DTSTART;TZID=America/Los_Angeles:20251115T140000
DTEND;TZID=America/Los_Angeles:20251115T160000
DTSTAMP:20260424T172328
CREATED:20250825T152715Z
LAST-MODIFIED:20250825T152715Z
UID:20685-1763215200-1763222400@artsalliancedavis.org
SUMMARY:Seussical Jr.
DESCRIPTION:Seussical Jr. – November 15 through December 7\, 2025\nSchool Matinees: December 2\, 2025; 9:15am and noon \nUnderwritten by Betty J. Paro\, in remembrance of Tom Paro\n  \nYPT-Seussical\, Jr (2025)\nBetty J. Paro\, in remembrance of Tom Paro\nTransporting audiences from the Jungle of Nool to the Circus McGurkus\, the Cat in the Hat narrates the story of Horton the Elephant\, who discovers a speck of dust containing tiny people called the Whos. Horton must protect the Whos from a world of naysayers and dangers\, and he must also guard an abandoned egg that’s been left in his care by the irresponsible Mayzie La Bird.  Although Horton faces ridicule\, danger and a trial\, the intrepid Gertrude McFuzz never loses faith in him.  Ultimately\, the powers of friendship\, loyalty\, family and community are challenged and emerge triumphant! \nRecommended for all ages! \n  \nDirected by Jan Isaacson\nChoreographed by Megan Richmond\nMusical direction by Montana Monce
URL:https://artsalliancedavis.org/event/seussical-jr/
LOCATION:Davis Musical Theatre Co. (DMTC)\, 607 Pena Dr.
CATEGORIES:Stage & Dance
ATTACH;FMTTYPE=image/jpeg:https://artsalliancedavis.org/wp-content/uploads/2025/08/Seussical-Jr-Sqs3fL.jpg
END:VEVENT
BEGIN:VEVENT
DTSTART;TZID=America/Los_Angeles:20251115T193000
DTEND;TZID=America/Los_Angeles:20251115T223000
DTSTAMP:20260424T172328
CREATED:20250825T152716Z
LAST-MODIFIED:20250825T152716Z
UID:20687-1763235000-1763245800@artsalliancedavis.org
SUMMARY:25th Annual Putnam County Spelling Bee
DESCRIPTION:25th Annual Putnam County Spelling Bee – November 7 through November 30\, 2025\nUnderwritten by Suzy Goldschmidt\, in honor of David Goldschmidt\nAn eclectic group of six mid-pubescents vie for the spelling championship of a lifetime. While candidly disclosing hilarious and touching stories from their home lives\, the tweens spell their way through a series of (potentially made-up) words\, hoping never to hear the soul-crushing\, pout-inducing\, life un-affirming “ding” of the bell that signals a spelling mistake. Six spellers enter; one speller leaves a champion! At least the losers get a juice box. \nRecommended for ages 13 & up \nDirected by Tea Pusey
URL:https://artsalliancedavis.org/event/25th-annual-putnam-county-spelling-bee-5/
LOCATION:Davis Musical Theatre Co. (DMTC)\, 607 Pena Dr.
CATEGORIES:Stage & Dance
ATTACH;FMTTYPE=image/jpeg:https://artsalliancedavis.org/wp-content/uploads/2025/08/Spelling-Bee-jH3Jm1.jpg
END:VEVENT
BEGIN:VEVENT
DTSTART;TZID=America/Los_Angeles:20251116T140000
DTEND;TZID=America/Los_Angeles:20251116T170000
DTSTAMP:20260424T172328
CREATED:20250825T152730Z
LAST-MODIFIED:20250825T152730Z
UID:20691-1763301600-1763312400@artsalliancedavis.org
SUMMARY:25th Annual Putnam County Spelling Bee
DESCRIPTION:25th Annual Putnam County Spelling Bee – November 7 through November 30\, 2025\nUnderwritten by Suzy Goldschmidt\, in honor of David Goldschmidt\nAn eclectic group of six mid-pubescents vie for the spelling championship of a lifetime. While candidly disclosing hilarious and touching stories from their home lives\, the tweens spell their way through a series of (potentially made-up) words\, hoping never to hear the soul-crushing\, pout-inducing\, life un-affirming “ding” of the bell that signals a spelling mistake. Six spellers enter; one speller leaves a champion! At least the losers get a juice box. \nRecommended for ages 13 & up \nDirected by Tea Pusey
URL:https://artsalliancedavis.org/event/25th-annual-putnam-county-spelling-bee-6/
LOCATION:Davis Musical Theatre Co. (DMTC)\, 607 Pena Dr.
CATEGORIES:Stage & Dance
ATTACH;FMTTYPE=image/jpeg:https://artsalliancedavis.org/wp-content/uploads/2025/08/Spelling-Bee-jH3Jm1.jpg
END:VEVENT
BEGIN:VEVENT
DTSTART;TZID=America/Los_Angeles:20251121T193000
DTEND;TZID=America/Los_Angeles:20251121T223000
DTSTAMP:20260424T172328
CREATED:20250825T152855Z
LAST-MODIFIED:20250825T152855Z
UID:20736-1763753400-1763764200@artsalliancedavis.org
SUMMARY:25th Annual Putnam County Spelling Bee
DESCRIPTION:25th Annual Putnam County Spelling Bee – November 7 through November 30\, 2025\nUnderwritten by Suzy Goldschmidt\, in honor of David Goldschmidt\nAn eclectic group of six mid-pubescents vie for the spelling championship of a lifetime. While candidly disclosing hilarious and touching stories from their home lives\, the tweens spell their way through a series of (potentially made-up) words\, hoping never to hear the soul-crushing\, pout-inducing\, life un-affirming “ding” of the bell that signals a spelling mistake. Six spellers enter; one speller leaves a champion! At least the losers get a juice box. \nRecommended for ages 13 & up \nDirected by Tea Pusey
URL:https://artsalliancedavis.org/event/25th-annual-putnam-county-spelling-bee-7/
LOCATION:Davis Musical Theatre Co. (DMTC)\, 607 Pena Dr.
CATEGORIES:Stage & Dance
ATTACH;FMTTYPE=image/jpeg:https://artsalliancedavis.org/wp-content/uploads/2025/08/Spelling-Bee-jH3Jm1.jpg
END:VEVENT
BEGIN:VEVENT
DTSTART;TZID=America/Los_Angeles:20251122T140000
DTEND;TZID=America/Los_Angeles:20251122T160000
DTSTAMP:20260424T172328
CREATED:20250825T152913Z
LAST-MODIFIED:20250825T152913Z
UID:20743-1763820000-1763827200@artsalliancedavis.org
SUMMARY:Seussical Jr.
DESCRIPTION:Seussical Jr. – November 15 through December 7\, 2025\nSchool Matinees: December 2\, 2025; 9:15am and noon \nUnderwritten by Betty J. Paro\, in remembrance of Tom Paro\n  \nYPT-Seussical\, Jr (2025)\nBetty J. Paro\, in remembrance of Tom Paro\nTransporting audiences from the Jungle of Nool to the Circus McGurkus\, the Cat in the Hat narrates the story of Horton the Elephant\, who discovers a speck of dust containing tiny people called the Whos. Horton must protect the Whos from a world of naysayers and dangers\, and he must also guard an abandoned egg that’s been left in his care by the irresponsible Mayzie La Bird.  Although Horton faces ridicule\, danger and a trial\, the intrepid Gertrude McFuzz never loses faith in him.  Ultimately\, the powers of friendship\, loyalty\, family and community are challenged and emerge triumphant! \nRecommended for all ages! \n  \nDirected by Jan Isaacson\nChoreographed by Megan Richmond\nMusical direction by Montana Monce
URL:https://artsalliancedavis.org/event/seussical-jr-2/
LOCATION:Davis Musical Theatre Co. (DMTC)\, 607 Pena Dr.
CATEGORIES:Stage & Dance
ATTACH;FMTTYPE=image/jpeg:https://artsalliancedavis.org/wp-content/uploads/2025/08/Seussical-Jr-Sqs3fL.jpg
END:VEVENT
BEGIN:VEVENT
DTSTART;TZID=America/Los_Angeles:20251122T193000
DTEND;TZID=America/Los_Angeles:20251122T223000
DTSTAMP:20260424T172328
CREATED:20250825T152913Z
LAST-MODIFIED:20250825T152913Z
UID:20744-1763839800-1763850600@artsalliancedavis.org
SUMMARY:25th Annual Putnam County Spelling Bee
DESCRIPTION:25th Annual Putnam County Spelling Bee – November 7 through November 30\, 2025\nUnderwritten by Suzy Goldschmidt\, in honor of David Goldschmidt\nAn eclectic group of six mid-pubescents vie for the spelling championship of a lifetime. While candidly disclosing hilarious and touching stories from their home lives\, the tweens spell their way through a series of (potentially made-up) words\, hoping never to hear the soul-crushing\, pout-inducing\, life un-affirming “ding” of the bell that signals a spelling mistake. Six spellers enter; one speller leaves a champion! At least the losers get a juice box. \nRecommended for ages 13 & up \nDirected by Tea Pusey
URL:https://artsalliancedavis.org/event/25th-annual-putnam-county-spelling-bee-8/
LOCATION:Davis Musical Theatre Co. (DMTC)\, 607 Pena Dr.
CATEGORIES:Stage & Dance
ATTACH;FMTTYPE=image/jpeg:https://artsalliancedavis.org/wp-content/uploads/2025/08/Spelling-Bee-jH3Jm1.jpg
END:VEVENT
BEGIN:VEVENT
DTSTART;TZID=America/Los_Angeles:20251123T140000
DTEND;TZID=America/Los_Angeles:20251123T170000
DTSTAMP:20260424T172328
CREATED:20250825T152928Z
LAST-MODIFIED:20250825T152928Z
UID:20748-1763906400-1763917200@artsalliancedavis.org
SUMMARY:25th Annual Putnam County Spelling Bee
DESCRIPTION:25th Annual Putnam County Spelling Bee – November 7 through November 30\, 2025\nUnderwritten by Suzy Goldschmidt\, in honor of David Goldschmidt\nAn eclectic group of six mid-pubescents vie for the spelling championship of a lifetime. While candidly disclosing hilarious and touching stories from their home lives\, the tweens spell their way through a series of (potentially made-up) words\, hoping never to hear the soul-crushing\, pout-inducing\, life un-affirming “ding” of the bell that signals a spelling mistake. Six spellers enter; one speller leaves a champion! At least the losers get a juice box. \nRecommended for ages 13 & up \nDirected by Tea Pusey
URL:https://artsalliancedavis.org/event/25th-annual-putnam-county-spelling-bee-9/
LOCATION:Davis Musical Theatre Co. (DMTC)\, 607 Pena Dr.
CATEGORIES:Stage & Dance
ATTACH;FMTTYPE=image/jpeg:https://artsalliancedavis.org/wp-content/uploads/2025/08/Spelling-Bee-jH3Jm1.jpg
END:VEVENT
BEGIN:VEVENT
DTSTART;TZID=America/Los_Angeles:20251128T193000
DTEND;TZID=America/Los_Angeles:20251128T223000
DTSTAMP:20260424T172328
CREATED:20251022T155940Z
LAST-MODIFIED:20251022T155940Z
UID:21201-1764358200-1764369000@artsalliancedavis.org
SUMMARY:25th Annual Putnam County Spelling Bee
DESCRIPTION:25th Annual Putnam County Spelling Bee – November 7 through November 30\, 2025\nUnderwritten by Suzy Goldschmidt\, in honor of David Goldschmidt\nAn eclectic group of six mid-pubescents vie for the spelling championship of a lifetime. While candidly disclosing hilarious and touching stories from their home lives\, the tweens spell their way through a series of (potentially made-up) words\, hoping never to hear the soul-crushing\, pout-inducing\, life un-affirming “ding” of the bell that signals a spelling mistake. Six spellers enter; one speller leaves a champion! At least the losers get a juice box. \nRecommended for ages 13 & up \nDirected by Tea Pusey
URL:https://artsalliancedavis.org/event/25th-annual-putnam-county-spelling-bee-10/
LOCATION:Davis Musical Theatre Co. (DMTC)\, 607 Pena Dr.
CATEGORIES:Stage & Dance
ATTACH;FMTTYPE=image/jpeg:https://artsalliancedavis.org/wp-content/uploads/2025/08/Spelling-Bee-jH3Jm1.jpg
END:VEVENT
BEGIN:VEVENT
DTSTART;TZID=America/Los_Angeles:20251129T140000
DTEND;TZID=America/Los_Angeles:20251129T160000
DTSTAMP:20260424T172328
CREATED:20251022T155943Z
LAST-MODIFIED:20251022T155943Z
UID:21208-1764424800-1764432000@artsalliancedavis.org
SUMMARY:Seussical Jr.
DESCRIPTION:Seussical Jr. – November 15 through December 7\, 2025\nSchool Matinees: December 2\, 2025; 9:15am and noon \nUnderwritten by Betty J. Paro\, in remembrance of Tom Paro\n  \nYPT-Seussical\, Jr (2025)\nBetty J. Paro\, in remembrance of Tom Paro\nTransporting audiences from the Jungle of Nool to the Circus McGurkus\, the Cat in the Hat narrates the story of Horton the Elephant\, who discovers a speck of dust containing tiny people called the Whos. Horton must protect the Whos from a world of naysayers and dangers\, and he must also guard an abandoned egg that’s been left in his care by the irresponsible Mayzie La Bird.  Although Horton faces ridicule\, danger and a trial\, the intrepid Gertrude McFuzz never loses faith in him.  Ultimately\, the powers of friendship\, loyalty\, family and community are challenged and emerge triumphant! \nRecommended for all ages! \n  \nDirected by Jan Isaacson\nChoreographed by Megan Richmond\nMusical direction by Montana Monce
URL:https://artsalliancedavis.org/event/seussical-jr-3/
LOCATION:Davis Musical Theatre Co. (DMTC)\, 607 Pena Dr.
CATEGORIES:Stage & Dance
ATTACH;FMTTYPE=image/jpeg:https://artsalliancedavis.org/wp-content/uploads/2025/08/Seussical-Jr-Sqs3fL.jpg
END:VEVENT
BEGIN:VEVENT
DTSTART;TZID=America/Los_Angeles:20251129T140000
DTEND;TZID=America/Los_Angeles:20251129T160000
DTSTAMP:20260424T172328
CREATED:20251025T165928Z
LAST-MODIFIED:20251025T165928Z
UID:21753-1764424800-1764432000@artsalliancedavis.org
SUMMARY:Seussical Jr.
DESCRIPTION:Seussical Jr. – November 15 through December 7\, 2025\nSchool Matinees: December 2\, 2025; 9:15am and noon \nUnderwritten by Betty J. Paro\, in remembrance of Tom Paro\n  \nYPT-Seussical\, Jr (2025)\nBetty J. Paro\, in remembrance of Tom Paro\nTransporting audiences from the Jungle of Nool to the Circus McGurkus\, the Cat in the Hat narrates the story of Horton the Elephant\, who discovers a speck of dust containing tiny people called the Whos. Horton must protect the Whos from a world of naysayers and dangers\, and he must also guard an abandoned egg that’s been left in his care by the irresponsible Mayzie La Bird.  Although Horton faces ridicule\, danger and a trial\, the intrepid Gertrude McFuzz never loses faith in him.  Ultimately\, the powers of friendship\, loyalty\, family and community are challenged and emerge triumphant! \nRecommended for all ages! \n  \nDirected by Jan Isaacson\nChoreographed by Megan Richmond\nMusical direction by Montana Monce
URL:https://artsalliancedavis.org/event/seussical-jr-7/
LOCATION:Davis Musical Theatre Co. (DMTC)\, 607 Pena Dr.
CATEGORIES:Stage & Dance
ATTACH;FMTTYPE=image/jpeg:https://artsalliancedavis.org/wp-content/uploads/2025/08/Seussical-Jr-Sqs3fL.jpg
END:VEVENT
BEGIN:VEVENT
DTSTART;TZID=America/Los_Angeles:20251129T193000
DTEND;TZID=America/Los_Angeles:20251129T223000
DTSTAMP:20260424T172328
CREATED:20251022T155944Z
LAST-MODIFIED:20251022T155944Z
UID:21209-1764444600-1764455400@artsalliancedavis.org
SUMMARY:25th Annual Putnam County Spelling Bee
DESCRIPTION:25th Annual Putnam County Spelling Bee – November 7 through November 30\, 2025\nUnderwritten by Suzy Goldschmidt\, in honor of David Goldschmidt\nAn eclectic group of six mid-pubescents vie for the spelling championship of a lifetime. While candidly disclosing hilarious and touching stories from their home lives\, the tweens spell their way through a series of (potentially made-up) words\, hoping never to hear the soul-crushing\, pout-inducing\, life un-affirming “ding” of the bell that signals a spelling mistake. Six spellers enter; one speller leaves a champion! At least the losers get a juice box. \nRecommended for ages 13 & up \nDirected by Tea Pusey
URL:https://artsalliancedavis.org/event/25th-annual-putnam-county-spelling-bee-11/
LOCATION:Davis Musical Theatre Co. (DMTC)\, 607 Pena Dr.
CATEGORIES:Stage & Dance
ATTACH;FMTTYPE=image/jpeg:https://artsalliancedavis.org/wp-content/uploads/2025/08/Spelling-Bee-jH3Jm1.jpg
END:VEVENT
BEGIN:VEVENT
DTSTART;TZID=America/Los_Angeles:20251130T140000
DTEND;TZID=America/Los_Angeles:20251130T170000
DTSTAMP:20260424T172328
CREATED:20251022T155958Z
LAST-MODIFIED:20251022T155958Z
UID:21211-1764511200-1764522000@artsalliancedavis.org
SUMMARY:25th Annual Putnam County Spelling Bee
DESCRIPTION:25th Annual Putnam County Spelling Bee – November 7 through November 30\, 2025\nUnderwritten by Suzy Goldschmidt\, in honor of David Goldschmidt\nAn eclectic group of six mid-pubescents vie for the spelling championship of a lifetime. While candidly disclosing hilarious and touching stories from their home lives\, the tweens spell their way through a series of (potentially made-up) words\, hoping never to hear the soul-crushing\, pout-inducing\, life un-affirming “ding” of the bell that signals a spelling mistake. Six spellers enter; one speller leaves a champion! At least the losers get a juice box. \nRecommended for ages 13 & up \nDirected by Tea Pusey
URL:https://artsalliancedavis.org/event/25th-annual-putnam-county-spelling-bee-12/
LOCATION:Davis Musical Theatre Co. (DMTC)\, 607 Pena Dr.
CATEGORIES:Stage & Dance
ATTACH;FMTTYPE=image/jpeg:https://artsalliancedavis.org/wp-content/uploads/2025/08/Spelling-Bee-jH3Jm1.jpg
END:VEVENT
END:VCALENDAR