BEGIN:VCALENDAR
VERSION:2.0
PRODID:-//Arts Alliance Davis - ECPv6.15.20//NONSGML v1.0//EN
CALSCALE:GREGORIAN
METHOD:PUBLISH
X-WR-CALNAME:Arts Alliance Davis
X-ORIGINAL-URL:https://artsalliancedavis.org
X-WR-CALDESC:Events for Arts Alliance Davis
REFRESH-INTERVAL;VALUE=DURATION:PT1H
X-Robots-Tag:noindex
X-PUBLISHED-TTL:PT1H
BEGIN:VTIMEZONE
TZID:America/Los_Angeles
BEGIN:DAYLIGHT
TZOFFSETFROM:-0800
TZOFFSETTO:-0700
TZNAME:PDT
DTSTART:20250309T100000
END:DAYLIGHT
BEGIN:STANDARD
TZOFFSETFROM:-0700
TZOFFSETTO:-0800
TZNAME:PST
DTSTART:20251102T090000
END:STANDARD
BEGIN:DAYLIGHT
TZOFFSETFROM:-0800
TZOFFSETTO:-0700
TZNAME:PDT
DTSTART:20260308T100000
END:DAYLIGHT
BEGIN:STANDARD
TZOFFSETFROM:-0700
TZOFFSETTO:-0800
TZNAME:PST
DTSTART:20261101T090000
END:STANDARD
BEGIN:DAYLIGHT
TZOFFSETFROM:-0800
TZOFFSETTO:-0700
TZNAME:PDT
DTSTART:20270314T100000
END:DAYLIGHT
BEGIN:STANDARD
TZOFFSETFROM:-0700
TZOFFSETTO:-0800
TZNAME:PST
DTSTART:20271107T090000
END:STANDARD
END:VTIMEZONE
BEGIN:VEVENT
DTSTART;TZID=America/Los_Angeles:20260703T193000
DTEND;TZID=America/Los_Angeles:20260703T223000
DTSTAMP:20260424T110505
CREATED:20260404T173120Z
LAST-MODIFIED:20260404T173120Z
UID:24611-1783107000-1783117800@artsalliancedavis.org
SUMMARY:RENT
DESCRIPTION:RENT – June 26 through July 19\, 2026\nUnderwritten by Nancy Dunne\nSet in the East Village of New York City\, Rent is about falling in love\, finding your voice and living for today. Winner of the Tony Award for Best Musical and the Pulitzer Prize for Drama\, Rent has become a pop cultural phenomenon with songs that rock and a story that resonates with audiences of all ages. Based loosely on Puccini’s La Boheme\, Jonathan Larson’s Rent follows a year in the life of a group of impoverished young artists and musicians struggling to survive and create in New York’s Lower East Side\, under the shadow of HIV/AIDS. How these young bohemians negotiate their dreams\, loves and conflicts provides the narrative thread to this groundbreaking musical. \nRecommended for theater goers 13 & up \nDirected by Kyle Jackson\nChoreographed by Kyle Jackson
URL:https://artsalliancedavis.org/event/rent-4/
LOCATION:Davis Musical Theatre Co. (DMTC)\, 607 Pena Dr.
CATEGORIES:Stage & Dance
ATTACH;FMTTYPE=image/jpeg:https://artsalliancedavis.org/wp-content/uploads/2026/03/RENT-rf3uEw.jpg
END:VEVENT
BEGIN:VEVENT
DTSTART;TZID=America/Los_Angeles:20260704T193000
DTEND;TZID=America/Los_Angeles:20260704T223000
DTSTAMP:20260424T110505
CREATED:20260405T174800Z
LAST-MODIFIED:20260405T174800Z
UID:24618-1783193400-1783204200@artsalliancedavis.org
SUMMARY:RENT
DESCRIPTION:RENT – June 26 through July 19\, 2026\nUnderwritten by Nancy Dunne\nSet in the East Village of New York City\, Rent is about falling in love\, finding your voice and living for today. Winner of the Tony Award for Best Musical and the Pulitzer Prize for Drama\, Rent has become a pop cultural phenomenon with songs that rock and a story that resonates with audiences of all ages. Based loosely on Puccini’s La Boheme\, Jonathan Larson’s Rent follows a year in the life of a group of impoverished young artists and musicians struggling to survive and create in New York’s Lower East Side\, under the shadow of HIV/AIDS. How these young bohemians negotiate their dreams\, loves and conflicts provides the narrative thread to this groundbreaking musical. \nRecommended for theater goers 13 & up \nDirected by Kyle Jackson\nChoreographed by Kyle Jackson
URL:https://artsalliancedavis.org/event/rent-5/
LOCATION:Davis Musical Theatre Co. (DMTC)\, 607 Pena Dr.
CATEGORIES:Stage & Dance
ATTACH;FMTTYPE=image/jpeg:https://artsalliancedavis.org/wp-content/uploads/2026/03/RENT-rf3uEw.jpg
END:VEVENT
BEGIN:VEVENT
DTSTART;TZID=America/Los_Angeles:20260705T140000
DTEND;TZID=America/Los_Angeles:20260705T170000
DTSTAMP:20260424T110505
CREATED:20260406T180434Z
LAST-MODIFIED:20260406T180434Z
UID:24633-1783260000-1783270800@artsalliancedavis.org
SUMMARY:RENT
DESCRIPTION:RENT – June 26 through July 19\, 2026\nUnderwritten by Nancy Dunne\nSet in the East Village of New York City\, Rent is about falling in love\, finding your voice and living for today. Winner of the Tony Award for Best Musical and the Pulitzer Prize for Drama\, Rent has become a pop cultural phenomenon with songs that rock and a story that resonates with audiences of all ages. Based loosely on Puccini’s La Boheme\, Jonathan Larson’s Rent follows a year in the life of a group of impoverished young artists and musicians struggling to survive and create in New York’s Lower East Side\, under the shadow of HIV/AIDS. How these young bohemians negotiate their dreams\, loves and conflicts provides the narrative thread to this groundbreaking musical. \nRecommended for theater goers 13 & up \nDirected by Kyle Jackson\nChoreographed by Kyle Jackson
URL:https://artsalliancedavis.org/event/rent-6/
LOCATION:Davis Musical Theatre Co. (DMTC)\, 607 Pena Dr.
CATEGORIES:Stage & Dance
ATTACH;FMTTYPE=image/jpeg:https://artsalliancedavis.org/wp-content/uploads/2026/03/RENT-rf3uEw.jpg
END:VEVENT
BEGIN:VEVENT
DTSTART;TZID=America/Los_Angeles:20260710T193000
DTEND;TZID=America/Los_Angeles:20260710T223000
DTSTAMP:20260424T110505
CREATED:20260411T194725Z
LAST-MODIFIED:20260411T194725Z
UID:24728-1783711800-1783722600@artsalliancedavis.org
SUMMARY:RENT
DESCRIPTION:RENT – June 26 through July 19\, 2026\nUnderwritten by Nancy Dunne\nSet in the East Village of New York City\, Rent is about falling in love\, finding your voice and living for today. Winner of the Tony Award for Best Musical and the Pulitzer Prize for Drama\, Rent has become a pop cultural phenomenon with songs that rock and a story that resonates with audiences of all ages. Based loosely on Puccini’s La Boheme\, Jonathan Larson’s Rent follows a year in the life of a group of impoverished young artists and musicians struggling to survive and create in New York’s Lower East Side\, under the shadow of HIV/AIDS. How these young bohemians negotiate their dreams\, loves and conflicts provides the narrative thread to this groundbreaking musical. \nRecommended for theater goers 13 & up \nDirected by Kyle Jackson\nChoreographed by Kyle Jackson
URL:https://artsalliancedavis.org/event/rent-7/
LOCATION:Davis Musical Theatre Co. (DMTC)\, 607 Pena Dr.
CATEGORIES:Stage & Dance
ATTACH;FMTTYPE=image/jpeg:https://artsalliancedavis.org/wp-content/uploads/2026/03/RENT-rf3uEw.jpg
END:VEVENT
BEGIN:VEVENT
DTSTART;TZID=America/Los_Angeles:20260711T193000
DTEND;TZID=America/Los_Angeles:20260711T223000
DTSTAMP:20260424T110505
CREATED:20260412T200356Z
LAST-MODIFIED:20260412T200356Z
UID:24751-1783798200-1783809000@artsalliancedavis.org
SUMMARY:RENT
DESCRIPTION:RENT – June 26 through July 19\, 2026\nUnderwritten by Nancy Dunne\nSet in the East Village of New York City\, Rent is about falling in love\, finding your voice and living for today. Winner of the Tony Award for Best Musical and the Pulitzer Prize for Drama\, Rent has become a pop cultural phenomenon with songs that rock and a story that resonates with audiences of all ages. Based loosely on Puccini’s La Boheme\, Jonathan Larson’s Rent follows a year in the life of a group of impoverished young artists and musicians struggling to survive and create in New York’s Lower East Side\, under the shadow of HIV/AIDS. How these young bohemians negotiate their dreams\, loves and conflicts provides the narrative thread to this groundbreaking musical. \nRecommended for theater goers 13 & up \nDirected by Kyle Jackson\nChoreographed by Kyle Jackson
URL:https://artsalliancedavis.org/event/rent-8/
LOCATION:Davis Musical Theatre Co. (DMTC)\, 607 Pena Dr.
CATEGORIES:Stage & Dance
ATTACH;FMTTYPE=image/jpeg:https://artsalliancedavis.org/wp-content/uploads/2026/03/RENT-rf3uEw.jpg
END:VEVENT
BEGIN:VEVENT
DTSTART;TZID=America/Los_Angeles:20260712T140000
DTEND;TZID=America/Los_Angeles:20260712T170000
DTSTAMP:20260424T110505
CREATED:20260413T201817Z
LAST-MODIFIED:20260413T201817Z
UID:24756-1783864800-1783875600@artsalliancedavis.org
SUMMARY:RENT
DESCRIPTION:RENT – June 26 through July 19\, 2026\nUnderwritten by Nancy Dunne\nSet in the East Village of New York City\, Rent is about falling in love\, finding your voice and living for today. Winner of the Tony Award for Best Musical and the Pulitzer Prize for Drama\, Rent has become a pop cultural phenomenon with songs that rock and a story that resonates with audiences of all ages. Based loosely on Puccini’s La Boheme\, Jonathan Larson’s Rent follows a year in the life of a group of impoverished young artists and musicians struggling to survive and create in New York’s Lower East Side\, under the shadow of HIV/AIDS. How these young bohemians negotiate their dreams\, loves and conflicts provides the narrative thread to this groundbreaking musical. \nRecommended for theater goers 13 & up \nDirected by Kyle Jackson\nChoreographed by Kyle Jackson
URL:https://artsalliancedavis.org/event/rent-9/
LOCATION:Davis Musical Theatre Co. (DMTC)\, 607 Pena Dr.
CATEGORIES:Stage & Dance
ATTACH;FMTTYPE=image/jpeg:https://artsalliancedavis.org/wp-content/uploads/2026/03/RENT-rf3uEw.jpg
END:VEVENT
BEGIN:VEVENT
DTSTART;TZID=America/Los_Angeles:20260717T193000
DTEND;TZID=America/Los_Angeles:20260717T223000
DTSTAMP:20260424T110505
CREATED:20260418T221817Z
LAST-MODIFIED:20260418T221817Z
UID:24884-1784316600-1784327400@artsalliancedavis.org
SUMMARY:RENT
DESCRIPTION:RENT – June 26 through July 19\, 2026\nUnderwritten by Nancy Dunne\nSet in the East Village of New York City\, Rent is about falling in love\, finding your voice and living for today. Winner of the Tony Award for Best Musical and the Pulitzer Prize for Drama\, Rent has become a pop cultural phenomenon with songs that rock and a story that resonates with audiences of all ages. Based loosely on Puccini’s La Boheme\, Jonathan Larson’s Rent follows a year in the life of a group of impoverished young artists and musicians struggling to survive and create in New York’s Lower East Side\, under the shadow of HIV/AIDS. How these young bohemians negotiate their dreams\, loves and conflicts provides the narrative thread to this groundbreaking musical. \nRecommended for theater goers 13 & up \nDirected by Kyle Jackson\nChoreographed by Kyle Jackson
URL:https://artsalliancedavis.org/event/rent-10/
LOCATION:Davis Musical Theatre Co. (DMTC)\, 607 Pena Dr.
CATEGORIES:Stage & Dance
ATTACH;FMTTYPE=image/jpeg:https://artsalliancedavis.org/wp-content/uploads/2026/03/RENT-rf3uEw.jpg
END:VEVENT
BEGIN:VEVENT
DTSTART;TZID=America/Los_Angeles:20260718T193000
DTEND;TZID=America/Los_Angeles:20260718T223000
DTSTAMP:20260424T110505
CREATED:20260419T223206Z
LAST-MODIFIED:20260419T223206Z
UID:24931-1784403000-1784413800@artsalliancedavis.org
SUMMARY:RENT
DESCRIPTION:RENT – June 26 through July 19\, 2026\nUnderwritten by Nancy Dunne\nSet in the East Village of New York City\, Rent is about falling in love\, finding your voice and living for today. Winner of the Tony Award for Best Musical and the Pulitzer Prize for Drama\, Rent has become a pop cultural phenomenon with songs that rock and a story that resonates with audiences of all ages. Based loosely on Puccini’s La Boheme\, Jonathan Larson’s Rent follows a year in the life of a group of impoverished young artists and musicians struggling to survive and create in New York’s Lower East Side\, under the shadow of HIV/AIDS. How these young bohemians negotiate their dreams\, loves and conflicts provides the narrative thread to this groundbreaking musical. \nRecommended for theater goers 13 & up \nDirected by Kyle Jackson\nChoreographed by Kyle Jackson
URL:https://artsalliancedavis.org/event/rent-11/
LOCATION:Davis Musical Theatre Co. (DMTC)\, 607 Pena Dr.
CATEGORIES:Stage & Dance
ATTACH;FMTTYPE=image/jpeg:https://artsalliancedavis.org/wp-content/uploads/2026/03/RENT-rf3uEw.jpg
END:VEVENT
BEGIN:VEVENT
DTSTART;TZID=America/Los_Angeles:20260719T140000
DTEND;TZID=America/Los_Angeles:20260719T170000
DTSTAMP:20260424T110505
CREATED:20260420T230202Z
LAST-MODIFIED:20260420T230202Z
UID:24936-1784469600-1784480400@artsalliancedavis.org
SUMMARY:RENT
DESCRIPTION:RENT – June 26 through July 19\, 2026\nUnderwritten by Nancy Dunne\nSet in the East Village of New York City\, Rent is about falling in love\, finding your voice and living for today. Winner of the Tony Award for Best Musical and the Pulitzer Prize for Drama\, Rent has become a pop cultural phenomenon with songs that rock and a story that resonates with audiences of all ages. Based loosely on Puccini’s La Boheme\, Jonathan Larson’s Rent follows a year in the life of a group of impoverished young artists and musicians struggling to survive and create in New York’s Lower East Side\, under the shadow of HIV/AIDS. How these young bohemians negotiate their dreams\, loves and conflicts provides the narrative thread to this groundbreaking musical. \nRecommended for theater goers 13 & up \nDirected by Kyle Jackson\nChoreographed by Kyle Jackson
URL:https://artsalliancedavis.org/event/rent-12/
LOCATION:Davis Musical Theatre Co. (DMTC)\, 607 Pena Dr.
CATEGORIES:Stage & Dance
ATTACH;FMTTYPE=image/jpeg:https://artsalliancedavis.org/wp-content/uploads/2026/03/RENT-rf3uEw.jpg
END:VEVENT
END:VCALENDAR