BEGIN:VCALENDAR
VERSION:2.0
PRODID:-//Arts Alliance Davis - ECPv6.15.20//NONSGML v1.0//EN
CALSCALE:GREGORIAN
METHOD:PUBLISH
X-WR-CALNAME:Arts Alliance Davis
X-ORIGINAL-URL:https://artsalliancedavis.org
X-WR-CALDESC:Events for Arts Alliance Davis
REFRESH-INTERVAL;VALUE=DURATION:PT1H
X-Robots-Tag:noindex
X-PUBLISHED-TTL:PT1H
BEGIN:VTIMEZONE
TZID:America/Los_Angeles
BEGIN:DAYLIGHT
TZOFFSETFROM:-0800
TZOFFSETTO:-0700
TZNAME:PDT
DTSTART:20250309T100000
END:DAYLIGHT
BEGIN:STANDARD
TZOFFSETFROM:-0700
TZOFFSETTO:-0800
TZNAME:PST
DTSTART:20251102T090000
END:STANDARD
BEGIN:DAYLIGHT
TZOFFSETFROM:-0800
TZOFFSETTO:-0700
TZNAME:PDT
DTSTART:20260308T100000
END:DAYLIGHT
BEGIN:STANDARD
TZOFFSETFROM:-0700
TZOFFSETTO:-0800
TZNAME:PST
DTSTART:20261101T090000
END:STANDARD
BEGIN:DAYLIGHT
TZOFFSETFROM:-0800
TZOFFSETTO:-0700
TZNAME:PDT
DTSTART:20270314T100000
END:DAYLIGHT
BEGIN:STANDARD
TZOFFSETFROM:-0700
TZOFFSETTO:-0800
TZNAME:PST
DTSTART:20271107T090000
END:STANDARD
END:VTIMEZONE
BEGIN:VEVENT
DTSTART;TZID=America/Los_Angeles:20260424T193000
DTEND;TZID=America/Los_Angeles:20260424T223000
DTSTAMP:20260424T072326
CREATED:20260124T233455Z
LAST-MODIFIED:20260124T233455Z
UID:23449-1777059000-1777069800@artsalliancedavis.org
SUMMARY:Shrek\, The Musical
DESCRIPTION:Shrek\, The Musical – April 24 through May 17\, 2026\nUnderwritten by Suzy Goldschmidt\, in honor of David Goldschmidt\nOnce upon a time\, in a far-away swamp\, there lived an ogre named Shrek. One day Shrek finds his swamp invaded by banished fairy tale misfits who have been cast off by Lord Farquaad\, a tiny terror with big ambitions. When Shrek sets off with a wisecracking donkey to confront Farquaad\, he’s handed a task – if he rescues feisty princess Fiona\, his swamp will be righted. Shrek tries to win Fiona’s love and vanquish Lord Farquaad but a fairy tale wouldn’t be complete without a few twists and turns along the way. \nRecommended for all ages
URL:https://artsalliancedavis.org/event/shrek-the-musical/
LOCATION:Davis Musical Theatre Co. (DMTC)\, 607 Pena Dr.
CATEGORIES:Stage & Dance
ATTACH;FMTTYPE=image/jpeg:https://artsalliancedavis.org/wp-content/uploads/2026/01/Shrek-Mainstage-dpJRAr.jpg
END:VEVENT
BEGIN:VEVENT
DTSTART;TZID=America/Los_Angeles:20260425T193000
DTEND;TZID=America/Los_Angeles:20260425T223000
DTSTAMP:20260424T072326
CREATED:20260126T000054Z
LAST-MODIFIED:20260126T000054Z
UID:23464-1777145400-1777156200@artsalliancedavis.org
SUMMARY:Shrek\, The Musical
DESCRIPTION:Shrek\, The Musical – April 24 through May 17\, 2026\nUnderwritten by Suzy Goldschmidt\, in honor of David Goldschmidt\nOnce upon a time\, in a far-away swamp\, there lived an ogre named Shrek. One day Shrek finds his swamp invaded by banished fairy tale misfits who have been cast off by Lord Farquaad\, a tiny terror with big ambitions. When Shrek sets off with a wisecracking donkey to confront Farquaad\, he’s handed a task – if he rescues feisty princess Fiona\, his swamp will be righted. Shrek tries to win Fiona’s love and vanquish Lord Farquaad but a fairy tale wouldn’t be complete without a few twists and turns along the way. \nRecommended for all ages
URL:https://artsalliancedavis.org/event/shrek-the-musical-2/
LOCATION:Davis Musical Theatre Co. (DMTC)\, 607 Pena Dr.
CATEGORIES:Stage & Dance
ATTACH;FMTTYPE=image/jpeg:https://artsalliancedavis.org/wp-content/uploads/2026/01/Shrek-Mainstage-dpJRAr.jpg
END:VEVENT
BEGIN:VEVENT
DTSTART;TZID=America/Los_Angeles:20260426T140000
DTEND;TZID=America/Los_Angeles:20260426T170000
DTSTAMP:20260424T072326
CREATED:20260127T113644Z
LAST-MODIFIED:20260127T113644Z
UID:23479-1777212000-1777222800@artsalliancedavis.org
SUMMARY:Shrek\, The Musical
DESCRIPTION:Shrek\, The Musical – April 24 through May 17\, 2026\nUnderwritten by Suzy Goldschmidt\, in honor of David Goldschmidt\nOnce upon a time\, in a far-away swamp\, there lived an ogre named Shrek. One day Shrek finds his swamp invaded by banished fairy tale misfits who have been cast off by Lord Farquaad\, a tiny terror with big ambitions. When Shrek sets off with a wisecracking donkey to confront Farquaad\, he’s handed a task – if he rescues feisty princess Fiona\, his swamp will be righted. Shrek tries to win Fiona’s love and vanquish Lord Farquaad but a fairy tale wouldn’t be complete without a few twists and turns along the way. \nRecommended for all ages
URL:https://artsalliancedavis.org/event/shrek-the-musical-3/
LOCATION:Davis Musical Theatre Co. (DMTC)\, 607 Pena Dr.
CATEGORIES:Stage & Dance
ATTACH;FMTTYPE=image/jpeg:https://artsalliancedavis.org/wp-content/uploads/2026/01/Shrek-Mainstage-dpJRAr.jpg
END:VEVENT
BEGIN:VEVENT
DTSTART;TZID=America/Los_Angeles:20260426T173000
DTEND;TZID=America/Los_Angeles:20260426T203000
DTSTAMP:20260424T072326
CREATED:20260306T221526Z
LAST-MODIFIED:20260306T221526Z
UID:24134-1777224600-1777235400@artsalliancedavis.org
SUMMARY:International Karaoke Night @ I-House
DESCRIPTION:International Karaoke Night is a high energy celebration of music\, culture\, and community. Sing songs from around the world — from favorites from your home country to global hits and timeless classics. No karaoke experience required! Everyone is welcome! \nThis evening is all about fun and connection\, not performance. Come solo or with friends. Sing your heart out\, cheer others on\, hit the dance floor\, or simply soak in the atmosphere in a welcoming\, low pressure space. Between performances\, there will be line dancing and raffle prizes given away! \nDiscover music in different languages\, meet new people\, and take part in a joyful evening that brings cultures together through shared experience. Get your ticket and join us for a night where community is built one song at a time.
URL:https://artsalliancedavis.org/event/international-karaoke-night-i-house/
LOCATION:International House Davis\, 10 College Park\, Davis\, CA\, 95616\, United States
CATEGORIES:Art,Community,Featured,Food & Drink,Music,Stage & Dance
ATTACH;FMTTYPE=image/png:https://artsalliancedavis.org/wp-content/uploads/2026/03/International-Karaoke-Flyer-8y8e38.png
ORGANIZER;CN="International House Davis":MAILTO:shahzana@ihousedavis.org
END:VEVENT
END:VCALENDAR