BEGIN:VCALENDAR
VERSION:2.0
PRODID:-//Arts Alliance Davis - ECPv6.15.20//NONSGML v1.0//EN
CALSCALE:GREGORIAN
METHOD:PUBLISH
X-ORIGINAL-URL:https://artsalliancedavis.org
X-WR-CALDESC:Events for Arts Alliance Davis
REFRESH-INTERVAL;VALUE=DURATION:PT1H
X-Robots-Tag:noindex
X-PUBLISHED-TTL:PT1H
BEGIN:VTIMEZONE
TZID:America/Los_Angeles
BEGIN:DAYLIGHT
TZOFFSETFROM:-0800
TZOFFSETTO:-0700
TZNAME:PDT
DTSTART:20230312T100000
END:DAYLIGHT
BEGIN:STANDARD
TZOFFSETFROM:-0700
TZOFFSETTO:-0800
TZNAME:PST
DTSTART:20231105T090000
END:STANDARD
BEGIN:DAYLIGHT
TZOFFSETFROM:-0800
TZOFFSETTO:-0700
TZNAME:PDT
DTSTART:20240310T100000
END:DAYLIGHT
BEGIN:STANDARD
TZOFFSETFROM:-0700
TZOFFSETTO:-0800
TZNAME:PST
DTSTART:20241103T090000
END:STANDARD
BEGIN:DAYLIGHT
TZOFFSETFROM:-0800
TZOFFSETTO:-0700
TZNAME:PDT
DTSTART:20250309T100000
END:DAYLIGHT
BEGIN:STANDARD
TZOFFSETFROM:-0700
TZOFFSETTO:-0800
TZNAME:PST
DTSTART:20251102T090000
END:STANDARD
END:VTIMEZONE
BEGIN:VEVENT
DTSTART;TZID=America/Los_Angeles:20241116T090000
DTEND;TZID=America/Los_Angeles:20241116T130000
DTSTAMP:20260424T185735
CREATED:20240912T205951Z
LAST-MODIFIED:20240912T205951Z
UID:14615-1731747600-1731762000@artsalliancedavis.org
SUMMARY:UC Davis Arboretum Clearance Plant Sale
DESCRIPTION:Fall is the best time to plant! At this sale\, all four hours are open to the public and our remaining inventory will be marked down. In addition to clearance sale pricing\, Members of the Friends of the UC Davis Arboretum and Public Garden will receive an additional 10% off their purchases! \nNot a member? Join the Friends online\, at the door or call ahead; new members receive a $10-off coupon to thank you for joining. LEARN MORE \nVisit our Fall Plant Sale webpage for more information \n 
URL:https://artsalliancedavis.org/event/uc-davis-arboretum-clearance-plant-sale/
LOCATION:Arboretum Teaching Nursery\, 920 Garrod Dr\, Davis\, Ca
CATEGORIES:Bring the Kids,Community,Outside,Shopping
ATTACH;FMTTYPE=image/jpeg:https://artsalliancedavis.org/wp-content/uploads/2024/09/fall-plant-sale-1-inbnXT.tmp_.jpg
END:VEVENT
END:VCALENDAR