BEGIN:VCALENDAR
VERSION:2.0
PRODID:-//Arts Alliance Davis - ECPv6.15.20//NONSGML v1.0//EN
CALSCALE:GREGORIAN
METHOD:PUBLISH
X-ORIGINAL-URL:https://artsalliancedavis.org
X-WR-CALDESC:Events for Arts Alliance Davis
REFRESH-INTERVAL;VALUE=DURATION:PT1H
X-Robots-Tag:noindex
X-PUBLISHED-TTL:PT1H
BEGIN:VTIMEZONE
TZID:America/Los_Angeles
BEGIN:DAYLIGHT
TZOFFSETFROM:-0800
TZOFFSETTO:-0700
TZNAME:PDT
DTSTART:20240310T100000
END:DAYLIGHT
BEGIN:STANDARD
TZOFFSETFROM:-0700
TZOFFSETTO:-0800
TZNAME:PST
DTSTART:20241103T090000
END:STANDARD
BEGIN:DAYLIGHT
TZOFFSETFROM:-0800
TZOFFSETTO:-0700
TZNAME:PDT
DTSTART:20250309T100000
END:DAYLIGHT
BEGIN:STANDARD
TZOFFSETFROM:-0700
TZOFFSETTO:-0800
TZNAME:PST
DTSTART:20251102T090000
END:STANDARD
BEGIN:DAYLIGHT
TZOFFSETFROM:-0800
TZOFFSETTO:-0700
TZNAME:PDT
DTSTART:20260308T100000
END:DAYLIGHT
BEGIN:STANDARD
TZOFFSETFROM:-0700
TZOFFSETTO:-0800
TZNAME:PST
DTSTART:20261101T090000
END:STANDARD
END:VTIMEZONE
BEGIN:VEVENT
DTSTART;TZID=America/Los_Angeles:20250427T100000
DTEND;TZID=America/Los_Angeles:20250427T160000
DTSTAMP:20260424T093402
CREATED:20250315T170154Z
LAST-MODIFIED:20250315T170154Z
UID:18298-1745748000-1745769600@artsalliancedavis.org
SUMMARY:Rustic Ramble: A Capay Valley Grown Farm & Garden Tour
DESCRIPTION:CAPAY VALLEY LAVENDER FARM. The Rustic Ramble is a self-guided farm and garden tour that invites you to explore the rich agricultural landscape of Capay Valley. Wander through vibrant orchards\, flourishing vegetable fields\, thoughtfully designed gardens while meeting the growers (and some animals!) who steward the land. Along the way\, enjoy hands-on activities\, tastings\, and a deeper connection to the vibrant Capay Valley! 10a – 4p. $20 – $60. \n 
URL:https://artsalliancedavis.org/event/rustic-ramble-a-capay-valley-grown-farm-garden-tour/
LOCATION:Capay Valley Lavendar Farm\, Capay Valley Lavender\, County Road 79\, Capay\, CA\, 95607
CATEGORIES:Community,Food & Drink,Outside
ATTACH;FMTTYPE=image/jpeg:https://artsalliancedavis.org/wp-content/uploads/2025/03/Presented-by-Capay-Valley-Vision-2-k9qbnQ.tmp_.jpg
ORGANIZER;CN="Capay Valley Vision":MAILTO:info@capayvalleyvision.org
END:VEVENT
END:VCALENDAR