BEGIN:VCALENDAR
VERSION:2.0
PRODID:-//Arts Alliance Davis - ECPv6.15.20//NONSGML v1.0//EN
CALSCALE:GREGORIAN
METHOD:PUBLISH
X-ORIGINAL-URL:https://artsalliancedavis.org
X-WR-CALDESC:Events for Arts Alliance Davis
REFRESH-INTERVAL;VALUE=DURATION:PT1H
X-Robots-Tag:noindex
X-PUBLISHED-TTL:PT1H
BEGIN:VTIMEZONE
TZID:America/Los_Angeles
BEGIN:DAYLIGHT
TZOFFSETFROM:-0800
TZOFFSETTO:-0700
TZNAME:PDT
DTSTART:20240310T100000
END:DAYLIGHT
BEGIN:STANDARD
TZOFFSETFROM:-0700
TZOFFSETTO:-0800
TZNAME:PST
DTSTART:20241103T090000
END:STANDARD
BEGIN:DAYLIGHT
TZOFFSETFROM:-0800
TZOFFSETTO:-0700
TZNAME:PDT
DTSTART:20250309T100000
END:DAYLIGHT
BEGIN:STANDARD
TZOFFSETFROM:-0700
TZOFFSETTO:-0800
TZNAME:PST
DTSTART:20251102T090000
END:STANDARD
BEGIN:DAYLIGHT
TZOFFSETFROM:-0800
TZOFFSETTO:-0700
TZNAME:PDT
DTSTART:20260308T100000
END:DAYLIGHT
BEGIN:STANDARD
TZOFFSETFROM:-0700
TZOFFSETTO:-0800
TZNAME:PST
DTSTART:20261101T090000
END:STANDARD
END:VTIMEZONE
BEGIN:VEVENT
DTSTART;TZID=America/Los_Angeles:20250503T093000
DTEND;TZID=America/Los_Angeles:20250503T150000
DTSTAMP:20260424T081535
CREATED:20250404T112307Z
LAST-MODIFIED:20250404T112307Z
UID:18751-1746264600-1746284400@artsalliancedavis.org
SUMMARY:Gardens Gone Native Tour
DESCRIPTION:The Sacramento Valley Chapter of the California Native Plant Society (CNPS) is once again sponsoring a free\, in-person\, self-guided native garden tour on Saturday\, May 3\, 2025. There will be approximately 30 gardens on display featuring California native plants; garden designs; plants for sun\, shade\, or a combination; and small spaces\, large lots\, and everything in between. Various local native plant nurseries/vendors will also be present at select gardens. Join us on the 2025 Gardens Gone Native Garden Tour – bring a friend or two\, or make it a family outing! \nThe tour supports the mission of the CNPS Sacramento Valley Chapter by raising awareness of the beauty and environmental functions of California’s diverse native plants. Our goal is to provide members of our community with the opportunity to view outstanding examples of native plant gardens\, promote the benefits and use of California natives in home and public gardens\, and provide information on how to plant and successfully grow native plants. Our hosts will have plants labeled with both their scientific and common names and will be available to answer questions the day of the tour. \nView our 2024 Good Day Sacramento segment embedded below or via https://youtu.be/SgSlMWuwSyE?si=FeDizKATzr2wTGdD. \nFollow us on Facebook and Instagram: @gardensgonenative \nWeb: https://www.sacvalleycnps.org/gardens-gone-native-tour/ \n#californianativeplants #canativeplantsociety #garden #gardening #gardensgonenative #gardentour #grownatives #homegrownhabitat #nativeplants #sacramento #sacvalleycnps #tour
URL:https://artsalliancedavis.org/event/gardens-gone-native-tour/
CATEGORIES:Outside
ATTACH;FMTTYPE=image/jpeg:https://artsalliancedavis.org/wp-content/uploads/2018/10/orange-white-aad-logo.jpg
END:VEVENT
END:VCALENDAR