BEGIN:VCALENDAR
VERSION:2.0
PRODID:-//Arts Alliance Davis - ECPv6.15.20//NONSGML v1.0//EN
CALSCALE:GREGORIAN
METHOD:PUBLISH
X-ORIGINAL-URL:https://artsalliancedavis.org
X-WR-CALDESC:Events for Arts Alliance Davis
REFRESH-INTERVAL;VALUE=DURATION:PT1H
X-Robots-Tag:noindex
X-PUBLISHED-TTL:PT1H
BEGIN:VTIMEZONE
TZID:America/Los_Angeles
BEGIN:DAYLIGHT
TZOFFSETFROM:-0800
TZOFFSETTO:-0700
TZNAME:PDT
DTSTART:20250309T100000
END:DAYLIGHT
BEGIN:STANDARD
TZOFFSETFROM:-0700
TZOFFSETTO:-0800
TZNAME:PST
DTSTART:20251102T090000
END:STANDARD
BEGIN:DAYLIGHT
TZOFFSETFROM:-0800
TZOFFSETTO:-0700
TZNAME:PDT
DTSTART:20260308T100000
END:DAYLIGHT
BEGIN:STANDARD
TZOFFSETFROM:-0700
TZOFFSETTO:-0800
TZNAME:PST
DTSTART:20261101T090000
END:STANDARD
BEGIN:DAYLIGHT
TZOFFSETFROM:-0800
TZOFFSETTO:-0700
TZNAME:PDT
DTSTART:20270314T100000
END:DAYLIGHT
BEGIN:STANDARD
TZOFFSETFROM:-0700
TZOFFSETTO:-0800
TZNAME:PST
DTSTART:20271107T090000
END:STANDARD
END:VTIMEZONE
BEGIN:VEVENT
DTSTART;TZID=America/Los_Angeles:20260509T090000
DTEND;TZID=America/Los_Angeles:20260509T170000
DTSTAMP:20260423T144639
CREATED:20260324T141454Z
LAST-MODIFIED:20260324T141454Z
UID:24446-1778317200-1778346000@artsalliancedavis.org
SUMMARY:Willow Basketry: Weave a Gathering Basket
DESCRIPTION:Basketry is a time-honored craft rooted in place\, patience\, and practice. In this hands-on workshop led by Samantha Iacobello\, participants will learn the basics of “Stick and Strand” style basketry and create a 10” Berry Basket with a handle. Your finished basket will be perfect for garden harvests\, trips to the farmers market\, or gathering forest school treasures. Participants will have the opportunity to work with willow varieties sourced by Samantha from local watersheds\, including ‘Creek Willow\,’ ‘Sandbar Willow\,’ and ‘Purple Osier Willow’ along with cultivars and landrace varieties grown in her gardens. \nAll tools and materials will be provided. This workshop requires hand strength\, the ability to do repetitive hand movements\, and comfort sitting on the ground for extended periods of time. \nParticipants are encouraged to bring a cushion or low lawn chair for seating\, as well as a favorite utility or pocket knife if you have one. Please bring your own lunch\, snacks\, and drinking water – we will be enjoying a lunch break together halfway through the day. \nSliding scale cost of $70-$100 (pay what you can). Ages 12+ welcome. Only 10 spots available! \n 
URL:https://artsalliancedavis.org/event/willow-basketry-weave-a-gathering-basket/
CATEGORIES:Community,Outside
ATTACH;FMTTYPE=image/png:https://artsalliancedavis.org/wp-content/uploads/2026/03/Willow-Basketry_TheDirt-8H0Jx2.png
ORGANIZER;CN="Davis Forest School":MAILTO:programs@davisforestschool.org
END:VEVENT
END:VCALENDAR