BEGIN:VCALENDAR
VERSION:2.0
PRODID:-//Arts Alliance Davis - ECPv6.15.20//NONSGML v1.0//EN
CALSCALE:GREGORIAN
METHOD:PUBLISH
X-ORIGINAL-URL:https://artsalliancedavis.org
X-WR-CALDESC:Events for Arts Alliance Davis
REFRESH-INTERVAL;VALUE=DURATION:PT1H
X-Robots-Tag:noindex
X-PUBLISHED-TTL:PT1H
BEGIN:VTIMEZONE
TZID:America/Los_Angeles
BEGIN:DAYLIGHT
TZOFFSETFROM:-0800
TZOFFSETTO:-0700
TZNAME:PDT
DTSTART:20240310T100000
END:DAYLIGHT
BEGIN:STANDARD
TZOFFSETFROM:-0700
TZOFFSETTO:-0800
TZNAME:PST
DTSTART:20241103T090000
END:STANDARD
BEGIN:DAYLIGHT
TZOFFSETFROM:-0800
TZOFFSETTO:-0700
TZNAME:PDT
DTSTART:20250309T100000
END:DAYLIGHT
BEGIN:STANDARD
TZOFFSETFROM:-0700
TZOFFSETTO:-0800
TZNAME:PST
DTSTART:20251102T090000
END:STANDARD
BEGIN:DAYLIGHT
TZOFFSETFROM:-0800
TZOFFSETTO:-0700
TZNAME:PDT
DTSTART:20260308T100000
END:DAYLIGHT
BEGIN:STANDARD
TZOFFSETFROM:-0700
TZOFFSETTO:-0800
TZNAME:PST
DTSTART:20261101T090000
END:STANDARD
END:VTIMEZONE
BEGIN:VEVENT
DTSTART;TZID=America/Los_Angeles:20251112T190000
DTEND;TZID=America/Los_Angeles:20251112T213000
DTSTAMP:20260424T003334
CREATED:20251024T163939Z
LAST-MODIFIED:20251024T163939Z
UID:21712-1762974000-1762983000@artsalliancedavis.org
SUMMARY:Print-making Workshop
DESCRIPTION:Come follow on from The Fera House paper-making workshop (November 5th)\, or join us fresh to learn how to make multiple hand-drawn prints from plastic\, tetra paks\, and pasta makers! \nMeet new folks\, share a cup of tea\, and get a bit messy scratching\, inking\, and pressing to make art on your own homemade paper or available postcards and paper. These will be wonderful works of art that can be used as cards or little gifts for the holidays. \nRegister at https://www.ferahouse.com/.
URL:https://artsalliancedavis.org/event/print-making-workshop/
LOCATION:Fera House\, Davis\, CA\, 95616
CATEGORIES:Art,Community
ATTACH;FMTTYPE=image/jpeg:https://artsalliancedavis.org/wp-content/uploads/2025/10/IMG_0543-6Ey1pV.jpg
END:VEVENT
END:VCALENDAR