BEGIN:VCALENDAR
VERSION:2.0
PRODID:-//Arts Alliance Davis - ECPv6.15.20//NONSGML v1.0//EN
CALSCALE:GREGORIAN
METHOD:PUBLISH
X-ORIGINAL-URL:https://artsalliancedavis.org
X-WR-CALDESC:Events for Arts Alliance Davis
REFRESH-INTERVAL;VALUE=DURATION:PT1H
X-Robots-Tag:noindex
X-PUBLISHED-TTL:PT1H
BEGIN:VTIMEZONE
TZID:America/Los_Angeles
BEGIN:DAYLIGHT
TZOFFSETFROM:-0800
TZOFFSETTO:-0700
TZNAME:PDT
DTSTART:20250309T100000
END:DAYLIGHT
BEGIN:STANDARD
TZOFFSETFROM:-0700
TZOFFSETTO:-0800
TZNAME:PST
DTSTART:20251102T090000
END:STANDARD
BEGIN:DAYLIGHT
TZOFFSETFROM:-0800
TZOFFSETTO:-0700
TZNAME:PDT
DTSTART:20260308T100000
END:DAYLIGHT
BEGIN:STANDARD
TZOFFSETFROM:-0700
TZOFFSETTO:-0800
TZNAME:PST
DTSTART:20261101T090000
END:STANDARD
BEGIN:DAYLIGHT
TZOFFSETFROM:-0800
TZOFFSETTO:-0700
TZNAME:PDT
DTSTART:20270314T100000
END:DAYLIGHT
BEGIN:STANDARD
TZOFFSETFROM:-0700
TZOFFSETTO:-0800
TZNAME:PST
DTSTART:20271107T090000
END:STANDARD
END:VTIMEZONE
BEGIN:VEVENT
DTSTART;TZID=America/Los_Angeles:20260219T190000
DTEND;TZID=America/Los_Angeles:20260219T203000
DTSTAMP:20260424T071618
CREATED:20260112T201240Z
LAST-MODIFIED:20260112T201240Z
UID:23165-1771527600-1771533000@artsalliancedavis.org
SUMMARY:100+ Women Who Care Yolo County Quarterly Giving Circle
DESCRIPTION:100+ Women Who Care Yolo County is an extraordinary group of women who make an immediate\, direct\, and positive impact on Yolo County through collective giving. Our members commit to giving $100 each quarter to a nonprofit serving Yolo County that is selected by the members. Since our first meeting in November 2016\, 100+ Women Who Care Yolo County has collectively donated over $420\,000 to more than 25 nonprofits. We’ve made a big impact using our simple model of giving together. \nWe meet just four times a year (February\, May\, August\, and November) and each meeting includes a half hour of socializing followed by a one hour meeting. We hear short presentations from three nonprofits\, we vote\, then everyone donates to the selected organization. Just like that your $100 donation can turn into a $10\,000 collective donation and make a big impact! \nOn February 19th we will consider:\nMosaic Children’s Museum\nTherapeutic Riding and Off-Track Rehabilitation (T.R.O.T.R.)\nPence Gallery \nWe are pleased to be partnering with our local Sudwerk Brewing Company to make our meetings fun and festive as we come together to support nonprofits working in our local community. We’ll start with time to mingle from 7pm-7:30pm so you can connect with each other\, meet representatives from the nonprofits\, and ask any questions you may have. The meetings begin promptly at 7:30pm where we’ll hear from three nonprofits and then vote to decide who will be the recipient of our collective gift. We’ll also hear from previous recipients about the impact of our gifts and randomly select the nonprofits to invite to the next meeting. \nEveryone is welcome! No RSVP or reservation required to attend. Only members can vote\, but you don’t have to be a member to attend. New members are welcome anytime and commit to donating $100 per quarter for at least one year. If you are interested in joining as a member prior to the meeting\, please visit our website: https://www.100wwcyolo.org
URL:https://artsalliancedavis.org/event/100-women-who-care-yolo-county-quarterly-giving-circle-2/
LOCATION:Sudwerk Brewing Co  2001 2nd Street  Davis\, CA 95618\, 2001 2nd Street\, Davis\, CA\, 95618\, United States
CATEGORIES:Community
ATTACH;FMTTYPE=image/png:https://artsalliancedavis.org/wp-content/uploads/2026/01/100SunflowerOnly-UC3PU3.png
ORGANIZER;CN="100+ Women Who Care Yolo County":MAILTO:info@100wwcyolo.org
END:VEVENT
END:VCALENDAR