BEGIN:VCALENDAR
VERSION:2.0
PRODID:-//Arts Alliance Davis - ECPv6.15.20//NONSGML v1.0//EN
CALSCALE:GREGORIAN
METHOD:PUBLISH
X-WR-CALNAME:Arts Alliance Davis
X-ORIGINAL-URL:https://artsalliancedavis.org
X-WR-CALDESC:Events for Arts Alliance Davis
REFRESH-INTERVAL;VALUE=DURATION:PT1H
X-Robots-Tag:noindex
X-PUBLISHED-TTL:PT1H
BEGIN:VTIMEZONE
TZID:America/Los_Angeles
BEGIN:DAYLIGHT
TZOFFSETFROM:-0800
TZOFFSETTO:-0700
TZNAME:PDT
DTSTART:20230312T100000
END:DAYLIGHT
BEGIN:STANDARD
TZOFFSETFROM:-0700
TZOFFSETTO:-0800
TZNAME:PST
DTSTART:20231105T090000
END:STANDARD
BEGIN:DAYLIGHT
TZOFFSETFROM:-0800
TZOFFSETTO:-0700
TZNAME:PDT
DTSTART:20240310T100000
END:DAYLIGHT
BEGIN:STANDARD
TZOFFSETFROM:-0700
TZOFFSETTO:-0800
TZNAME:PST
DTSTART:20241103T090000
END:STANDARD
BEGIN:DAYLIGHT
TZOFFSETFROM:-0800
TZOFFSETTO:-0700
TZNAME:PDT
DTSTART:20250309T100000
END:DAYLIGHT
BEGIN:STANDARD
TZOFFSETFROM:-0700
TZOFFSETTO:-0800
TZNAME:PST
DTSTART:20251102T090000
END:STANDARD
END:VTIMEZONE
BEGIN:VEVENT
DTSTART;TZID=America/Los_Angeles:20241107T193000
DTEND;TZID=America/Los_Angeles:20241107T210000
DTSTAMP:20260424T185854
CREATED:20241027T124311Z
LAST-MODIFIED:20241027T124311Z
UID:15787-1731007800-1731013200@artsalliancedavis.org
SUMMARY:Thursday Live! ft. Nashville Honeymoon
DESCRIPTION:Nashville Honeymoon is the November Thursday Live! show at the Odd Fellows Hall. \nBorn in Berkeley and nurtured in live music venues on both sides of the Bay\, Nashville Honeymoon is a honkytonk band that plays their own special brand of California country.\nNashville Honeymoon is Lynne Maes and Hank Maninger\, along with bandmates Tim Wagar and Leor Beary. The band offers a distinctive sound and original compositions that honor traditional country music while deliberately pushing its boundaries. Hank’s driving lead guitar\, perfectly balanced by Lynne’s true-blue vocals\, are – as the old song goes – the right combination. Add tight vocal harmonies\, a rhythm section that can play a country shuffle every bit as well as a country rock anthem\, and you’ve got a dynamic and heartfelt show every time they hit the stage.\nHank has been active on the roots music scene since the early 80’s\, playing in bands such as Bonnie Hayes and the Wild Combo and internationally with the Hacienda Brothers. When he’s not busy with Nashville Honeymoon\, Hank leads his own roots trio (Hank Maninger and the Jukebox Charlies)\, and plays bass with The Seducers.\nNashville Honeymoon is proud to have one of the tightest rhythm sections around\, with Tim Wager on electric bass and Leor Beary on drums.\nThursday Live! is presented by the Davis Odd Fellows with the support of KDRT Radio. If you would like to be on our mailing list email Juelie Roggli at Juelrog@gmail.com \n 
URL:https://artsalliancedavis.org/event/thursday-live-ft-nashville-honeymoon-2/
LOCATION:Davis Odd Fellows
CATEGORIES:Music
ATTACH;FMTTYPE=image/jpeg:https://artsalliancedavis.org/wp-content/uploads/2024/10/Nashville-Honeymoon-Draft-Final-Poster-11.24-m4b4Xi.tmp_.jpg
ORGANIZER;CN="Davis Odd Fellows":MAILTO:davislodge@sbcglobal.net
END:VEVENT
END:VCALENDAR