BEGIN:VCALENDAR
VERSION:2.0
PRODID:-//Arts Alliance Davis - ECPv6.15.20//NONSGML v1.0//EN
CALSCALE:GREGORIAN
METHOD:PUBLISH
X-WR-CALNAME:Arts Alliance Davis
X-ORIGINAL-URL:https://artsalliancedavis.org
X-WR-CALDESC:Events for Arts Alliance Davis
REFRESH-INTERVAL;VALUE=DURATION:PT1H
X-Robots-Tag:noindex
X-PUBLISHED-TTL:PT1H
BEGIN:VTIMEZONE
TZID:America/Los_Angeles
BEGIN:DAYLIGHT
TZOFFSETFROM:-0800
TZOFFSETTO:-0700
TZNAME:PDT
DTSTART:20250309T100000
END:DAYLIGHT
BEGIN:STANDARD
TZOFFSETFROM:-0700
TZOFFSETTO:-0800
TZNAME:PST
DTSTART:20251102T090000
END:STANDARD
BEGIN:DAYLIGHT
TZOFFSETFROM:-0800
TZOFFSETTO:-0700
TZNAME:PDT
DTSTART:20260308T100000
END:DAYLIGHT
BEGIN:STANDARD
TZOFFSETFROM:-0700
TZOFFSETTO:-0800
TZNAME:PST
DTSTART:20261101T090000
END:STANDARD
BEGIN:DAYLIGHT
TZOFFSETFROM:-0800
TZOFFSETTO:-0700
TZNAME:PDT
DTSTART:20270314T100000
END:DAYLIGHT
BEGIN:STANDARD
TZOFFSETFROM:-0700
TZOFFSETTO:-0800
TZNAME:PST
DTSTART:20271107T090000
END:STANDARD
END:VTIMEZONE
BEGIN:VEVENT
DTSTART;TZID=America/Los_Angeles:20260305T180000
DTEND;TZID=America/Los_Angeles:20260305T200000
DTSTAMP:20260423T201137
CREATED:20260130T120955Z
LAST-MODIFIED:20260130T120955Z
UID:23508-1772733600-1772740800@artsalliancedavis.org
SUMMARY:Virtual Artist Talk with Ember de Boer
DESCRIPTION:Impression//Path is a solo show featuring work by Sacramento Artist\, Ember de Boer. Join us for this virtual artist talk to meet Ember and hear more about her artwork featured at Gallery 625! \nAll are welcome to join this event which is free and open to the public. For more information and to RSVP\, please visit: https://yoloarts.org/gallery-625/ \nIn de Boer’s exhibition\, translucent acrylic and resin are used to extend the experience of water as a light shimmer on the gallery walls. Water is vital for life\, and vital to our region. Featured artworks represent the rich history of our region through the narrative of water use and flooding. These works highlight the vital choices that lie ahead and the challenges that face us as we decide the future of water in our region. \nImpression//Path is on view at Gallery 625 from February 2 through March 17\, 2026. \nGallery 625 is located at 625 Court Street in Woodland\, in Yolo County’s Erwin Meier Administration building and is open Monday – Friday 8 a.m.- 5 p.m. For information or to purchase artwork\, contact YoloArts by calling or texting 530-309-6464 or emailing ya@yoloarts.org.
URL:https://artsalliancedavis.org/event/virtual-artist-talk-with-ember-de-boer/
LOCATION:Online via Zoom
CATEGORIES:Art,Community
ATTACH;FMTTYPE=image/jpeg:https://artsalliancedavis.org/wp-content/uploads/2026/01/Artist-Talk-with-UYeUOw.jpg
ORGANIZER;CN="YoloArts":MAILTO:jpurnell@yoloarts.org
END:VEVENT
END:VCALENDAR