BEGIN:VCALENDAR
VERSION:2.0
PRODID:-//Arts Alliance Davis - ECPv6.15.20//NONSGML v1.0//EN
CALSCALE:GREGORIAN
METHOD:PUBLISH
X-WR-CALNAME:Arts Alliance Davis
X-ORIGINAL-URL:https://artsalliancedavis.org
X-WR-CALDESC:Events for Arts Alliance Davis
REFRESH-INTERVAL;VALUE=DURATION:PT1H
X-Robots-Tag:noindex
X-PUBLISHED-TTL:PT1H
BEGIN:VTIMEZONE
TZID:America/Los_Angeles
BEGIN:DAYLIGHT
TZOFFSETFROM:-0800
TZOFFSETTO:-0700
TZNAME:PDT
DTSTART:20240310T100000
END:DAYLIGHT
BEGIN:STANDARD
TZOFFSETFROM:-0700
TZOFFSETTO:-0800
TZNAME:PST
DTSTART:20241103T090000
END:STANDARD
BEGIN:DAYLIGHT
TZOFFSETFROM:-0800
TZOFFSETTO:-0700
TZNAME:PDT
DTSTART:20250309T100000
END:DAYLIGHT
BEGIN:STANDARD
TZOFFSETFROM:-0700
TZOFFSETTO:-0800
TZNAME:PST
DTSTART:20251102T090000
END:STANDARD
BEGIN:DAYLIGHT
TZOFFSETFROM:-0800
TZOFFSETTO:-0700
TZNAME:PDT
DTSTART:20260308T100000
END:DAYLIGHT
BEGIN:STANDARD
TZOFFSETFROM:-0700
TZOFFSETTO:-0800
TZNAME:PST
DTSTART:20261101T090000
END:STANDARD
END:VTIMEZONE
BEGIN:VEVENT
DTSTART;TZID=America/Los_Angeles:20250209T130000
DTEND;TZID=America/Los_Angeles:20250209T150000
DTSTAMP:20260424T160333
CREATED:20250209T195057Z
LAST-MODIFIED:20250209T195057Z
UID:17475-1739106000-1739113200@artsalliancedavis.org
SUMMARY:Blade Mastery: Tools\, Techniques\, and Safety for the Outdoors
DESCRIPTION:Davis Forest School is calling all those who are interested in strengthening their outdoor skills with this essential foundational class! Unlock the full potential of the most important tool in the wilderness – your blade. Join instructor Kevin Hawkins to learn how to confidently and safely use knives and other cutting tools for a variety of wilderness skills. This hands-on workshop covers a range of cutting tools including axes\, hatchets\, knives\, and saws. We will go over essential techniques\, blade care and maintenance\, sharpening\, and best practices for safe handling. Whether you’re a beginner or looking to refine your skills\, this class will empower you with the knowledge and confidence to use your blade as a versatile tool in any outdoor adventure. We encourage you to bring all your cutting tools and sharpening kits\, and we will have extras to use as well Minimum age: 7. 1p – 4p. Tiered pricing\, $20 – $40.
URL:https://artsalliancedavis.org/event/blade-mastery-tools-techniques-and-safety-for-the-outdoors/
LOCATION:Davis\, Davis CA\, CA\, 95616
CATEGORIES:Bring the Kids,Community,Outside
ATTACH;FMTTYPE=image/jpeg:https://artsalliancedavis.org/wp-content/uploads/2025/02/Blade-Mastery-uuodyD.tmp_.jpg
ORGANIZER;CN="Davis Forest School":MAILTO:programs@davisforestschool.org
END:VEVENT
END:VCALENDAR