BEGIN:VCALENDAR
VERSION:2.0
PRODID:-//Arts Alliance Davis - ECPv6.15.20//NONSGML v1.0//EN
CALSCALE:GREGORIAN
METHOD:PUBLISH
X-ORIGINAL-URL:https://artsalliancedavis.org
X-WR-CALDESC:Events for Arts Alliance Davis
REFRESH-INTERVAL;VALUE=DURATION:PT1H
X-Robots-Tag:noindex
X-PUBLISHED-TTL:PT1H
BEGIN:VTIMEZONE
TZID:America/Los_Angeles
BEGIN:DAYLIGHT
TZOFFSETFROM:-0800
TZOFFSETTO:-0700
TZNAME:PDT
DTSTART:20240310T100000
END:DAYLIGHT
BEGIN:STANDARD
TZOFFSETFROM:-0700
TZOFFSETTO:-0800
TZNAME:PST
DTSTART:20241103T090000
END:STANDARD
BEGIN:DAYLIGHT
TZOFFSETFROM:-0800
TZOFFSETTO:-0700
TZNAME:PDT
DTSTART:20250309T100000
END:DAYLIGHT
BEGIN:STANDARD
TZOFFSETFROM:-0700
TZOFFSETTO:-0800
TZNAME:PST
DTSTART:20251102T090000
END:STANDARD
BEGIN:DAYLIGHT
TZOFFSETFROM:-0800
TZOFFSETTO:-0700
TZNAME:PDT
DTSTART:20260308T100000
END:DAYLIGHT
BEGIN:STANDARD
TZOFFSETFROM:-0700
TZOFFSETTO:-0800
TZNAME:PST
DTSTART:20261101T090000
END:STANDARD
END:VTIMEZONE
BEGIN:VEVENT
DTSTART;TZID=America/Los_Angeles:20251101T080000
DTEND;TZID=America/Los_Angeles:20251101T100000
DTSTAMP:20260423T234842
CREATED:20250825T152244Z
LAST-MODIFIED:20250825T152244Z
UID:20540-1761984000-1761991200@artsalliancedavis.org
SUMMARY:Mace Ranch parkrun
DESCRIPTION:A free\, fun\, and friendly weekly 5k community event. Walk\, jog\, run\, volunteer or spectate – it’s up to you!
URL:https://artsalliancedavis.org/event/mace-ranch-parkrun-11/
LOCATION:Mace Ranch Park\, 3141 5th St\, Davis\, CA\, 95618\, United States
CATEGORIES:Community,Fitness
ATTACH;FMTTYPE=image/jpeg:https://artsalliancedavis.org/wp-content/uploads/2025/08/490505885_122095276274854875_5431959594237164338_n-xDFuIe.jpg
END:VEVENT
BEGIN:VEVENT
DTSTART;TZID=America/Los_Angeles:20251108T080000
DTEND;TZID=America/Los_Angeles:20251108T100000
DTSTAMP:20260423T234842
CREATED:20250825T152449Z
LAST-MODIFIED:20250825T152449Z
UID:20606-1762588800-1762596000@artsalliancedavis.org
SUMMARY:Mace Ranch parkrun
DESCRIPTION:A free\, fun\, and friendly weekly 5k community event. Walk\, jog\, run\, volunteer or spectate – it’s up to you!
URL:https://artsalliancedavis.org/event/mace-ranch-parkrun-12/
LOCATION:Mace Ranch Park\, 3141 5th St\, Davis\, CA\, 95618\, United States
CATEGORIES:Community,Fitness
ATTACH;FMTTYPE=image/jpeg:https://artsalliancedavis.org/wp-content/uploads/2025/08/490505885_122095276274854875_5431959594237164338_n-xDFuIe.jpg
END:VEVENT
BEGIN:VEVENT
DTSTART;TZID=America/Los_Angeles:20251115T080000
DTEND;TZID=America/Los_Angeles:20251115T100000
DTSTAMP:20260423T234842
CREATED:20250825T152659Z
LAST-MODIFIED:20250825T152659Z
UID:20679-1763193600-1763200800@artsalliancedavis.org
SUMMARY:Mace Ranch parkrun
DESCRIPTION:A free\, fun\, and friendly weekly 5k community event. Walk\, jog\, run\, volunteer or spectate – it’s up to you!
URL:https://artsalliancedavis.org/event/mace-ranch-parkrun-13/
LOCATION:Mace Ranch Park\, 3141 5th St\, Davis\, CA\, 95618\, United States
CATEGORIES:Community,Fitness
ATTACH;FMTTYPE=image/jpeg:https://artsalliancedavis.org/wp-content/uploads/2025/08/490505885_122095276274854875_5431959594237164338_n-xDFuIe.jpg
END:VEVENT
BEGIN:VEVENT
DTSTART;TZID=America/Los_Angeles:20251122T080000
DTEND;TZID=America/Los_Angeles:20251122T100000
DTSTAMP:20260423T234842
CREATED:20250825T152911Z
LAST-MODIFIED:20250825T152911Z
UID:20738-1763798400-1763805600@artsalliancedavis.org
SUMMARY:Mace Ranch parkrun
DESCRIPTION:A free\, fun\, and friendly weekly 5k community event. Walk\, jog\, run\, volunteer or spectate – it’s up to you!
URL:https://artsalliancedavis.org/event/mace-ranch-parkrun-14/
LOCATION:Mace Ranch Park\, 3141 5th St\, Davis\, CA\, 95618\, United States
CATEGORIES:Community,Fitness
ATTACH;FMTTYPE=image/jpeg:https://artsalliancedavis.org/wp-content/uploads/2025/08/490505885_122095276274854875_5431959594237164338_n-xDFuIe.jpg
END:VEVENT
END:VCALENDAR