BEGIN:VCALENDAR
VERSION:2.0
PRODID:-//Arts Alliance Davis - ECPv6.15.20//NONSGML v1.0//EN
CALSCALE:GREGORIAN
METHOD:PUBLISH
X-WR-CALNAME:Arts Alliance Davis
X-ORIGINAL-URL:https://artsalliancedavis.org
X-WR-CALDESC:Events for Arts Alliance Davis
REFRESH-INTERVAL;VALUE=DURATION:PT1H
X-Robots-Tag:noindex
X-PUBLISHED-TTL:PT1H
BEGIN:VTIMEZONE
TZID:America/Los_Angeles
BEGIN:DAYLIGHT
TZOFFSETFROM:-0800
TZOFFSETTO:-0700
TZNAME:PDT
DTSTART:20230312T100000
END:DAYLIGHT
BEGIN:STANDARD
TZOFFSETFROM:-0700
TZOFFSETTO:-0800
TZNAME:PST
DTSTART:20231105T090000
END:STANDARD
BEGIN:DAYLIGHT
TZOFFSETFROM:-0800
TZOFFSETTO:-0700
TZNAME:PDT
DTSTART:20240310T100000
END:DAYLIGHT
BEGIN:STANDARD
TZOFFSETFROM:-0700
TZOFFSETTO:-0800
TZNAME:PST
DTSTART:20241103T090000
END:STANDARD
BEGIN:DAYLIGHT
TZOFFSETFROM:-0800
TZOFFSETTO:-0700
TZNAME:PDT
DTSTART:20250309T100000
END:DAYLIGHT
BEGIN:STANDARD
TZOFFSETFROM:-0700
TZOFFSETTO:-0800
TZNAME:PST
DTSTART:20251102T090000
END:STANDARD
END:VTIMEZONE
BEGIN:VEVENT
DTSTART;TZID=America/Los_Angeles:20241030T190000
DTEND;TZID=America/Los_Angeles:20241030T210000
DTSTAMP:20260424T201430
CREATED:20240921T233254Z
LAST-MODIFIED:20240921T233254Z
UID:14795-1730314800-1730322000@artsalliancedavis.org
SUMMARY:Davis Parent University Hosts Ned Johnson
DESCRIPTION:BRUNELLE THEATER.  Looking for tools to communicate more effectively with your kids\, short-circuit anxiety\, build motivation\, and nurture family connection?  Please join Davis Parent University (DPU) for its fall event with Ned Johnson\, national bestselling co-author of What Do You Say? How to Talk with Kids to Build Motivation\, Stress Tolerance\, and a Happy Home.  Ned will be sharing strategies for parents of kids of any age — young kids up to college age kids.  Pamela Wu\, Director of News and Media Relations for UC Davis Health\, will moderate the event\, which will include a 50 minute lecture by Ned\, followed by Q&A and a book signing.
URL:https://artsalliancedavis.org/event/davis-parent-university-hosts-ned-johnson/
LOCATION:Richard Brunelle Performance Hall\, 315 W 14th Street\, Davis\, CA\, 95616\, United States
CATEGORIES:Books & Talks,Community
ATTACH;FMTTYPE=image/jpeg:https://artsalliancedavis.org/wp-content/uploads/2024/09/Ned-Johnson-Headshot-scaled-EMtCPo.tmp_.jpg
ORGANIZER;CN="Davis Parent University":MAILTO:davisparented@gmail.com
END:VEVENT
END:VCALENDAR