BEGIN:VCALENDAR
VERSION:2.0
PRODID:-//Arts Alliance Davis - ECPv6.15.20//NONSGML v1.0//EN
CALSCALE:GREGORIAN
METHOD:PUBLISH
X-WR-CALNAME:Arts Alliance Davis
X-ORIGINAL-URL:https://artsalliancedavis.org
X-WR-CALDESC:Events for Arts Alliance Davis
REFRESH-INTERVAL;VALUE=DURATION:PT1H
X-Robots-Tag:noindex
X-PUBLISHED-TTL:PT1H
BEGIN:VTIMEZONE
TZID:America/Los_Angeles
BEGIN:DAYLIGHT
TZOFFSETFROM:-0800
TZOFFSETTO:-0700
TZNAME:PDT
DTSTART:20240310T100000
END:DAYLIGHT
BEGIN:STANDARD
TZOFFSETFROM:-0700
TZOFFSETTO:-0800
TZNAME:PST
DTSTART:20241103T090000
END:STANDARD
BEGIN:DAYLIGHT
TZOFFSETFROM:-0800
TZOFFSETTO:-0700
TZNAME:PDT
DTSTART:20250309T100000
END:DAYLIGHT
BEGIN:STANDARD
TZOFFSETFROM:-0700
TZOFFSETTO:-0800
TZNAME:PST
DTSTART:20251102T090000
END:STANDARD
BEGIN:DAYLIGHT
TZOFFSETFROM:-0800
TZOFFSETTO:-0700
TZNAME:PDT
DTSTART:20260308T100000
END:DAYLIGHT
BEGIN:STANDARD
TZOFFSETFROM:-0700
TZOFFSETTO:-0800
TZNAME:PST
DTSTART:20261101T090000
END:STANDARD
END:VTIMEZONE
BEGIN:VEVENT
DTSTART;TZID=America/Los_Angeles:20250129T190000
DTEND;TZID=America/Los_Angeles:20250129T203000
DTSTAMP:20260424T160816
CREATED:20250121T153645Z
LAST-MODIFIED:20250121T153645Z
UID:17186-1738177200-1738182600@artsalliancedavis.org
SUMMARY:Learning from Failure & Raising Healthy Kids: Davis Parent University Hosts NYT Bestselling Author Jess Lahey
DESCRIPTION:Davis Parent University (DPU) hosts a FREE webinar with nationally acclaimed author and educator\, Jessica Lahey\, on January 29 at 7 PM.  Armed with cutting-edge research\, humor\, and a wealth of life experience\, Jessica will discuss material from both of her books\, The Gift of Failure and The Addiction Inoculation.  To learn more\, watch Jessica’s PREVIEW VIDEO.  Please register HERE to attend.  To watch Jessica with other parents and educators\, please join DPU’s Watch Party at Da Vinci High School’s Pamela Mari Tech Hub\, 1400 East 8th St\, Davis.  More details are available at davisparentuniversity.com. \n 
URL:https://artsalliancedavis.org/event/learning-from-failure-raising-healthy-kids-davis-parent-university-hosts-nyt-bestselling-author-jess-lahey/
CATEGORIES:Books & Talks
ATTACH;FMTTYPE=image/jpeg:https://artsalliancedavis.org/wp-content/uploads/2025/01/Jessica-Lahey-headshot-ydsseE.tmp_.jpg
END:VEVENT
END:VCALENDAR