BEGIN:VCALENDAR
VERSION:2.0
PRODID:-//Arts Alliance Davis - ECPv6.15.20//NONSGML v1.0//EN
CALSCALE:GREGORIAN
METHOD:PUBLISH
X-ORIGINAL-URL:https://artsalliancedavis.org
X-WR-CALDESC:Events for Arts Alliance Davis
REFRESH-INTERVAL;VALUE=DURATION:PT1H
X-Robots-Tag:noindex
X-PUBLISHED-TTL:PT1H
BEGIN:VTIMEZONE
TZID:America/Los_Angeles
BEGIN:DAYLIGHT
TZOFFSETFROM:-0800
TZOFFSETTO:-0700
TZNAME:PDT
DTSTART:20240310T100000
END:DAYLIGHT
BEGIN:STANDARD
TZOFFSETFROM:-0700
TZOFFSETTO:-0800
TZNAME:PST
DTSTART:20241103T090000
END:STANDARD
BEGIN:DAYLIGHT
TZOFFSETFROM:-0800
TZOFFSETTO:-0700
TZNAME:PDT
DTSTART:20250309T100000
END:DAYLIGHT
BEGIN:STANDARD
TZOFFSETFROM:-0700
TZOFFSETTO:-0800
TZNAME:PST
DTSTART:20251102T090000
END:STANDARD
BEGIN:DAYLIGHT
TZOFFSETFROM:-0800
TZOFFSETTO:-0700
TZNAME:PDT
DTSTART:20260308T100000
END:DAYLIGHT
BEGIN:STANDARD
TZOFFSETFROM:-0700
TZOFFSETTO:-0800
TZNAME:PST
DTSTART:20261101T090000
END:STANDARD
END:VTIMEZONE
BEGIN:VEVENT
DTSTART;TZID=America/Los_Angeles:20250208T150000
DTEND;TZID=America/Los_Angeles:20250208T170000
DTSTAMP:20260424T145132
CREATED:20250121T153841Z
LAST-MODIFIED:20250121T153841Z
UID:17200-1739026800-1739034000@artsalliancedavis.org
SUMMARY:Infant & Toddler Open House
DESCRIPTION:Give Your Baby a Bright Start – Don’t Miss Our Open House!\nSet the foundation for your baby’s bright future with: \nInfant & Toddler Swim Lessons \n\nWatch our classes in action and learn about water safety!\nLearn about our FREE Water Tykes Class for babies aged 2 to 6 months!\n\nSweet Peas Educational Gymnastics \n\nAttend our Wee & One Peas classes and see how we create fun\, developmental opportunities for your infants & toddlers.\nLearn more about our new Sweet Peas Support Group\n\nMeet birth & postpartum healthcare professionals \nConnect\, Learn\, and Explore\n 
URL:https://artsalliancedavis.org/event/infant-toddler-open-house/
LOCATION:2121 2nd Street Suite 101A\, Davis\, CA 95618\, 2121 2nd Street\, Suite 101A\, Davis\, 95618\, United States
CATEGORIES:Bring the Kids,Community
ATTACH;FMTTYPE=image/jpeg:https://artsalliancedavis.org/wp-content/uploads/2025/01/INFANT-FOCUSED-OPEN-HOUSE-POSTCARD-dW9d1f.tmp_.jpg
ORGANIZER;CN="SwimAmerica-Davis":MAILTO:frontdesk@swimamericadavis.com
END:VEVENT
END:VCALENDAR