BEGIN:VCALENDAR
VERSION:2.0
PRODID:-//Arts Alliance Davis - ECPv6.15.20//NONSGML v1.0//EN
CALSCALE:GREGORIAN
METHOD:PUBLISH
X-WR-CALNAME:Arts Alliance Davis
X-ORIGINAL-URL:https://artsalliancedavis.org
X-WR-CALDESC:Events for Arts Alliance Davis
REFRESH-INTERVAL;VALUE=DURATION:PT1H
X-Robots-Tag:noindex
X-PUBLISHED-TTL:PT1H
BEGIN:VTIMEZONE
TZID:America/Los_Angeles
BEGIN:DAYLIGHT
TZOFFSETFROM:-0800
TZOFFSETTO:-0700
TZNAME:PDT
DTSTART:20250309T100000
END:DAYLIGHT
BEGIN:STANDARD
TZOFFSETFROM:-0700
TZOFFSETTO:-0800
TZNAME:PST
DTSTART:20251102T090000
END:STANDARD
BEGIN:DAYLIGHT
TZOFFSETFROM:-0800
TZOFFSETTO:-0700
TZNAME:PDT
DTSTART:20260308T100000
END:DAYLIGHT
BEGIN:STANDARD
TZOFFSETFROM:-0700
TZOFFSETTO:-0800
TZNAME:PST
DTSTART:20261101T090000
END:STANDARD
BEGIN:DAYLIGHT
TZOFFSETFROM:-0800
TZOFFSETTO:-0700
TZNAME:PDT
DTSTART:20270314T100000
END:DAYLIGHT
BEGIN:STANDARD
TZOFFSETFROM:-0700
TZOFFSETTO:-0800
TZNAME:PST
DTSTART:20271107T090000
END:STANDARD
END:VTIMEZONE
BEGIN:VEVENT
DTSTART;TZID=America/Los_Angeles:20260306T133000
DTEND;TZID=America/Los_Angeles:20260306T143000
DTSTAMP:20260423T203759
CREATED:20260225T195453Z
LAST-MODIFIED:20260225T195453Z
UID:23945-1772803800-1772807400@artsalliancedavis.org
SUMMARY:Davis Waldorf School Parent & Child Spring Session
DESCRIPTION:For children 6mo – 18mo.\n10 classes per session: Fridays\, 3/6/26 through 5/29/26 (no classes Friday 4/3\, 4/10\, 5/1) \nThe first three years in a child’s life are an amazing time of growth that fill parents and caregivers with awe and wonder. \nParent & Child classes are held in a warm and welcoming environment that is carefully arranged for creative play in our Buttercup Preschool room. This program offers the very young child freedom to explore within loving boundaries\, and teaches parents/caregivers about Waldorf education’s many benefits. \nClasses are led by an experienced Early Childhood educator and echo the rhythms of the Waldorf preschool. Additionally\, classes offer caregivers a place to connect about child development and parenting techniques. \n$250 (for all 10 classes total)
URL:https://artsalliancedavis.org/event/davis-waldorf-school-parent-child-spring-session/
LOCATION:Davis Waldorf School
CATEGORIES:Bring the Kids,Community
ATTACH;FMTTYPE=image/jpeg:https://artsalliancedavis.org/wp-content/uploads/2026/02/bc-square-sOtShG.jpg
END:VEVENT
BEGIN:VEVENT
DTSTART;TZID=America/Los_Angeles:20260308T170000
DTEND;TZID=America/Los_Angeles:20260308T190000
DTSTAMP:20260423T203759
CREATED:20260217T175119Z
LAST-MODIFIED:20260217T175119Z
UID:23791-1772989200-1772996400@artsalliancedavis.org
SUMMARY:Dinner\, Movie\, and Discussion of Screenagers
DESCRIPTION:Join us in person at Cesar Chavez Elementary’s Muti-Puprose Room (MPR) for an engaging event featuring Screenagers! This event is perfect for families and educators looking to explore how kids engage with screens and technology. Come connect\, learn\, and share your thoughts in a relaxed\, friendly atmosphere. Don’t miss out on this chance to dive into the digital lives of our young ones together! \nThere will be pizza\, popcorn\, drinks\, snacks\, and candy for sale. \nThis casual dinner and a movie evening includes:\n• 1-hour film screening\n• 30-minute guided discussion afterwards \nA suggested donation of $5-10/person is appreciated to offset expenses. \nDonations are optional and no one will be turned away!
URL:https://artsalliancedavis.org/event/dinner-movie-and-discussion-of-screenagers/
LOCATION:Cesar Chavez Elementary\, 1221 Anderson Road\, Davis\, CA\, 95816\, United States
CATEGORIES:Bring the Kids,Community,Screen
ATTACH;FMTTYPE=image/png:https://artsalliancedavis.org/wp-content/uploads/2026/02/thumbnail-image-dvToWr.png
ORGANIZER;CN="Cesar Chevez SIPAT (PTA)":MAILTO:sladegast@gmail.com
END:VEVENT
END:VCALENDAR