BEGIN:VCALENDAR
VERSION:2.0
PRODID:-//Arts Alliance Davis - ECPv6.15.20//NONSGML v1.0//EN
CALSCALE:GREGORIAN
METHOD:PUBLISH
X-WR-CALNAME:Arts Alliance Davis
X-ORIGINAL-URL:https://artsalliancedavis.org
X-WR-CALDESC:Events for Arts Alliance Davis
REFRESH-INTERVAL;VALUE=DURATION:PT1H
X-Robots-Tag:noindex
X-PUBLISHED-TTL:PT1H
BEGIN:VTIMEZONE
TZID:America/Los_Angeles
BEGIN:DAYLIGHT
TZOFFSETFROM:-0800
TZOFFSETTO:-0700
TZNAME:PDT
DTSTART:20230312T100000
END:DAYLIGHT
BEGIN:STANDARD
TZOFFSETFROM:-0700
TZOFFSETTO:-0800
TZNAME:PST
DTSTART:20231105T090000
END:STANDARD
BEGIN:DAYLIGHT
TZOFFSETFROM:-0800
TZOFFSETTO:-0700
TZNAME:PDT
DTSTART:20240310T100000
END:DAYLIGHT
BEGIN:STANDARD
TZOFFSETFROM:-0700
TZOFFSETTO:-0800
TZNAME:PST
DTSTART:20241103T090000
END:STANDARD
BEGIN:DAYLIGHT
TZOFFSETFROM:-0800
TZOFFSETTO:-0700
TZNAME:PDT
DTSTART:20250309T100000
END:DAYLIGHT
BEGIN:STANDARD
TZOFFSETFROM:-0700
TZOFFSETTO:-0800
TZNAME:PST
DTSTART:20251102T090000
END:STANDARD
END:VTIMEZONE
BEGIN:VEVENT
DTSTART;TZID=America/Los_Angeles:20240910T193000
DTEND;TZID=America/Los_Angeles:20240910T204500
DTSTAMP:20260424T201549
CREATED:20240614T113037Z
LAST-MODIFIED:20240614T113037Z
UID:13385-1725996600-1726001100@artsalliancedavis.org
SUMMARY:Photography Club of Davis Meeting
DESCRIPTION:The Photography Club of Davis will meet on Tuesday\, May 14\, at 7:30pm in the Blanchard Room of the Mary L. Stephens Library at 314 East 14th Street in Davis. \nThe meeting will feature a photo critique of member-submitted images. Critiques tend to be positive learning experiences for both submitters and the general audience. Participants discuss “why does this image work” as well as “why does this image not work” and how the image may be improved. Attendees also learn about the techniques involved. \nThe Photography Club of Davis meets every month on the second Tuesday of the month (except July and August) and welcomes members of the public to attend.
URL:https://artsalliancedavis.org/event/photography-club-of-davis-meeting-4/
LOCATION:Mary L. Stephens Davis Branch Library Blanchard Room\, 315 E 14th St\, Davis\, CA\, 95616\, United States
CATEGORIES:Art
ATTACH;FMTTYPE=image/jpeg:https://artsalliancedavis.org/wp-content/uploads/2024/04/shore-ySA3WO.tmp_.jpg
ORGANIZER;CN="Photography Club of Davis":MAILTO:photographyclubofdavis@gmail.com
END:VEVENT
END:VCALENDAR