BEGIN:VCALENDAR
VERSION:2.0
PRODID:-//Arts Alliance Davis - ECPv6.15.20//NONSGML v1.0//EN
CALSCALE:GREGORIAN
METHOD:PUBLISH
X-WR-CALNAME:Arts Alliance Davis
X-ORIGINAL-URL:https://artsalliancedavis.org
X-WR-CALDESC:Events for Arts Alliance Davis
REFRESH-INTERVAL;VALUE=DURATION:PT1H
X-Robots-Tag:noindex
X-PUBLISHED-TTL:PT1H
BEGIN:VTIMEZONE
TZID:America/Los_Angeles
BEGIN:DAYLIGHT
TZOFFSETFROM:-0800
TZOFFSETTO:-0700
TZNAME:PDT
DTSTART:20240310T100000
END:DAYLIGHT
BEGIN:STANDARD
TZOFFSETFROM:-0700
TZOFFSETTO:-0800
TZNAME:PST
DTSTART:20241103T090000
END:STANDARD
BEGIN:DAYLIGHT
TZOFFSETFROM:-0800
TZOFFSETTO:-0700
TZNAME:PDT
DTSTART:20250309T100000
END:DAYLIGHT
BEGIN:STANDARD
TZOFFSETFROM:-0700
TZOFFSETTO:-0800
TZNAME:PST
DTSTART:20251102T090000
END:STANDARD
BEGIN:DAYLIGHT
TZOFFSETFROM:-0800
TZOFFSETTO:-0700
TZNAME:PDT
DTSTART:20260308T100000
END:DAYLIGHT
BEGIN:STANDARD
TZOFFSETFROM:-0700
TZOFFSETTO:-0800
TZNAME:PST
DTSTART:20261101T090000
END:STANDARD
END:VTIMEZONE
BEGIN:VEVENT
DTSTART;TZID=America/Los_Angeles:20250301T090000
DTEND;TZID=America/Los_Angeles:20250301T120000
DTSTAMP:20260424T140104
CREATED:20250114T133306Z
LAST-MODIFIED:20250114T133306Z
UID:17120-1740819600-1740830400@artsalliancedavis.org
SUMMARY:Fruit Tree Sale
DESCRIPTION:Shop at the Winters Friends of the Library annual Fruit Tree Sale—your purchases will support the Winters Community Library. The trees available will include apple\, apricot\, cherry\, mandarin\, nectarine\, olive\, orange\, peach\, plum\, and pluot\, along with blueberries and blackberries. All trees are $20\, berries are $10. Members get in early—join at the door! \nWINTERS FRIENDS OF THE LIBRARY. Purchases support the Winters Community Library. Trees available include apple\, apricot\, cherry\, mandarin\, nectarine\, olive\, orange\, peach\, plum\, and pluot\, blueberries\, and blackberries. Trees are $20\, berries $10. 9a—12p.
URL:https://artsalliancedavis.org/event/fruit-tree-sale/
LOCATION:Parking lot\, 517 Railroad Avenue\, Winters\, CA\, 95694
CATEGORIES:Bring the Kids,Community,Outside,Shopping
ATTACH;FMTTYPE=image/jpeg:https://artsalliancedavis.org/wp-content/uploads/2025/01/WFOL-tree-sale-flyer-2025-cpXYmR.tmp_.jpg
ORGANIZER;CN="Winters Friends of the Library":MAILTO:reply@wfol.org
END:VEVENT
BEGIN:VEVENT
DTSTART;TZID=America/Los_Angeles:20250308T090000
DTEND;TZID=America/Los_Angeles:20250308T130000
DTSTAMP:20260424T140104
CREATED:20250214T222950Z
LAST-MODIFIED:20250214T222950Z
UID:17801-1741424400-1741438800@artsalliancedavis.org
SUMMARY:UC Davis Members Only Plant Sale
DESCRIPTION:Join us for Member Appreciation Plant Sale!  \n\nMembers Only: 9 a.m. – 1 p.m.\n\nMembers of the Friends of the UC Davis Arboretum and Public Garden are invited to shop our best selection of attractive\, low-water\, climate-ready plants\, receive a special $10-off (no cash value) member appreciation gift\, and enjoy 10% off all plant sale purchases. \nNot a member? Join today to gain early access\, shop our best selection\, and save! \nBy shopping these sales\, you support the UC Davis Arboretum and Public Garden’s environmental leadership programs\, the growth of our gardens and collections and the wide variety of free\, educational events we offer the public. \nVisit our Spring Plant Sale webpage for more information. \n 
URL:https://artsalliancedavis.org/event/uc-davis-members-only-plant-sale/
LOCATION:Arboretum Teaching Nursery\, 920 Garrod Dr\, Davis\, Ca
CATEGORIES:Bring the Kids,Featured,Outside,Shopping
ATTACH;FMTTYPE=image/png:https://artsalliancedavis.org/wp-content/uploads/2025/02/S25_FB_Event_Banner_Dates-OmXb3h.tmp_.png
END:VEVENT
END:VCALENDAR