BEGIN:VCALENDAR
VERSION:2.0
PRODID:-//Arts Alliance Davis - ECPv6.15.20//NONSGML v1.0//EN
CALSCALE:GREGORIAN
METHOD:PUBLISH
X-WR-CALNAME:Arts Alliance Davis
X-ORIGINAL-URL:https://artsalliancedavis.org
X-WR-CALDESC:Events for Arts Alliance Davis
REFRESH-INTERVAL;VALUE=DURATION:PT1H
X-Robots-Tag:noindex
X-PUBLISHED-TTL:PT1H
BEGIN:VTIMEZONE
TZID:America/Los_Angeles
BEGIN:DAYLIGHT
TZOFFSETFROM:-0800
TZOFFSETTO:-0700
TZNAME:PDT
DTSTART:20250309T100000
END:DAYLIGHT
BEGIN:STANDARD
TZOFFSETFROM:-0700
TZOFFSETTO:-0800
TZNAME:PST
DTSTART:20251102T090000
END:STANDARD
BEGIN:DAYLIGHT
TZOFFSETFROM:-0800
TZOFFSETTO:-0700
TZNAME:PDT
DTSTART:20260308T100000
END:DAYLIGHT
BEGIN:STANDARD
TZOFFSETFROM:-0700
TZOFFSETTO:-0800
TZNAME:PST
DTSTART:20261101T090000
END:STANDARD
BEGIN:DAYLIGHT
TZOFFSETFROM:-0800
TZOFFSETTO:-0700
TZNAME:PDT
DTSTART:20270314T100000
END:DAYLIGHT
BEGIN:STANDARD
TZOFFSETFROM:-0700
TZOFFSETTO:-0800
TZNAME:PST
DTSTART:20271107T090000
END:STANDARD
END:VTIMEZONE
BEGIN:VEVENT
DTSTART;TZID=America/Los_Angeles:20260118T160000
DTEND;TZID=America/Los_Angeles:20260118T171500
DTSTAMP:20260423T164037
CREATED:20251231T171954Z
LAST-MODIFIED:20251231T171954Z
UID:22992-1768752000-1768756500@artsalliancedavis.org
SUMMARY:Have Dreams and Goals for 2026? The Right Birth Control Can Help.
DESCRIPTION:Join this nurturing\, down-to-earth\, and informative workshop to explore birth control options that can support your career\, motherhood\, pregnancy\, as well as health and wellness goals. Half of pregnancies are unplanned! In this evidence-based workshop\, we’ll explore birth control myths\, methods and effectiveness; benefits and potential side effects\, including impacts on mood\, PMS\, and menses. \nSign-up in advance. Zoom link will be sent with sign-up. Event will be recorded and sent out after\, in case life happens\, and you’re unable to make the live event.
URL:https://artsalliancedavis.org/event/have-dreams-and-goals-for-2026-the-right-birth-control-can-help/
LOCATION:Virtual\, CA\, United States
CATEGORIES:Community
ATTACH;FMTTYPE=image/jpeg:https://artsalliancedavis.org/wp-content/uploads/2025/12/woman-by-hot-air-balloons-scaled-dx9LBK.jpg
ORGANIZER;CN="To Carry Wonder":MAILTO:emeseparker@gmail.com
END:VEVENT
BEGIN:VEVENT
DTSTART;TZID=America/Los_Angeles:20260125T150000
DTEND;TZID=America/Los_Angeles:20260125T170000
DTSTAMP:20260423T164037
CREATED:20251231T172101Z
LAST-MODIFIED:20251231T172101Z
UID:22999-1769353200-1769360400@artsalliancedavis.org
SUMMARY:Davis Women’s Circles (Seasons of Motherhood)
DESCRIPTION:A special intimate event for mamas to reset\, explore motherhood topics and grow their community. Sign-up in advance by 1/23. Using this beautiful Winter season as a springboard\, we’ll compare motherhood to the four seasons\, discover what season of motherhood we’re in\, and explore what gifts it has to offer us. In this meaningful circle\, we’ll also think about our dreams and goals to see how we can start practically weaving them into the fabric of our lives.
URL:https://artsalliancedavis.org/event/davis-womens-circles-seasons-of-motherhood/
LOCATION:1550 Cannery Ave\, 1550 Cannery Ave\, davis\, CA\, 95676\, United States
CATEGORIES:Community
ATTACH;FMTTYPE=image/png:https://artsalliancedavis.org/wp-content/uploads/2025/12/wildflower-alter-ZOpYPE.png
ORGANIZER;CN="To Carry Wonder":MAILTO:emeseparker@gmail.com
END:VEVENT
BEGIN:VEVENT
DTSTART;TZID=America/Los_Angeles:20260128T120000
DTEND;TZID=America/Los_Angeles:20260128T131500
DTSTAMP:20260423T164037
CREATED:20251231T172144Z
LAST-MODIFIED:20251231T172144Z
UID:23004-1769601600-1769606100@artsalliancedavis.org
SUMMARY:Have Dreams and Goals for 2026? The Right Birth Control Can Help.
DESCRIPTION:Join this nurturing\, down-to-earth\, and informative workshop to explore birth control options that can support your career\, motherhood\, pregnancy\, as well as health and wellness goals. Half of pregnancies are unplanned. In this evidence-based workshop\, we’ll explore birth control myths\, methods and effectiveness; benefits and potential side effects\, including impacts on mood\, PMS\, and menses. \nSign-up in advance. Zoom link will be sent at sign-up. Event will be recorded in case life happens and you’re unable to make the live event.
URL:https://artsalliancedavis.org/event/have-dreams-and-goals-for-2026-the-right-birth-control-can-help-2/
LOCATION:Virtual\, CA\, United States
CATEGORIES:Community
ATTACH;FMTTYPE=image/jpeg:https://artsalliancedavis.org/wp-content/uploads/2025/12/woman-laughing_jeans-scaled-MhWDKL.jpg
ORGANIZER;CN="To Carry Wonder":MAILTO:emeseparker@gmail.com
END:VEVENT
END:VCALENDAR