BEGIN:VCALENDAR
VERSION:2.0
PRODID:-//Arts Alliance Davis - ECPv6.15.20//NONSGML v1.0//EN
CALSCALE:GREGORIAN
METHOD:PUBLISH
X-ORIGINAL-URL:https://artsalliancedavis.org
X-WR-CALDESC:Events for Arts Alliance Davis
REFRESH-INTERVAL;VALUE=DURATION:PT1H
X-Robots-Tag:noindex
X-PUBLISHED-TTL:PT1H
BEGIN:VTIMEZONE
TZID:America/Los_Angeles
BEGIN:DAYLIGHT
TZOFFSETFROM:-0800
TZOFFSETTO:-0700
TZNAME:PDT
DTSTART:20250309T100000
END:DAYLIGHT
BEGIN:STANDARD
TZOFFSETFROM:-0700
TZOFFSETTO:-0800
TZNAME:PST
DTSTART:20251102T090000
END:STANDARD
BEGIN:DAYLIGHT
TZOFFSETFROM:-0800
TZOFFSETTO:-0700
TZNAME:PDT
DTSTART:20260308T100000
END:DAYLIGHT
BEGIN:STANDARD
TZOFFSETFROM:-0700
TZOFFSETTO:-0800
TZNAME:PST
DTSTART:20261101T090000
END:STANDARD
BEGIN:DAYLIGHT
TZOFFSETFROM:-0800
TZOFFSETTO:-0700
TZNAME:PDT
DTSTART:20270314T100000
END:DAYLIGHT
BEGIN:STANDARD
TZOFFSETFROM:-0700
TZOFFSETTO:-0800
TZNAME:PST
DTSTART:20271107T090000
END:STANDARD
END:VTIMEZONE
BEGIN:VEVENT
DTSTART;TZID=America/Los_Angeles:20260321T093000
DTEND;TZID=America/Los_Angeles:20260321T160000
DTSTAMP:20260423T184315
CREATED:20260211T161007Z
LAST-MODIFIED:20260211T161007Z
UID:23650-1774085400-1774108800@artsalliancedavis.org
SUMMARY:Gel Printing Workshop with Sara Post
DESCRIPTION:Gel Printing Workshop with Sara Post\nSaturday\, March 21\, 9:30 AM – 4 PM\n$170 Members\, $190 Non-Members (Materials not included) \nUnder the guidance of artist Sara Post\, students will explore the ins and out of gel printing. Participants will experiment with layering\, masks\, stencils\, and other gel printing techniques\, as well as work with a variety of papers. Gel prints\, beautiful in themselves\, are also a wonderful way to make handmade papers for collage or under layers for painting. Students will leave this class with a portfolio of prints to display on their own or to use in making other artworks. \nRegister here: https://pencegallery.org/education/programs/workshops-and-classes/ \nAny questions? Email pencegallery@gmail.com.
URL:https://artsalliancedavis.org/event/gel-printing-workshop-with-sara-post/
LOCATION:Pence Gallery\, 212 D St\, Davis\, CA\, United States
CATEGORIES:Art
ATTACH;FMTTYPE=image/jpeg:https://artsalliancedavis.org/wp-content/uploads/2026/02/Sara-Post-ozxMsd.jpg
ORGANIZER;CN="Pence Gallery":MAILTO:pencesocialmedia@gmail.com
END:VEVENT
END:VCALENDAR